BEGIN:VCALENDAR
VERSION:2.0
PRODID:-//Blue Ocean Church Ann Arbor - ECPv6.15.20//NONSGML v1.0//EN
CALSCALE:GREGORIAN
METHOD:PUBLISH
X-WR-CALNAME:Blue Ocean Church Ann Arbor
X-ORIGINAL-URL:https://www.a2blue.org
X-WR-CALDESC:Events for Blue Ocean Church Ann Arbor
REFRESH-INTERVAL;VALUE=DURATION:PT1H
X-Robots-Tag:noindex
X-PUBLISHED-TTL:PT1H
BEGIN:VTIMEZONE
TZID:America/New_York
BEGIN:DAYLIGHT
TZOFFSETFROM:-0500
TZOFFSETTO:-0400
TZNAME:EDT
DTSTART:20240310T070000
END:DAYLIGHT
BEGIN:STANDARD
TZOFFSETFROM:-0400
TZOFFSETTO:-0500
TZNAME:EST
DTSTART:20241103T060000
END:STANDARD
BEGIN:DAYLIGHT
TZOFFSETFROM:-0500
TZOFFSETTO:-0400
TZNAME:EDT
DTSTART:20250309T070000
END:DAYLIGHT
BEGIN:STANDARD
TZOFFSETFROM:-0400
TZOFFSETTO:-0500
TZNAME:EST
DTSTART:20251102T060000
END:STANDARD
BEGIN:DAYLIGHT
TZOFFSETFROM:-0500
TZOFFSETTO:-0400
TZNAME:EDT
DTSTART:20260308T070000
END:DAYLIGHT
BEGIN:STANDARD
TZOFFSETFROM:-0400
TZOFFSETTO:-0500
TZNAME:EST
DTSTART:20261101T060000
END:STANDARD
END:VTIMEZONE
BEGIN:VEVENT
DTSTART;TZID=America/New_York:20250617T190000
DTEND;TZID=America/New_York:20250617T210000
DTSTAMP:20260425T065752
CREATED:20250228T220239Z
LAST-MODIFIED:20250401T203039Z
UID:10002549-1750186800-1750194000@www.a2blue.org
SUMMARY:Zoom Bible Study
DESCRIPTION:Online Bible study on Tuesday at 7pm\, focusing on the gospels as translated by Dr. Sarah Ruden. If you’re interested please contact Magda Zarin at  magda.pecsenye@gmail.com
URL:https://www.a2blue.org/event/zoom-bible-study/2025-06-17/
LOCATION:Zoom
CATEGORIES:Bible study,Zoom
END:VEVENT
BEGIN:VEVENT
DTSTART;TZID=America/New_York:20250610T190000
DTEND;TZID=America/New_York:20250610T210000
DTSTAMP:20260425T065752
CREATED:20250228T220239Z
LAST-MODIFIED:20250401T203039Z
UID:10002548-1749582000-1749589200@www.a2blue.org
SUMMARY:Zoom Bible Study
DESCRIPTION:Online Bible study on Tuesday at 7pm\, focusing on the gospels as translated by Dr. Sarah Ruden. If you’re interested please contact Magda Zarin at  magda.pecsenye@gmail.com
URL:https://www.a2blue.org/event/zoom-bible-study/2025-06-10/
LOCATION:Zoom
CATEGORIES:Bible study,Zoom
END:VEVENT
BEGIN:VEVENT
DTSTART;TZID=America/New_York:20250603T190000
DTEND;TZID=America/New_York:20250603T210000
DTSTAMP:20260425T065752
CREATED:20250228T220239Z
LAST-MODIFIED:20250401T203039Z
UID:10002547-1748977200-1748984400@www.a2blue.org
SUMMARY:Zoom Bible Study
DESCRIPTION:Online Bible study on Tuesday at 7pm\, focusing on the gospels as translated by Dr. Sarah Ruden. If you’re interested please contact Magda Zarin at  magda.pecsenye@gmail.com
URL:https://www.a2blue.org/event/zoom-bible-study/2025-06-03/
LOCATION:Zoom
CATEGORIES:Bible study,Zoom
END:VEVENT
BEGIN:VEVENT
DTSTART;TZID=America/New_York:20250527T190000
DTEND;TZID=America/New_York:20250527T210000
DTSTAMP:20260425T065752
CREATED:20250228T220239Z
LAST-MODIFIED:20250401T203039Z
UID:10002546-1748372400-1748379600@www.a2blue.org
SUMMARY:Zoom Bible Study
DESCRIPTION:Online Bible study on Tuesday at 7pm\, focusing on the gospels as translated by Dr. Sarah Ruden. If you’re interested please contact Magda Zarin at  magda.pecsenye@gmail.com
URL:https://www.a2blue.org/event/zoom-bible-study/2025-05-27/
LOCATION:Zoom
CATEGORIES:Bible study,Zoom
END:VEVENT
BEGIN:VEVENT
DTSTART;TZID=America/New_York:20250520T190000
DTEND;TZID=America/New_York:20250520T210000
DTSTAMP:20260425T065752
CREATED:20250228T220239Z
LAST-MODIFIED:20250401T203039Z
UID:10002533-1747767600-1747774800@www.a2blue.org
SUMMARY:Zoom Bible Study
DESCRIPTION:Online Bible study on Tuesday at 7pm\, focusing on the gospels as translated by Dr. Sarah Ruden. If you’re interested please contact Magda Zarin at  magda.pecsenye@gmail.com
URL:https://www.a2blue.org/event/zoom-bible-study/2025-05-20/
LOCATION:Zoom
CATEGORIES:Bible study,Zoom
END:VEVENT
BEGIN:VEVENT
DTSTART;TZID=America/New_York:20250513T190000
DTEND;TZID=America/New_York:20250513T210000
DTSTAMP:20260425T065752
CREATED:20250228T220239Z
LAST-MODIFIED:20250401T203039Z
UID:10002532-1747162800-1747170000@www.a2blue.org
SUMMARY:Zoom Bible Study
DESCRIPTION:Online Bible study on Tuesday at 7pm\, focusing on the gospels as translated by Dr. Sarah Ruden. If you’re interested please contact Magda Zarin at  magda.pecsenye@gmail.com
URL:https://www.a2blue.org/event/zoom-bible-study/2025-05-13/
LOCATION:Zoom
CATEGORIES:Bible study,Zoom
END:VEVENT
BEGIN:VEVENT
DTSTART;TZID=America/New_York:20250506T190000
DTEND;TZID=America/New_York:20250506T210000
DTSTAMP:20260425T065752
CREATED:20250228T220239Z
LAST-MODIFIED:20250401T203039Z
UID:10002531-1746558000-1746565200@www.a2blue.org
SUMMARY:Zoom Bible Study
DESCRIPTION:Online Bible study on Tuesday at 7pm\, focusing on the gospels as translated by Dr. Sarah Ruden. If you’re interested please contact Magda Zarin at  magda.pecsenye@gmail.com
URL:https://www.a2blue.org/event/zoom-bible-study/2025-05-06/
LOCATION:Zoom
CATEGORIES:Bible study,Zoom
END:VEVENT
BEGIN:VEVENT
DTSTART;TZID=America/New_York:20250429T190000
DTEND;TZID=America/New_York:20250429T210000
DTSTAMP:20260425T065752
CREATED:20250228T220239Z
LAST-MODIFIED:20250401T203039Z
UID:10002530-1745953200-1745960400@www.a2blue.org
SUMMARY:Zoom Bible Study
DESCRIPTION:Online Bible study on Tuesday at 7pm\, focusing on the gospels as translated by Dr. Sarah Ruden. If you’re interested please contact Magda Zarin at  magda.pecsenye@gmail.com
URL:https://www.a2blue.org/event/zoom-bible-study/2025-04-29/
LOCATION:Zoom
CATEGORIES:Bible study,Zoom
END:VEVENT
BEGIN:VEVENT
DTSTART;TZID=America/New_York:20250422T190000
DTEND;TZID=America/New_York:20250422T210000
DTSTAMP:20260425T065752
CREATED:20250228T220239Z
LAST-MODIFIED:20250401T203039Z
UID:10002529-1745348400-1745355600@www.a2blue.org
SUMMARY:Zoom Bible Study
DESCRIPTION:Online Bible study on Tuesday at 7pm\, focusing on the gospels as translated by Dr. Sarah Ruden. If you’re interested please contact Magda Zarin at  magda.pecsenye@gmail.com
URL:https://www.a2blue.org/event/zoom-bible-study/2025-04-22/
LOCATION:Zoom
CATEGORIES:Bible study,Zoom
END:VEVENT
BEGIN:VEVENT
DTSTART;TZID=America/New_York:20250415T190000
DTEND;TZID=America/New_York:20250415T210000
DTSTAMP:20260425T065752
CREATED:20250228T220239Z
LAST-MODIFIED:20250401T203039Z
UID:10002528-1744743600-1744750800@www.a2blue.org
SUMMARY:Zoom Bible Study
DESCRIPTION:Online Bible study on Tuesday at 7pm\, focusing on the gospels as translated by Dr. Sarah Ruden. If you’re interested please contact Magda Zarin at  magda.pecsenye@gmail.com
URL:https://www.a2blue.org/event/zoom-bible-study/2025-04-15/
LOCATION:Zoom
CATEGORIES:Bible study,Zoom
END:VEVENT
BEGIN:VEVENT
DTSTART;TZID=America/New_York:20250408T190000
DTEND;TZID=America/New_York:20250408T210000
DTSTAMP:20260425T065752
CREATED:20250228T220239Z
LAST-MODIFIED:20250401T203039Z
UID:10002527-1744138800-1744146000@www.a2blue.org
SUMMARY:Zoom Bible Study
DESCRIPTION:Online Bible study on Tuesday at 7pm\, focusing on the gospels as translated by Dr. Sarah Ruden. If you’re interested please contact Magda Zarin at  magda.pecsenye@gmail.com
URL:https://www.a2blue.org/event/zoom-bible-study/2025-04-08/
LOCATION:Zoom
CATEGORIES:Bible study,Zoom
END:VEVENT
BEGIN:VEVENT
DTSTART;TZID=America/New_York:20250401T190000
DTEND;TZID=America/New_York:20250401T210000
DTSTAMP:20260425T065752
CREATED:20250228T220239Z
LAST-MODIFIED:20250401T203039Z
UID:10002526-1743534000-1743541200@www.a2blue.org
SUMMARY:Zoom Bible Study
DESCRIPTION:Online Bible study on Tuesday at 7pm\, focusing on the gospels as translated by Dr. Sarah Ruden. If you’re interested please contact Magda Zarin at  magda.pecsenye@gmail.com
URL:https://www.a2blue.org/event/zoom-bible-study/2025-04-01/2/
LOCATION:Zoom
CATEGORIES:Bible study,Zoom
END:VEVENT
BEGIN:VEVENT
DTSTART;TZID=America/New_York:20250401T080000
DTEND;TZID=America/New_York:20250401T170000
DTSTAMP:20260425T065752
CREATED:20250228T220239Z
LAST-MODIFIED:20250401T203039Z
UID:10002545-1743494400-1743526800@www.a2blue.org
SUMMARY:Zoom Bible Study
DESCRIPTION:Online Bible study on Tuesday at 7pm\, focusing on the gospels as translated by Dr. Sarah Ruden. If you’re interested please contact Magda Zarin at  magda.pecsenye@gmail.com
URL:https://www.a2blue.org/event/zoom-bible-study/2025-04-01/1/
LOCATION:Zoom
CATEGORIES:Bible study,Zoom
END:VEVENT
END:VCALENDAR