BEGIN:VCALENDAR
VERSION:2.0
PRODID:-//Blue Ocean Church Ann Arbor - ECPv6.15.20//NONSGML v1.0//EN
CALSCALE:GREGORIAN
METHOD:PUBLISH
X-ORIGINAL-URL:https://www.a2blue.org
X-WR-CALDESC:Events for Blue Ocean Church Ann Arbor
REFRESH-INTERVAL;VALUE=DURATION:PT1H
X-Robots-Tag:noindex
X-PUBLISHED-TTL:PT1H
BEGIN:VTIMEZONE
TZID:America/New_York
BEGIN:DAYLIGHT
TZOFFSETFROM:-0500
TZOFFSETTO:-0400
TZNAME:EDT
DTSTART:20260308T070000
END:DAYLIGHT
BEGIN:STANDARD
TZOFFSETFROM:-0400
TZOFFSETTO:-0500
TZNAME:EST
DTSTART:20261101T060000
END:STANDARD
BEGIN:DAYLIGHT
TZOFFSETFROM:-0500
TZOFFSETTO:-0400
TZNAME:EDT
DTSTART:20270314T070000
END:DAYLIGHT
BEGIN:STANDARD
TZOFFSETFROM:-0400
TZOFFSETTO:-0500
TZNAME:EST
DTSTART:20271107T060000
END:STANDARD
BEGIN:DAYLIGHT
TZOFFSETFROM:-0500
TZOFFSETTO:-0400
TZNAME:EDT
DTSTART:20280312T070000
END:DAYLIGHT
BEGIN:STANDARD
TZOFFSETFROM:-0400
TZOFFSETTO:-0500
TZNAME:EST
DTSTART:20281105T060000
END:STANDARD
BEGIN:DAYLIGHT
TZOFFSETFROM:-0500
TZOFFSETTO:-0400
TZNAME:EDT
DTSTART:20290311T070000
END:DAYLIGHT
BEGIN:STANDARD
TZOFFSETFROM:-0400
TZOFFSETTO:-0500
TZNAME:EST
DTSTART:20291104T060000
END:STANDARD
END:VTIMEZONE
BEGIN:VEVENT
DTSTART;TZID=America/New_York:20270114T180000
DTEND;TZID=America/New_York:20270114T200000
DTSTAMP:20260425T120701
CREATED:20230713T150111Z
LAST-MODIFIED:20230812T144128Z
UID:10000958-1799949600-1799956800@www.a2blue.org
SUMMARY:Blue Ocean Church board meeting
DESCRIPTION:The church board meets monthly.
URL:https://www.a2blue.org/event/blue-ocean-church-board-meeting/2027-01-14/
CATEGORIES:board meeting
END:VEVENT
BEGIN:VEVENT
DTSTART;TZID=America/New_York:20270211T180000
DTEND;TZID=America/New_York:20270211T200000
DTSTAMP:20260425T120701
CREATED:20230713T150111Z
LAST-MODIFIED:20230812T144128Z
UID:10000959-1802368800-1802376000@www.a2blue.org
SUMMARY:Blue Ocean Church board meeting
DESCRIPTION:The church board meets monthly.
URL:https://www.a2blue.org/event/blue-ocean-church-board-meeting/2027-02-11/
CATEGORIES:board meeting
END:VEVENT
BEGIN:VEVENT
DTSTART;TZID=America/New_York:20270311T180000
DTEND;TZID=America/New_York:20270311T200000
DTSTAMP:20260425T120701
CREATED:20230713T150111Z
LAST-MODIFIED:20230812T144128Z
UID:10000960-1804788000-1804795200@www.a2blue.org
SUMMARY:Blue Ocean Church board meeting
DESCRIPTION:The church board meets monthly.
URL:https://www.a2blue.org/event/blue-ocean-church-board-meeting/2027-03-11/
CATEGORIES:board meeting
END:VEVENT
BEGIN:VEVENT
DTSTART;TZID=America/New_York:20270408T180000
DTEND;TZID=America/New_York:20270408T200000
DTSTAMP:20260425T120701
CREATED:20230713T150111Z
LAST-MODIFIED:20230812T144128Z
UID:10000961-1807207200-1807214400@www.a2blue.org
SUMMARY:Blue Ocean Church board meeting
DESCRIPTION:The church board meets monthly.
URL:https://www.a2blue.org/event/blue-ocean-church-board-meeting/2027-04-08/
CATEGORIES:board meeting
END:VEVENT
BEGIN:VEVENT
DTSTART;TZID=America/New_York:20270513T180000
DTEND;TZID=America/New_York:20270513T200000
DTSTAMP:20260425T120701
CREATED:20230713T150111Z
LAST-MODIFIED:20230812T144128Z
UID:10000962-1810231200-1810238400@www.a2blue.org
SUMMARY:Blue Ocean Church board meeting
DESCRIPTION:The church board meets monthly.
URL:https://www.a2blue.org/event/blue-ocean-church-board-meeting/2027-05-13/
CATEGORIES:board meeting
END:VEVENT
BEGIN:VEVENT
DTSTART;TZID=America/New_York:20270610T180000
DTEND;TZID=America/New_York:20270610T200000
DTSTAMP:20260425T120701
CREATED:20230713T150111Z
LAST-MODIFIED:20230812T144128Z
UID:10000963-1812650400-1812657600@www.a2blue.org
SUMMARY:Blue Ocean Church board meeting
DESCRIPTION:The church board meets monthly.
URL:https://www.a2blue.org/event/blue-ocean-church-board-meeting/2027-06-10/
CATEGORIES:board meeting
END:VEVENT
BEGIN:VEVENT
DTSTART;TZID=America/New_York:20270708T180000
DTEND;TZID=America/New_York:20270708T200000
DTSTAMP:20260425T120701
CREATED:20230713T150111Z
LAST-MODIFIED:20230812T144128Z
UID:10000964-1815069600-1815076800@www.a2blue.org
SUMMARY:Blue Ocean Church board meeting
DESCRIPTION:The church board meets monthly.
URL:https://www.a2blue.org/event/blue-ocean-church-board-meeting/2027-07-08/
CATEGORIES:board meeting
END:VEVENT
BEGIN:VEVENT
DTSTART;TZID=America/New_York:20270812T180000
DTEND;TZID=America/New_York:20270812T200000
DTSTAMP:20260425T120701
CREATED:20230713T150111Z
LAST-MODIFIED:20230812T144128Z
UID:10000965-1818093600-1818100800@www.a2blue.org
SUMMARY:Blue Ocean Church board meeting
DESCRIPTION:The church board meets monthly.
URL:https://www.a2blue.org/event/blue-ocean-church-board-meeting/2027-08-12/
CATEGORIES:board meeting
END:VEVENT
BEGIN:VEVENT
DTSTART;TZID=America/New_York:20270909T180000
DTEND;TZID=America/New_York:20270909T200000
DTSTAMP:20260425T120701
CREATED:20230713T150111Z
LAST-MODIFIED:20230812T144128Z
UID:10000966-1820512800-1820520000@www.a2blue.org
SUMMARY:Blue Ocean Church board meeting
DESCRIPTION:The church board meets monthly.
URL:https://www.a2blue.org/event/blue-ocean-church-board-meeting/2027-09-09/
CATEGORIES:board meeting
END:VEVENT
BEGIN:VEVENT
DTSTART;TZID=America/New_York:20271014T180000
DTEND;TZID=America/New_York:20271014T200000
DTSTAMP:20260425T120701
CREATED:20230713T150111Z
LAST-MODIFIED:20230812T144128Z
UID:10000967-1823536800-1823544000@www.a2blue.org
SUMMARY:Blue Ocean Church board meeting
DESCRIPTION:The church board meets monthly.
URL:https://www.a2blue.org/event/blue-ocean-church-board-meeting/2027-10-14/
CATEGORIES:board meeting
END:VEVENT
BEGIN:VEVENT
DTSTART;TZID=America/New_York:20271111T180000
DTEND;TZID=America/New_York:20271111T200000
DTSTAMP:20260425T120701
CREATED:20230713T150111Z
LAST-MODIFIED:20230812T144128Z
UID:10000968-1825956000-1825963200@www.a2blue.org
SUMMARY:Blue Ocean Church board meeting
DESCRIPTION:The church board meets monthly.
URL:https://www.a2blue.org/event/blue-ocean-church-board-meeting/2027-11-11/
CATEGORIES:board meeting
END:VEVENT
BEGIN:VEVENT
DTSTART;TZID=America/New_York:20271209T180000
DTEND;TZID=America/New_York:20271209T200000
DTSTAMP:20260425T120701
CREATED:20230713T150111Z
LAST-MODIFIED:20230812T144128Z
UID:10000969-1828375200-1828382400@www.a2blue.org
SUMMARY:Blue Ocean Church board meeting
DESCRIPTION:The church board meets monthly.
URL:https://www.a2blue.org/event/blue-ocean-church-board-meeting/2027-12-09/
CATEGORIES:board meeting
END:VEVENT
BEGIN:VEVENT
DTSTART;TZID=America/New_York:20280113T180000
DTEND;TZID=America/New_York:20280113T200000
DTSTAMP:20260425T120701
CREATED:20230713T150111Z
LAST-MODIFIED:20230812T144128Z
UID:10000970-1831399200-1831406400@www.a2blue.org
SUMMARY:Blue Ocean Church board meeting
DESCRIPTION:The church board meets monthly.
URL:https://www.a2blue.org/event/blue-ocean-church-board-meeting/2028-01-13/
CATEGORIES:board meeting
END:VEVENT
BEGIN:VEVENT
DTSTART;TZID=America/New_York:20280210T180000
DTEND;TZID=America/New_York:20280210T200000
DTSTAMP:20260425T120701
CREATED:20230713T150111Z
LAST-MODIFIED:20230812T144128Z
UID:10000971-1833818400-1833825600@www.a2blue.org
SUMMARY:Blue Ocean Church board meeting
DESCRIPTION:The church board meets monthly.
URL:https://www.a2blue.org/event/blue-ocean-church-board-meeting/2028-02-10/
CATEGORIES:board meeting
END:VEVENT
BEGIN:VEVENT
DTSTART;TZID=America/New_York:20280309T180000
DTEND;TZID=America/New_York:20280309T200000
DTSTAMP:20260425T120701
CREATED:20230713T150111Z
LAST-MODIFIED:20230812T144128Z
UID:10000972-1836237600-1836244800@www.a2blue.org
SUMMARY:Blue Ocean Church board meeting
DESCRIPTION:The church board meets monthly.
URL:https://www.a2blue.org/event/blue-ocean-church-board-meeting/2028-03-09/
CATEGORIES:board meeting
END:VEVENT
BEGIN:VEVENT
DTSTART;TZID=America/New_York:20280413T180000
DTEND;TZID=America/New_York:20280413T200000
DTSTAMP:20260425T120701
CREATED:20230713T150111Z
LAST-MODIFIED:20230812T144128Z
UID:10000973-1839261600-1839268800@www.a2blue.org
SUMMARY:Blue Ocean Church board meeting
DESCRIPTION:The church board meets monthly.
URL:https://www.a2blue.org/event/blue-ocean-church-board-meeting/2028-04-13/
CATEGORIES:board meeting
END:VEVENT
BEGIN:VEVENT
DTSTART;TZID=America/New_York:20280511T180000
DTEND;TZID=America/New_York:20280511T200000
DTSTAMP:20260425T120701
CREATED:20230713T150111Z
LAST-MODIFIED:20230812T144128Z
UID:10000974-1841680800-1841688000@www.a2blue.org
SUMMARY:Blue Ocean Church board meeting
DESCRIPTION:The church board meets monthly.
URL:https://www.a2blue.org/event/blue-ocean-church-board-meeting/2028-05-11/
CATEGORIES:board meeting
END:VEVENT
BEGIN:VEVENT
DTSTART;TZID=America/New_York:20280608T180000
DTEND;TZID=America/New_York:20280608T200000
DTSTAMP:20260425T120701
CREATED:20230713T150111Z
LAST-MODIFIED:20230812T144128Z
UID:10000975-1844100000-1844107200@www.a2blue.org
SUMMARY:Blue Ocean Church board meeting
DESCRIPTION:The church board meets monthly.
URL:https://www.a2blue.org/event/blue-ocean-church-board-meeting/2028-06-08/
CATEGORIES:board meeting
END:VEVENT
BEGIN:VEVENT
DTSTART;TZID=America/New_York:20280713T180000
DTEND;TZID=America/New_York:20280713T200000
DTSTAMP:20260425T120701
CREATED:20230713T150111Z
LAST-MODIFIED:20230812T144128Z
UID:10000976-1847124000-1847131200@www.a2blue.org
SUMMARY:Blue Ocean Church board meeting
DESCRIPTION:The church board meets monthly.
URL:https://www.a2blue.org/event/blue-ocean-church-board-meeting/2028-07-13/
CATEGORIES:board meeting
END:VEVENT
BEGIN:VEVENT
DTSTART;TZID=America/New_York:20280810T180000
DTEND;TZID=America/New_York:20280810T200000
DTSTAMP:20260425T120701
CREATED:20230713T150111Z
LAST-MODIFIED:20230812T144128Z
UID:10001174-1849543200-1849550400@www.a2blue.org
SUMMARY:Blue Ocean Church board meeting
DESCRIPTION:The church board meets monthly.
URL:https://www.a2blue.org/event/blue-ocean-church-board-meeting/2028-08-10/
CATEGORIES:board meeting
END:VEVENT
END:VCALENDAR