BEGIN:VCALENDAR
VERSION:2.0
PRODID:-//Blue Ocean Church Ann Arbor - ECPv6.15.20//NONSGML v1.0//EN
CALSCALE:GREGORIAN
METHOD:PUBLISH
X-WR-CALNAME:Blue Ocean Church Ann Arbor
X-ORIGINAL-URL:https://www.a2blue.org
X-WR-CALDESC:Events for Blue Ocean Church Ann Arbor
REFRESH-INTERVAL;VALUE=DURATION:PT1H
X-Robots-Tag:noindex
X-PUBLISHED-TTL:PT1H
BEGIN:VTIMEZONE
TZID:America/New_York
BEGIN:DAYLIGHT
TZOFFSETFROM:-0500
TZOFFSETTO:-0400
TZNAME:EDT
DTSTART:20230312T070000
END:DAYLIGHT
BEGIN:STANDARD
TZOFFSETFROM:-0400
TZOFFSETTO:-0500
TZNAME:EST
DTSTART:20231105T060000
END:STANDARD
BEGIN:DAYLIGHT
TZOFFSETFROM:-0500
TZOFFSETTO:-0400
TZNAME:EDT
DTSTART:20240310T070000
END:DAYLIGHT
BEGIN:STANDARD
TZOFFSETFROM:-0400
TZOFFSETTO:-0500
TZNAME:EST
DTSTART:20241103T060000
END:STANDARD
BEGIN:DAYLIGHT
TZOFFSETFROM:-0500
TZOFFSETTO:-0400
TZNAME:EDT
DTSTART:20250309T070000
END:DAYLIGHT
BEGIN:STANDARD
TZOFFSETFROM:-0400
TZOFFSETTO:-0500
TZNAME:EST
DTSTART:20251102T060000
END:STANDARD
END:VTIMEZONE
BEGIN:VEVENT
DTSTART;TZID=America/New_York:20240218T120000
DTEND;TZID=America/New_York:20240218T143000
DTSTAMP:20260425T065051
CREATED:20231107T224338Z
LAST-MODIFIED:20240125T212027Z
UID:10001491-1708257600-1708266600@www.a2blue.org
SUMMARY:Rooting Antisemitism Out of Christianity Class 1 of 5
DESCRIPTION:After our Sunday service\, we’ll join members of St. Clare’s Episcopal for lunch and a class that helps us weed antisemitic beliefs out of our faith tradition. The class will include guest lecturers (including some prominent scholars and Jewish leaders)\, Q&A\, discussion and some practical work (i.e.\, what to watch out for in Sunday School lessons).
URL:https://www.a2blue.org/event/rooting-antisemitism-out-of-christianity-class-1-of-5/
CATEGORIES:classes
END:VEVENT
END:VCALENDAR