BEGIN:VCALENDAR
VERSION:2.0
PRODID:-//Blue Ocean Church Ann Arbor - ECPv6.15.20//NONSGML v1.0//EN
CALSCALE:GREGORIAN
METHOD:PUBLISH
X-ORIGINAL-URL:https://www.a2blue.org
X-WR-CALDESC:Events for Blue Ocean Church Ann Arbor
REFRESH-INTERVAL;VALUE=DURATION:PT1H
X-Robots-Tag:noindex
X-PUBLISHED-TTL:PT1H
BEGIN:VTIMEZONE
TZID:America/New_York
BEGIN:DAYLIGHT
TZOFFSETFROM:-0500
TZOFFSETTO:-0400
TZNAME:EDT
DTSTART:20250309T070000
END:DAYLIGHT
BEGIN:STANDARD
TZOFFSETFROM:-0400
TZOFFSETTO:-0500
TZNAME:EST
DTSTART:20251102T060000
END:STANDARD
BEGIN:DAYLIGHT
TZOFFSETFROM:-0500
TZOFFSETTO:-0400
TZNAME:EDT
DTSTART:20260308T070000
END:DAYLIGHT
BEGIN:STANDARD
TZOFFSETFROM:-0400
TZOFFSETTO:-0500
TZNAME:EST
DTSTART:20261101T060000
END:STANDARD
BEGIN:DAYLIGHT
TZOFFSETFROM:-0500
TZOFFSETTO:-0400
TZNAME:EDT
DTSTART:20270314T070000
END:DAYLIGHT
BEGIN:STANDARD
TZOFFSETFROM:-0400
TZOFFSETTO:-0500
TZNAME:EST
DTSTART:20271107T060000
END:STANDARD
END:VTIMEZONE
BEGIN:VEVENT
DTSTART;TZID=America/New_York:20260412T180000
DTEND;TZID=America/New_York:20260412T200000
DTSTAMP:20260425T062244
CREATED:20260410T182340Z
LAST-MODIFIED:20260410T182340Z
UID:10002767-1776016800-1776024000@www.a2blue.org
SUMMARY:Girls in Trouble: Bringing Biblical Women to LIfe Through Song and Storytelling
DESCRIPTION:The students of the Jewish Communal Leadership Program (JCLP) at the University of Michigan will be hosting writer\, musician\, performer\, and feminist Torah teacher Alicia Jo Rabins. The evening will be filled with music\, singing\, and learning\, as Alicia presents Girls in Trouble\, her interactive indie-folk song cycle which brings Biblical women to life through song and storytelling. JCLP student Allie Rosenberg will be opening the evening with a creative musical performance from 6-8 pm after Festifools\, which is 4-5 pm that day\, registration required.
URL:https://www.a2blue.org/event/girls-in-trouble-bringing-biblical-women-to-life-through-song-and-storytelling/
LOCATION:The Common Cup\, 1511 Washtenaw Ave\, Anna Arbor\, MI\, 48104\, United States
CATEGORIES:concert
END:VEVENT
END:VCALENDAR