BEGIN:VCALENDAR
VERSION:2.0
PRODID:-//Blue Ocean Church Ann Arbor - ECPv6.15.20//NONSGML v1.0//EN
CALSCALE:GREGORIAN
METHOD:PUBLISH
X-WR-CALNAME:Blue Ocean Church Ann Arbor
X-ORIGINAL-URL:https://www.a2blue.org
X-WR-CALDESC:Events for Blue Ocean Church Ann Arbor
REFRESH-INTERVAL;VALUE=DURATION:PT1H
X-Robots-Tag:noindex
X-PUBLISHED-TTL:PT1H
BEGIN:VTIMEZONE
TZID:America/New_York
BEGIN:DAYLIGHT
TZOFFSETFROM:-0500
TZOFFSETTO:-0400
TZNAME:EDT
DTSTART:20240310T070000
END:DAYLIGHT
BEGIN:STANDARD
TZOFFSETFROM:-0400
TZOFFSETTO:-0500
TZNAME:EST
DTSTART:20241103T060000
END:STANDARD
BEGIN:DAYLIGHT
TZOFFSETFROM:-0500
TZOFFSETTO:-0400
TZNAME:EDT
DTSTART:20250309T070000
END:DAYLIGHT
BEGIN:STANDARD
TZOFFSETFROM:-0400
TZOFFSETTO:-0500
TZNAME:EST
DTSTART:20251102T060000
END:STANDARD
BEGIN:DAYLIGHT
TZOFFSETFROM:-0500
TZOFFSETTO:-0400
TZNAME:EDT
DTSTART:20260308T070000
END:DAYLIGHT
BEGIN:STANDARD
TZOFFSETFROM:-0400
TZOFFSETTO:-0500
TZNAME:EST
DTSTART:20261101T060000
END:STANDARD
END:VTIMEZONE
BEGIN:VEVENT
DTSTART;TZID=America/New_York:20250803T130000
DTEND;TZID=America/New_York:20250803T150000
DTSTAMP:20260425T094032
CREATED:20250723T151909Z
LAST-MODIFIED:20250723T151909Z
UID:10002687-1754226000-1754233200@www.a2blue.org
SUMMARY:Critter House Event with the Earth Care Group
DESCRIPTION:We’re going out to the Critter House at Leslie Science and Nature Center again like we did in the Spring and see how the animals are doing. They should also have their water activities open around the playground\, so plan accordingly for kids to get wet. We’ll head over right after Church in the Park and a picnic lunch. Stay however long you want.\n\nHere’s the event description for the Critter House website: Observe frogs\, turtles\, snakes\, and more as they hop\, crawl\, and slither in their homes! Our Critter House is home to many species native to the region. It’s a great way to get up close and personal with some fascinating animals\, all while developing an appreciation for the incredible diversity of the natural world.
URL:https://www.a2blue.org/event/critter-house-event-with-the-earth-care-group/
LOCATION:Leslie Science Center\, 1831 Traver Rd\, Ann Arbor\, MI\, 48105\, United States
CATEGORIES:connection,families
END:VEVENT
BEGIN:VEVENT
DTSTART;TZID=America/New_York:20250809T190000
DTEND;TZID=America/New_York:20250809T210000
DTSTAMP:20260425T094032
CREATED:20250514T025505Z
LAST-MODIFIED:20250801T220349Z
UID:10002573-1754766000-1754773200@www.a2blue.org
SUMMARY:Film Club
DESCRIPTION:The Blue Ocean Film Club\, led by Dave Nelson and Tim Vaduva\, will be watching a film together at 7pm at Dave & Jenn Nelson’s house (in a neighborhood near the church). This month’s movie is Nosferatu: A Symphony of Horror (1922). If you’d like to join them\, contact us at office@a2blue.org to get connected to Tim and Dave.
URL:https://www.a2blue.org/event/film-club-10/
LOCATION:Dave & Jenn Nelson’s
CATEGORIES:connection
END:VEVENT
BEGIN:VEVENT
DTSTART;TZID=America/New_York:20250810T120000
DTEND;TZID=America/New_York:20250810T130000
DTSTAMP:20260425T094032
CREATED:20240822T194825Z
LAST-MODIFIED:20240822T194848Z
UID:10000701-1754827200-1754830800@www.a2blue.org
SUMMARY:Donuts After Church
DESCRIPTION:Join us immediately after church for donuts and coffee from Washtenaw Dairy.
URL:https://www.a2blue.org/event/donuts-after-church-2-3/2025-08-10/
LOCATION:St. Clare/Temple Beth Emeth Social Hall\, 2309 Packard Street\, Ann Arbor\, MI\, 48104\, United States
CATEGORIES:connection
END:VEVENT
BEGIN:VEVENT
DTSTART;TZID=America/New_York:20250815T180000
DTEND;TZID=America/New_York:20250815T210000
DTSTAMP:20260425T094032
CREATED:20250702T214446Z
LAST-MODIFIED:20250702T214446Z
UID:10002683-1755280800-1755291600@www.a2blue.org
SUMMARY:Game Night at the Corner
DESCRIPTION:We’ll host Friday game night at the Corner Brewery from 6-9pm. We’ve reserved space outside. All ages welcome. Bring your favorite games and come connect.
URL:https://www.a2blue.org/event/game-night-at-the-corner-10/
LOCATION:Corner Brewery\, 720 Norris Street\, Ypsilanti\, MI\, 48198
CATEGORIES:connection
ORGANIZER;CN="Molly Morton":MAILTO:molly@a2blue.org
END:VEVENT
BEGIN:VEVENT
DTSTART;TZID=America/New_York:20250817T120000
DTEND;TZID=America/New_York:20250817T130000
DTSTAMP:20260425T094032
CREATED:20240822T194825Z
LAST-MODIFIED:20240822T194848Z
UID:10002253-1755432000-1755435600@www.a2blue.org
SUMMARY:Donuts After Church
DESCRIPTION:Join us immediately after church for donuts and coffee from Washtenaw Dairy.
URL:https://www.a2blue.org/event/donuts-after-church-2-3/2025-08-17/
LOCATION:St. Clare/Temple Beth Emeth Social Hall\, 2309 Packard Street\, Ann Arbor\, MI\, 48104\, United States
CATEGORIES:connection
END:VEVENT
BEGIN:VEVENT
DTSTART;TZID=America/New_York:20250824T120000
DTEND;TZID=America/New_York:20250824T130000
DTSTAMP:20260425T094032
CREATED:20240822T194825Z
LAST-MODIFIED:20240822T194848Z
UID:10000702-1756036800-1756040400@www.a2blue.org
SUMMARY:Donuts After Church
DESCRIPTION:Join us immediately after church for donuts and coffee from Washtenaw Dairy.
URL:https://www.a2blue.org/event/donuts-after-church-2-3/2025-08-24/
LOCATION:St. Clare/Temple Beth Emeth Social Hall\, 2309 Packard Street\, Ann Arbor\, MI\, 48104\, United States
CATEGORIES:connection
END:VEVENT
BEGIN:VEVENT
DTSTART;TZID=America/New_York:20250828T200000
DTEND;TZID=America/New_York:20250828T210000
DTSTAMP:20260425T094032
CREATED:20250514T025950Z
LAST-MODIFIED:20250514T025950Z
UID:10002575-1756411200-1756414800@www.a2blue.org
SUMMARY:Translocal Connection (TLC)
DESCRIPTION:The TLC small group will meet between 8-9pm EST via Zoom for online games and connection. All are welcome.
URL:https://www.a2blue.org/event/translocal-connection-tlc-11/
LOCATION:Zoom
CATEGORIES:connection,Zoom
END:VEVENT
BEGIN:VEVENT
DTSTART;TZID=America/New_York:20250831T120000
DTEND;TZID=America/New_York:20250831T130000
DTSTAMP:20260425T094032
CREATED:20240822T194825Z
LAST-MODIFIED:20240822T194848Z
UID:10002254-1756641600-1756645200@www.a2blue.org
SUMMARY:Donuts After Church
DESCRIPTION:Join us immediately after church for donuts and coffee from Washtenaw Dairy.
URL:https://www.a2blue.org/event/donuts-after-church-2-3/2025-08-31/
LOCATION:St. Clare/Temple Beth Emeth Social Hall\, 2309 Packard Street\, Ann Arbor\, MI\, 48104\, United States
CATEGORIES:connection
END:VEVENT
END:VCALENDAR