BEGIN:VCALENDAR
VERSION:2.0
PRODID:-//Blue Ocean Church Ann Arbor - ECPv6.15.20//NONSGML v1.0//EN
CALSCALE:GREGORIAN
METHOD:PUBLISH
X-ORIGINAL-URL:https://www.a2blue.org
X-WR-CALDESC:Events for Blue Ocean Church Ann Arbor
REFRESH-INTERVAL;VALUE=DURATION:PT1H
X-Robots-Tag:noindex
X-PUBLISHED-TTL:PT1H
BEGIN:VTIMEZONE
TZID:America/New_York
BEGIN:DAYLIGHT
TZOFFSETFROM:-0500
TZOFFSETTO:-0400
TZNAME:EDT
DTSTART:20230312T070000
END:DAYLIGHT
BEGIN:STANDARD
TZOFFSETFROM:-0400
TZOFFSETTO:-0500
TZNAME:EST
DTSTART:20231105T060000
END:STANDARD
BEGIN:DAYLIGHT
TZOFFSETFROM:-0500
TZOFFSETTO:-0400
TZNAME:EDT
DTSTART:20240310T070000
END:DAYLIGHT
BEGIN:STANDARD
TZOFFSETFROM:-0400
TZOFFSETTO:-0500
TZNAME:EST
DTSTART:20241103T060000
END:STANDARD
BEGIN:DAYLIGHT
TZOFFSETFROM:-0500
TZOFFSETTO:-0400
TZNAME:EDT
DTSTART:20250309T070000
END:DAYLIGHT
BEGIN:STANDARD
TZOFFSETFROM:-0400
TZOFFSETTO:-0500
TZNAME:EST
DTSTART:20251102T060000
END:STANDARD
END:VTIMEZONE
BEGIN:VEVENT
DTSTART;TZID=America/New_York:20241215T120000
DTEND;TZID=America/New_York:20241215T130000
DTSTAMP:20260425T154918
CREATED:20241012T173616Z
LAST-MODIFIED:20241012T173616Z
UID:10002471-1734264000-1734267600@www.a2blue.org
SUMMARY:Annual Christmas Cookie Exchange
DESCRIPTION:Bring yourself and three dozen of your favorite homemade cookies to share with your Blue Ocean friends. You will swap your cookies for the other attendees’ cookies and take home a diverse assortment of homemade goodies just in time for Christmas! We welcome gluten free\, nut free\, and vegan options\, and will be sure those are clearly marked. If you don’t have time to make cookies\, we’ll have some available for snacking on  if you just want to stay after church and socialize.
URL:https://www.a2blue.org/event/annual-christmas-cookie-exchange/
LOCATION:St. Clare/Temple Beth Emeth Social Hall\, 2309 Packard Street\, Ann Arbor\, MI\, 48104\, United States
CATEGORIES:connection
END:VEVENT
BEGIN:VEVENT
DTSTART;TZID=America/New_York:20241215T120000
DTEND;TZID=America/New_York:20241215T130000
DTSTAMP:20260425T154918
CREATED:20240827T172653Z
LAST-MODIFIED:20241114T204313Z
UID:10002437-1734264000-1734267600@www.a2blue.org
SUMMARY:TLC Group (Translocal Connection) via Zoom
DESCRIPTION:The TLC small group will meet immediately after church via Zoom from noon-1pm for connection and guided discussion. All are welcome. Email the office or Pastor Caroline to get the Zoom link.
URL:https://www.a2blue.org/event/tlc-group-translocal-connection-via-zoom-8/
LOCATION:Zoom
CATEGORIES:connection,Zoom
END:VEVENT
BEGIN:VEVENT
DTSTART;TZID=America/New_York:20241215T120000
DTEND;TZID=America/New_York:20241215T130000
DTSTAMP:20260425T154918
CREATED:20240822T194825Z
LAST-MODIFIED:20240822T194848Z
UID:10000684-1734264000-1734267600@www.a2blue.org
SUMMARY:Donuts After Church
DESCRIPTION:Join us immediately after church for donuts and coffee from Washtenaw Dairy.
URL:https://www.a2blue.org/event/donuts-after-church-2-3/2024-12-15/
LOCATION:St. Clare/Temple Beth Emeth Social Hall\, 2309 Packard Street\, Ann Arbor\, MI\, 48104\, United States
CATEGORIES:connection
END:VEVENT
BEGIN:VEVENT
DTSTART;TZID=America/New_York:20241214T200000
DTEND;TZID=America/New_York:20241214T220000
DTSTAMP:20260425T154918
CREATED:20241210T033622Z
LAST-MODIFIED:20241214T155818Z
UID:10002490-1734206400-1734213600@www.a2blue.org
SUMMARY:Film Club
DESCRIPTION:The Blue Ocean Film Club\, led by Dave Nelson and Tim Vaduva\, will be watching their third film together at 8pm at Dave & Jenn Nelson’s house (in a neighborhood near the church). Film TBD.
URL:https://www.a2blue.org/event/film-club-2/
LOCATION:Dave & Jenn Nelson’s
CATEGORIES:connection
END:VEVENT
BEGIN:VEVENT
DTSTART;TZID=America/New_York:20241208T120000
DTEND;TZID=America/New_York:20241208T130000
DTSTAMP:20260425T154918
CREATED:20240822T194825Z
LAST-MODIFIED:20240822T194848Z
UID:10002235-1733659200-1733662800@www.a2blue.org
SUMMARY:Donuts After Church
DESCRIPTION:Join us immediately after church for donuts and coffee from Washtenaw Dairy.
URL:https://www.a2blue.org/event/donuts-after-church-2-3/2024-12-08/
LOCATION:St. Clare/Temple Beth Emeth Social Hall\, 2309 Packard Street\, Ann Arbor\, MI\, 48104\, United States
CATEGORIES:connection
END:VEVENT
BEGIN:VEVENT
DTSTART;TZID=America/New_York:20241206T063000
DTEND;TZID=America/New_York:20241206T200000
DTSTAMP:20260425T154918
CREATED:20241203T225254Z
LAST-MODIFIED:20241203T225254Z
UID:10002488-1733466600-1733515200@www.a2blue.org
SUMMARY:Queer Meetup at the Corner
DESCRIPTION:Our in-person Queer Meetup is a time for queer folks to gather in community. We’ll be meeting at The Corner Brewery in Ypsilanti. If you would like to get on our list for the Queer Meetups or have any questions\, please reach out to our intern\, El at be.still.costanzo@gmail.com.
URL:https://www.a2blue.org/event/queer-meetup-at-the-corner/
LOCATION:Corner Brewery\, 720 Norris Street\, Ypsilanti\, MI\, 48198
CATEGORIES:connection
ORGANIZER;CN="El Costanzo":MAILTO:be.still.costanzo@gmail.com
END:VEVENT
BEGIN:VEVENT
DTSTART;TZID=America/New_York:20241201T120000
DTEND;TZID=America/New_York:20241201T130000
DTSTAMP:20260425T154918
CREATED:20240822T194825Z
LAST-MODIFIED:20240822T194848Z
UID:10000683-1733054400-1733058000@www.a2blue.org
SUMMARY:Donuts After Church
DESCRIPTION:Join us immediately after church for donuts and coffee from Washtenaw Dairy.
URL:https://www.a2blue.org/event/donuts-after-church-2-3/2024-12-01/
LOCATION:St. Clare/Temple Beth Emeth Social Hall\, 2309 Packard Street\, Ann Arbor\, MI\, 48104\, United States
CATEGORIES:connection
END:VEVENT
BEGIN:VEVENT
DTSTART;TZID=America/New_York:20241124T120000
DTEND;TZID=America/New_York:20241124T130000
DTSTAMP:20260425T154918
CREATED:20240822T194825Z
LAST-MODIFIED:20240822T194848Z
UID:10002234-1732449600-1732453200@www.a2blue.org
SUMMARY:Donuts After Church
DESCRIPTION:Join us immediately after church for donuts and coffee from Washtenaw Dairy.
URL:https://www.a2blue.org/event/donuts-after-church-2-3/2024-11-24/
LOCATION:St. Clare/Temple Beth Emeth Social Hall\, 2309 Packard Street\, Ann Arbor\, MI\, 48104\, United States
CATEGORIES:connection
END:VEVENT
BEGIN:VEVENT
DTSTART;TZID=America/New_York:20241123T200000
DTEND;TZID=America/New_York:20241123T223000
DTSTAMP:20260425T154918
CREATED:20241115T222214Z
LAST-MODIFIED:20241214T160010Z
UID:10002481-1732392000-1732401000@www.a2blue.org
SUMMARY:Film Club
DESCRIPTION:The Blue Ocean Film Club\, led by Dave Nelson and Tim Vaduva\, will be watching their second film togethe at Dave & Jenn Nelson’s house (in a neighborhood near the church). Film TBD. Reply to the weekly email for contact information.
URL:https://www.a2blue.org/event/film-club/
LOCATION:Dave & Jenn Nelson’s
CATEGORIES:connection
END:VEVENT
BEGIN:VEVENT
DTSTART;TZID=America/New_York:20241117T120000
DTEND;TZID=America/New_York:20241117T130000
DTSTAMP:20260425T154918
CREATED:20240822T194825Z
LAST-MODIFIED:20240822T194848Z
UID:10000682-1731844800-1731848400@www.a2blue.org
SUMMARY:Donuts After Church
DESCRIPTION:Join us immediately after church for donuts and coffee from Washtenaw Dairy.
URL:https://www.a2blue.org/event/donuts-after-church-2-3/2024-11-17/
LOCATION:St. Clare/Temple Beth Emeth Social Hall\, 2309 Packard Street\, Ann Arbor\, MI\, 48104\, United States
CATEGORIES:connection
END:VEVENT
BEGIN:VEVENT
DTSTART;TZID=America/New_York:20241115T190000
DTEND;TZID=America/New_York:20241115T210000
DTSTAMP:20260425T154918
CREATED:20240827T174116Z
LAST-MODIFIED:20240827T174116Z
UID:10002438-1731697200-1731704400@www.a2blue.org
SUMMARY:Game Night at the Corner
DESCRIPTION:We’ll host Friday game night at the Corner Brewery from 7-9 pm. We’ve reserved space inside. Kids welcome. Bring your favorite games and come connect.
URL:https://www.a2blue.org/event/game-night-at-the-corner-6/
LOCATION:Corner Brewery\, 720 Norris Street\, Ypsilanti\, MI\, 48198
CATEGORIES:connection
END:VEVENT
BEGIN:VEVENT
DTSTART;TZID=America/New_York:20241110T130000
DTEND;TZID=America/New_York:20241110T141500
DTSTAMP:20260425T154918
CREATED:20240714T000800Z
LAST-MODIFIED:20241002T200655Z
UID:10002156-1731243600-1731248100@www.a2blue.org
SUMMARY:Savory Soups Potluck
DESCRIPTION:Join friends old and new from TBE\, STC\, and BOC for a shared meal featuring plant-forward recipes. \nWhat is plant-forward? Good question! It means choosing or modifying recipes to lean heavily on vegetables and fruits. Extra points for modifying a traditional favorite for a tasty\, plant-forward twist. \nWhy plant-forward? In addition to providing healthy nutrients for our bodies\, plant-based foods also have a lower carbon footprint which means they are healthy for the planet\, too. \nPlease bring a dish to pass. Need inspiration? Go to vegmichigan.org/resources to get cooking! Bring your favorite recipes and cooking stories\, too\, for a digital cookbook to share. \nGo to https://bit.ly/GENPFP\, or scan the code below\, to sign up.
URL:https://www.a2blue.org/event/savory-soups-potluck/
LOCATION:St. Clare/Temple Beth Emeth Social Hall\, 2309 Packard Street\, Ann Arbor\, MI\, 48104\, United States
CATEGORIES:connection,families
END:VEVENT
BEGIN:VEVENT
DTSTART;TZID=America/New_York:20241110T120000
DTEND;TZID=America/New_York:20241110T130000
DTSTAMP:20260425T154918
CREATED:20240827T172205Z
LAST-MODIFIED:20240827T172205Z
UID:10002436-1731240000-1731243600@www.a2blue.org
SUMMARY:TLC Group (Translocal Connection) via Zoom
DESCRIPTION:The TLC small group will meet immediately after church via Zoom from noon-1pm for connection and guided discussion. All are welcome. Email the office or Pastor Caroline to get the Zoom link.
URL:https://www.a2blue.org/event/tlc-group-translocal-connection-via-zoom-7/
LOCATION:Zoom
CATEGORIES:connection,Zoom
END:VEVENT
BEGIN:VEVENT
DTSTART;TZID=America/New_York:20241110T120000
DTEND;TZID=America/New_York:20241110T130000
DTSTAMP:20260425T154918
CREATED:20240822T194825Z
LAST-MODIFIED:20240822T194848Z
UID:10002233-1731240000-1731243600@www.a2blue.org
SUMMARY:Donuts After Church
DESCRIPTION:Join us immediately after church for donuts and coffee from Washtenaw Dairy.
URL:https://www.a2blue.org/event/donuts-after-church-2-3/2024-11-10/
LOCATION:St. Clare/Temple Beth Emeth Social Hall\, 2309 Packard Street\, Ann Arbor\, MI\, 48104\, United States
CATEGORIES:connection
END:VEVENT
BEGIN:VEVENT
DTSTART;TZID=America/New_York:20241108T183000
DTEND;TZID=America/New_York:20241108T200000
DTSTAMP:20260425T154918
CREATED:20241030T174439Z
LAST-MODIFIED:20241106T160332Z
UID:10002473-1731090600-1731096000@www.a2blue.org
SUMMARY:CANCELED: Queer Meetup
DESCRIPTION:There will be a Queer Meetup at The Corner Brewery in Ypsilanti from 6:30-8pm. This is a time for queer folks to gather in community. We are meeting in person this time\, but stay tuned for a Zoom Meetup in December! If you have any questions\, please reach out to our intern\, El\, at be.still.costanzo@gmail.com.
URL:https://www.a2blue.org/event/queer-meetup-2/
LOCATION:Corner Brewery\, 720 Norris Street\, Ypsilanti\, MI\, 48198
CATEGORIES:connection
ORGANIZER;CN="El Costanzo":MAILTO:be.still.costanzo@gmail.com
END:VEVENT
BEGIN:VEVENT
DTSTART;TZID=America/New_York:20241103T120000
DTEND;TZID=America/New_York:20241103T130000
DTSTAMP:20260425T154918
CREATED:20240822T194825Z
LAST-MODIFIED:20240822T194848Z
UID:10000681-1730635200-1730638800@www.a2blue.org
SUMMARY:Donuts After Church
DESCRIPTION:Join us immediately after church for donuts and coffee from Washtenaw Dairy.
URL:https://www.a2blue.org/event/donuts-after-church-2-3/2024-11-03/
LOCATION:St. Clare/Temple Beth Emeth Social Hall\, 2309 Packard Street\, Ann Arbor\, MI\, 48104\, United States
CATEGORIES:connection
END:VEVENT
BEGIN:VEVENT
DTSTART;TZID=America/New_York:20241027T120000
DTEND;TZID=America/New_York:20241027T130000
DTSTAMP:20260425T154918
CREATED:20240822T194825Z
LAST-MODIFIED:20240822T194848Z
UID:10002232-1730030400-1730034000@www.a2blue.org
SUMMARY:Donuts After Church
DESCRIPTION:Join us immediately after church for donuts and coffee from Washtenaw Dairy.
URL:https://www.a2blue.org/event/donuts-after-church-2-3/2024-10-27/
LOCATION:St. Clare/Temple Beth Emeth Social Hall\, 2309 Packard Street\, Ann Arbor\, MI\, 48104\, United States
CATEGORIES:connection
END:VEVENT
BEGIN:VEVENT
DTSTART;TZID=America/New_York:20241024T200000
DTEND;TZID=America/New_York:20241024T210000
DTSTAMP:20260425T154918
CREATED:20240812T214406Z
LAST-MODIFIED:20240812T214406Z
UID:10002227-1729800000-1729803600@www.a2blue.org
SUMMARY:Translocal (TLC) Game Night via Zoom
DESCRIPTION:The Translocal Connection (TLC) group meets twice monthly on Zoom—after church on the 2nd Sunday of the month for deeper discussion\, and on the 4th Thursday of the month at 8pm ET for online games. All are welcome. Email the church office or Caroline Kittle for a Zoom link.
URL:https://www.a2blue.org/event/translocal-tlc-game-night-via-zoom/
LOCATION:Zoom
CATEGORIES:connection,Zoom
END:VEVENT
BEGIN:VEVENT
DTSTART;TZID=America/New_York:20241020T120000
DTEND;TZID=America/New_York:20241020T130000
DTSTAMP:20260425T154918
CREATED:20240822T194825Z
LAST-MODIFIED:20240822T194848Z
UID:10000680-1729425600-1729429200@www.a2blue.org
SUMMARY:Donuts After Church
DESCRIPTION:Join us immediately after church for donuts and coffee from Washtenaw Dairy.
URL:https://www.a2blue.org/event/donuts-after-church-2-3/2024-10-20/
LOCATION:St. Clare/Temple Beth Emeth Social Hall\, 2309 Packard Street\, Ann Arbor\, MI\, 48104\, United States
CATEGORIES:connection
END:VEVENT
BEGIN:VEVENT
DTSTART;TZID=America/New_York:20241013T120000
DTEND;TZID=America/New_York:20241013T130000
DTSTAMP:20260425T154918
CREATED:20240827T171655Z
LAST-MODIFIED:20240827T171821Z
UID:10002435-1728820800-1728824400@www.a2blue.org
SUMMARY:TLC (Translocal Connection) via Zoom
DESCRIPTION:The TLC small group will meet immediately after church via Zoom from noon-1pm for connection and guided discussion. All are welcome. Email the office or Pastor Caroline to get the Zoom link.
URL:https://www.a2blue.org/event/tlc-trans-local-connection-via-zoom/
LOCATION:Zoom
CATEGORIES:connection,Zoom
END:VEVENT
BEGIN:VEVENT
DTSTART;TZID=America/New_York:20241013T120000
DTEND;TZID=America/New_York:20241013T130000
DTSTAMP:20260425T154918
CREATED:20240822T194825Z
LAST-MODIFIED:20240822T194848Z
UID:10002231-1728820800-1728824400@www.a2blue.org
SUMMARY:Donuts After Church
DESCRIPTION:Join us immediately after church for donuts and coffee from Washtenaw Dairy.
URL:https://www.a2blue.org/event/donuts-after-church-2-3/2024-10-13/
LOCATION:St. Clare/Temple Beth Emeth Social Hall\, 2309 Packard Street\, Ann Arbor\, MI\, 48104\, United States
CATEGORIES:connection
END:VEVENT
BEGIN:VEVENT
DTSTART;TZID=America/New_York:20241006T120000
DTEND;TZID=America/New_York:20241006T130000
DTSTAMP:20260425T154918
CREATED:20240927T194738Z
LAST-MODIFIED:20240927T194740Z
UID:10000679-1728216000-1728219600@www.a2blue.org
SUMMARY:Donuts & Haifa Falafel After Church
DESCRIPTION:Join us immediately after the service for lunch from Haifa Falafel\, donuts from Washtenaw Dairy\, and fellowship. Stick around and get to know some of the visiting Zoomies better!
URL:https://www.a2blue.org/event/donuts-after-church-2-3-2/
LOCATION:St. Clare/Temple Beth Emeth Social Hall\, 2309 Packard Street\, Ann Arbor\, MI\, 48104\, United States
CATEGORIES:connection
END:VEVENT
BEGIN:VEVENT
DTSTART;TZID=America/New_York:20241005T110000
DTEND;TZID=America/New_York:20241005T150000
DTSTAMP:20260425T154918
CREATED:20240920T201020Z
LAST-MODIFIED:20240927T193912Z
UID:10002443-1728126000-1728140400@www.a2blue.org
SUMMARY:Hiking at Hudson Mills & Dexter Cider Mill Outing
DESCRIPTION:Everyone is invited to join the Zoomies who are in town (and the Blue Ocean Earth Care Group) for lunch and an afternoon hike in Hudson Mills Metropark\, followed by a trip to the Dexter Cider Mill.
URL:https://www.a2blue.org/event/hiking-at-hudson-mills-dexter-cider-mill-outing-2/
LOCATION:hudson mills metropark\, 8801 N. Territorial Rd.\, Dexter\, MI\, 48130\, United States
CATEGORIES:connection
END:VEVENT
BEGIN:VEVENT
DTSTART;TZID=America/New_York:20241004T180000
DTEND;TZID=America/New_York:20241004T200000
DTSTAMP:20260425T154918
CREATED:20240927T194252Z
LAST-MODIFIED:20240927T194252Z
UID:10002464-1728064800-1728072000@www.a2blue.org
SUMMARY:Dinner at the Session Room
DESCRIPTION: Join us at 6pm at the Session Room on the west side of A2 for dinner with visiting Zoomies.
URL:https://www.a2blue.org/event/dinner-at-the-session-room/
LOCATION:The Session Room\, 3685 Jackson Rd\, Ann Arbor\, MI\, 48103
CATEGORIES:connection
END:VEVENT
BEGIN:VEVENT
DTSTART;VALUE=DATE:20241004
DTEND;VALUE=DATE:20241007
DTSTAMP:20260425T154918
CREATED:20240723T185722Z
LAST-MODIFIED:20240723T185722Z
UID:10002160-1728000000-1728259199@www.a2blue.org
SUMMARY:Zoomie Weekend
DESCRIPTION:Our annual Zoomie Weekend! Zoomies are invited to come to A2 for a weekend of fun and deepening connection. For more information\, contact Pastor Caroline at caroine@a2blue.org.
URL:https://www.a2blue.org/event/zoomie-weekend-2/
LOCATION:MI
CATEGORIES:connection
END:VEVENT
BEGIN:VEVENT
DTSTART;TZID=America/New_York:20240929T120000
DTEND;TZID=America/New_York:20240929T130000
DTSTAMP:20260425T154918
CREATED:20240822T194825Z
LAST-MODIFIED:20240822T194848Z
UID:10002230-1727611200-1727614800@www.a2blue.org
SUMMARY:Donuts After Church
DESCRIPTION:Join us immediately after church for donuts and coffee from Washtenaw Dairy.
URL:https://www.a2blue.org/event/donuts-after-church-2-3/2024-09-29/
LOCATION:St. Clare/Temple Beth Emeth Social Hall\, 2309 Packard Street\, Ann Arbor\, MI\, 48104\, United States
CATEGORIES:connection
END:VEVENT
BEGIN:VEVENT
DTSTART;TZID=America/New_York:20240922T120000
DTEND;TZID=America/New_York:20240922T130000
DTSTAMP:20260425T154918
CREATED:20240822T194825Z
LAST-MODIFIED:20240822T194848Z
UID:10000678-1727006400-1727010000@www.a2blue.org
SUMMARY:Donuts After Church
DESCRIPTION:Join us immediately after church for donuts and coffee from Washtenaw Dairy.
URL:https://www.a2blue.org/event/donuts-after-church-2-3/2024-09-22/
LOCATION:St. Clare/Temple Beth Emeth Social Hall\, 2309 Packard Street\, Ann Arbor\, MI\, 48104\, United States
CATEGORIES:connection
END:VEVENT
BEGIN:VEVENT
DTSTART;TZID=America/New_York:20240915T120000
DTEND;TZID=America/New_York:20240915T130000
DTSTAMP:20260425T154918
CREATED:20240822T194825Z
LAST-MODIFIED:20240822T194848Z
UID:10002229-1726401600-1726405200@www.a2blue.org
SUMMARY:Donuts After Church
DESCRIPTION:Join us immediately after church for donuts and coffee from Washtenaw Dairy.
URL:https://www.a2blue.org/event/donuts-after-church-2-3/2024-09-15/
LOCATION:St. Clare/Temple Beth Emeth Social Hall\, 2309 Packard Street\, Ann Arbor\, MI\, 48104\, United States
CATEGORIES:connection
END:VEVENT
BEGIN:VEVENT
DTSTART;TZID=America/New_York:20240908T120000
DTEND;TZID=America/New_York:20240908T130000
DTSTAMP:20260425T154918
CREATED:20240822T194825Z
LAST-MODIFIED:20240822T194848Z
UID:10000677-1725796800-1725800400@www.a2blue.org
SUMMARY:Donuts After Church
DESCRIPTION:Join us immediately after church for donuts and coffee from Washtenaw Dairy.
URL:https://www.a2blue.org/event/donuts-after-church-2-3/2024-09-08/
LOCATION:St. Clare/Temple Beth Emeth Social Hall\, 2309 Packard Street\, Ann Arbor\, MI\, 48104\, United States
CATEGORIES:connection
END:VEVENT
BEGIN:VEVENT
DTSTART;TZID=America/New_York:20240901T120000
DTEND;TZID=America/New_York:20240901T130000
DTSTAMP:20260425T154918
CREATED:20240822T194825Z
LAST-MODIFIED:20240822T194848Z
UID:10002228-1725192000-1725195600@www.a2blue.org
SUMMARY:Donuts After Church
DESCRIPTION:Join us immediately after church for donuts and coffee from Washtenaw Dairy.
URL:https://www.a2blue.org/event/donuts-after-church-2-3/2024-09-01/
LOCATION:St. Clare/Temple Beth Emeth Social Hall\, 2309 Packard Street\, Ann Arbor\, MI\, 48104\, United States
CATEGORIES:connection
END:VEVENT
END:VCALENDAR