BEGIN:VCALENDAR
VERSION:2.0
PRODID:-//Blue Ocean Church Ann Arbor - ECPv6.15.20//NONSGML v1.0//EN
CALSCALE:GREGORIAN
METHOD:PUBLISH
X-WR-CALNAME:Blue Ocean Church Ann Arbor
X-ORIGINAL-URL:https://www.a2blue.org
X-WR-CALDESC:Events for Blue Ocean Church Ann Arbor
REFRESH-INTERVAL;VALUE=DURATION:PT1H
X-Robots-Tag:noindex
X-PUBLISHED-TTL:PT1H
BEGIN:VTIMEZONE
TZID:America/New_York
BEGIN:DAYLIGHT
TZOFFSETFROM:-0500
TZOFFSETTO:-0400
TZNAME:EDT
DTSTART:20240310T070000
END:DAYLIGHT
BEGIN:STANDARD
TZOFFSETFROM:-0400
TZOFFSETTO:-0500
TZNAME:EST
DTSTART:20241103T060000
END:STANDARD
BEGIN:DAYLIGHT
TZOFFSETFROM:-0500
TZOFFSETTO:-0400
TZNAME:EDT
DTSTART:20250309T070000
END:DAYLIGHT
BEGIN:STANDARD
TZOFFSETFROM:-0400
TZOFFSETTO:-0500
TZNAME:EST
DTSTART:20251102T060000
END:STANDARD
BEGIN:DAYLIGHT
TZOFFSETFROM:-0500
TZOFFSETTO:-0400
TZNAME:EDT
DTSTART:20260308T070000
END:DAYLIGHT
BEGIN:STANDARD
TZOFFSETFROM:-0400
TZOFFSETTO:-0500
TZNAME:EST
DTSTART:20261101T060000
END:STANDARD
BEGIN:DAYLIGHT
TZOFFSETFROM:-0500
TZOFFSETTO:-0400
TZNAME:EDT
DTSTART:20270314T070000
END:DAYLIGHT
BEGIN:STANDARD
TZOFFSETFROM:-0400
TZOFFSETTO:-0500
TZNAME:EST
DTSTART:20271107T060000
END:STANDARD
END:VTIMEZONE
BEGIN:VEVENT
DTSTART;TZID=America/New_York:20251123T120000
DTEND;TZID=America/New_York:20251123T130000
DTSTAMP:20260425T112806
CREATED:20240822T194825Z
LAST-MODIFIED:20240822T194848Z
UID:10002260-1763899200-1763902800@www.a2blue.org
SUMMARY:Donuts After Church
DESCRIPTION:Join us immediately after church for donuts and coffee from Washtenaw Dairy.
URL:https://www.a2blue.org/event/donuts-after-church-2-3/2025-11-23/
LOCATION:St. Clare/Temple Beth Emeth Social Hall\, 2309 Packard Street\, Ann Arbor\, MI\, 48104\, United States
CATEGORIES:connection
END:VEVENT
BEGIN:VEVENT
DTSTART;TZID=America/New_York:20251130T120000
DTEND;TZID=America/New_York:20251130T130000
DTSTAMP:20260425T112806
CREATED:20240822T194825Z
LAST-MODIFIED:20240822T194848Z
UID:10000709-1764504000-1764507600@www.a2blue.org
SUMMARY:Donuts After Church
DESCRIPTION:Join us immediately after church for donuts and coffee from Washtenaw Dairy.
URL:https://www.a2blue.org/event/donuts-after-church-2-3/2025-11-30/
LOCATION:St. Clare/Temple Beth Emeth Social Hall\, 2309 Packard Street\, Ann Arbor\, MI\, 48104\, United States
CATEGORIES:connection
END:VEVENT
BEGIN:VEVENT
DTSTART;TZID=America/New_York:20251207T120000
DTEND;TZID=America/New_York:20251207T130000
DTSTAMP:20260425T112806
CREATED:20240822T194825Z
LAST-MODIFIED:20240822T194848Z
UID:10002261-1765108800-1765112400@www.a2blue.org
SUMMARY:Donuts After Church
DESCRIPTION:Join us immediately after church for donuts and coffee from Washtenaw Dairy.
URL:https://www.a2blue.org/event/donuts-after-church-2-3/2025-12-07/
LOCATION:St. Clare/Temple Beth Emeth Social Hall\, 2309 Packard Street\, Ann Arbor\, MI\, 48104\, United States
CATEGORIES:connection
END:VEVENT
BEGIN:VEVENT
DTSTART;TZID=America/New_York:20251213T190000
DTEND;TZID=America/New_York:20251213T220000
DTSTAMP:20260425T112806
CREATED:20251017T195636Z
LAST-MODIFIED:20251017T195636Z
UID:10002718-1765652400-1765663200@www.a2blue.org
SUMMARY:Film Club
DESCRIPTION:The Blue Ocean Film Club\, led by Dave Nelson and Tim Vaduva\, will be watching a film together at 7pm at Dave & Jenn Nelson’s house (in a neighborhood near the church). This month’s movie is TBD. If you’d like to join them\, reply to this email and I’ll connect you with Dave and Tim.
URL:https://www.a2blue.org/event/film-club-14/
LOCATION:Dave & Jenn Nelson’s
CATEGORIES:connection
END:VEVENT
BEGIN:VEVENT
DTSTART;TZID=America/New_York:20251214T120000
DTEND;TZID=America/New_York:20251214T130000
DTSTAMP:20260425T112806
CREATED:20240822T194825Z
LAST-MODIFIED:20240822T194848Z
UID:10000710-1765713600-1765717200@www.a2blue.org
SUMMARY:Donuts After Church
DESCRIPTION:Join us immediately after church for donuts and coffee from Washtenaw Dairy.
URL:https://www.a2blue.org/event/donuts-after-church-2-3/2025-12-14/
LOCATION:St. Clare/Temple Beth Emeth Social Hall\, 2309 Packard Street\, Ann Arbor\, MI\, 48104\, United States
CATEGORIES:connection
END:VEVENT
BEGIN:VEVENT
DTSTART;TZID=America/New_York:20251214T120000
DTEND;TZID=America/New_York:20251214T130000
DTSTAMP:20260425T112806
CREATED:20251017T195920Z
LAST-MODIFIED:20251017T195920Z
UID:10002719-1765713600-1765717200@www.a2blue.org
SUMMARY:Annual Christmas Cookie Exchange
DESCRIPTION:Annual Christmas Cookie Exchange Bring yourself and three dozen of your favorite homemade cookies to share with your Blue Ocean friends. You will swap your cookies for the other attendees’ cookies and take home a diverse assortment of homemade goodies just in time for Christmas! We welcome gluten free\, nut free\, and vegan options\, and will be sure those are clearly marked. If you don’t have time to make cookies\, we’ll have some available for snacking on  if you just want to stay after church and socialize.
URL:https://www.a2blue.org/event/annual-christmas-cookie-exchange-2/
LOCATION:St. Clare/Temple Beth Emeth Sanctuary\, 2309 Packard St\, Ann Arbor\, MI\, 48104\, United States
CATEGORIES:connection
END:VEVENT
BEGIN:VEVENT
DTSTART;TZID=America/New_York:20251216T193000
DTEND;TZID=America/New_York:20251216T203000
DTSTAMP:20260425T112806
CREATED:20251107T172235Z
LAST-MODIFIED:20251107T172235Z
UID:10002726-1765913400-1765917000@www.a2blue.org
SUMMARY:Zoomies Welcome Session
DESCRIPTION:Zoomies are invited to join Pastor Emily online at 7:30pm. Bring a hot beverage and come share a bit of your story. A link will be included in the weekly update closer to the date.
URL:https://www.a2blue.org/event/zoomies-welcome-session/
LOCATION:Zoom
CATEGORIES:connection,Zoom
END:VEVENT
BEGIN:VEVENT
DTSTART;VALUE=DATE:20251219
DTEND;VALUE=DATE:20251220
DTSTAMP:20260425T112806
CREATED:20251107T172454Z
LAST-MODIFIED:20251107T172454Z
UID:10002727-1766102400-1766188799@www.a2blue.org
SUMMARY:Christmas Carols and Hot Cider
DESCRIPTION:You’re invited to Emily and Rachel’s home in Ypsilanti for an outdoor gathering that will include hot cider\, Christmas Carols (Crystal’s leading carols!)\, and a bonfire. Stay tuned for more details.
URL:https://www.a2blue.org/event/christmas-carols-and-hot-cider/
LOCATION:Emily and Rachel’s House\, Ypsilanti
CATEGORIES:connection
END:VEVENT
BEGIN:VEVENT
DTSTART;TZID=America/New_York:20251221T120000
DTEND;TZID=America/New_York:20251221T130000
DTSTAMP:20260425T112806
CREATED:20240822T194825Z
LAST-MODIFIED:20240822T194848Z
UID:10002262-1766318400-1766322000@www.a2blue.org
SUMMARY:Donuts After Church
DESCRIPTION:Join us immediately after church for donuts and coffee from Washtenaw Dairy.
URL:https://www.a2blue.org/event/donuts-after-church-2-3/2025-12-21/
LOCATION:St. Clare/Temple Beth Emeth Social Hall\, 2309 Packard Street\, Ann Arbor\, MI\, 48104\, United States
CATEGORIES:connection
END:VEVENT
BEGIN:VEVENT
DTSTART;TZID=America/New_York:20251228T120000
DTEND;TZID=America/New_York:20251228T130000
DTSTAMP:20260425T112806
CREATED:20240822T194825Z
LAST-MODIFIED:20240822T194848Z
UID:10000711-1766923200-1766926800@www.a2blue.org
SUMMARY:Donuts After Church
DESCRIPTION:Join us immediately after church for donuts and coffee from Washtenaw Dairy.
URL:https://www.a2blue.org/event/donuts-after-church-2-3/2025-12-28/
LOCATION:St. Clare/Temple Beth Emeth Social Hall\, 2309 Packard Street\, Ann Arbor\, MI\, 48104\, United States
CATEGORIES:connection
END:VEVENT
BEGIN:VEVENT
DTSTART;TZID=America/New_York:20260104T120000
DTEND;TZID=America/New_York:20260104T130000
DTSTAMP:20260425T112806
CREATED:20240822T194825Z
LAST-MODIFIED:20240822T194848Z
UID:10002263-1767528000-1767531600@www.a2blue.org
SUMMARY:Donuts After Church
DESCRIPTION:Join us immediately after church for donuts and coffee from Washtenaw Dairy.
URL:https://www.a2blue.org/event/donuts-after-church-2-3/2026-01-04/
LOCATION:St. Clare/Temple Beth Emeth Social Hall\, 2309 Packard Street\, Ann Arbor\, MI\, 48104\, United States
CATEGORIES:connection
END:VEVENT
BEGIN:VEVENT
DTSTART;TZID=America/New_York:20260110T190000
DTEND;TZID=America/New_York:20260110T220000
DTSTAMP:20260425T112806
CREATED:20251107T173012Z
LAST-MODIFIED:20251107T173012Z
UID:10002729-1768071600-1768082400@www.a2blue.org
SUMMARY:Film Club
DESCRIPTION:The Blue Ocean Film Club\, led by Dave Nelson and Tim Vaduva\, will be watching a film together at 7pm at Dave & Jenn Nelson’s house (in a neighborhood near the church). This month’s movie is TBD. If you’d like to join them\, reply to the Weekly Update email to be connected with Dave and Tim.
URL:https://www.a2blue.org/event/film-club-15/
LOCATION:Dave & Jenn Nelson’s
CATEGORIES:connection
END:VEVENT
BEGIN:VEVENT
DTSTART;TZID=America/New_York:20260111T120000
DTEND;TZID=America/New_York:20260111T130000
DTSTAMP:20260425T112806
CREATED:20240822T194825Z
LAST-MODIFIED:20240822T194848Z
UID:10000712-1768132800-1768136400@www.a2blue.org
SUMMARY:Donuts After Church
DESCRIPTION:Join us immediately after church for donuts and coffee from Washtenaw Dairy.
URL:https://www.a2blue.org/event/donuts-after-church-2-3/2026-01-11/
LOCATION:St. Clare/Temple Beth Emeth Social Hall\, 2309 Packard Street\, Ann Arbor\, MI\, 48104\, United States
CATEGORIES:connection
END:VEVENT
BEGIN:VEVENT
DTSTART;TZID=America/New_York:20260118T120000
DTEND;TZID=America/New_York:20260118T130000
DTSTAMP:20260425T112806
CREATED:20240822T194825Z
LAST-MODIFIED:20240822T194848Z
UID:10002264-1768737600-1768741200@www.a2blue.org
SUMMARY:Donuts After Church
DESCRIPTION:Join us immediately after church for donuts and coffee from Washtenaw Dairy.
URL:https://www.a2blue.org/event/donuts-after-church-2-3/2026-01-18/
LOCATION:St. Clare/Temple Beth Emeth Social Hall\, 2309 Packard Street\, Ann Arbor\, MI\, 48104\, United States
CATEGORIES:connection
END:VEVENT
BEGIN:VEVENT
DTSTART;TZID=America/New_York:20260125T120000
DTEND;TZID=America/New_York:20260125T130000
DTSTAMP:20260425T112806
CREATED:20240822T194825Z
LAST-MODIFIED:20240822T194848Z
UID:10000713-1769342400-1769346000@www.a2blue.org
SUMMARY:Donuts After Church
DESCRIPTION:Join us immediately after church for donuts and coffee from Washtenaw Dairy.
URL:https://www.a2blue.org/event/donuts-after-church-2-3/2026-01-25/
LOCATION:St. Clare/Temple Beth Emeth Social Hall\, 2309 Packard Street\, Ann Arbor\, MI\, 48104\, United States
CATEGORIES:connection
END:VEVENT
BEGIN:VEVENT
DTSTART;TZID=America/New_York:20260201T120000
DTEND;TZID=America/New_York:20260201T130000
DTSTAMP:20260425T112806
CREATED:20240822T194825Z
LAST-MODIFIED:20240822T194848Z
UID:10002265-1769947200-1769950800@www.a2blue.org
SUMMARY:Donuts After Church
DESCRIPTION:Join us immediately after church for donuts and coffee from Washtenaw Dairy.
URL:https://www.a2blue.org/event/donuts-after-church-2-3/2026-02-01/
LOCATION:St. Clare/Temple Beth Emeth Social Hall\, 2309 Packard Street\, Ann Arbor\, MI\, 48104\, United States
CATEGORIES:connection
END:VEVENT
BEGIN:VEVENT
DTSTART;TZID=America/New_York:20260208T120000
DTEND;TZID=America/New_York:20260208T130000
DTSTAMP:20260425T112806
CREATED:20240822T194825Z
LAST-MODIFIED:20240822T194848Z
UID:10000714-1770552000-1770555600@www.a2blue.org
SUMMARY:Donuts After Church
DESCRIPTION:Join us immediately after church for donuts and coffee from Washtenaw Dairy.
URL:https://www.a2blue.org/event/donuts-after-church-2-3/2026-02-08/
LOCATION:St. Clare/Temple Beth Emeth Social Hall\, 2309 Packard Street\, Ann Arbor\, MI\, 48104\, United States
CATEGORIES:connection
END:VEVENT
BEGIN:VEVENT
DTSTART;TZID=America/New_York:20260214T190000
DTEND;TZID=America/New_York:20260214T213000
DTSTAMP:20260425T112806
CREATED:20260123T211658Z
LAST-MODIFIED:20260123T211658Z
UID:10002751-1771095600-1771104600@www.a2blue.org
SUMMARY:Film Club
DESCRIPTION:The Blue Ocean Film Club\, led by Dave Nelson and Tim Vaduva\, will be watching a film together at 7pm at Dave & Jenn Nelson’s house (in a neighborhood near the church). This month’s movie is TBD. If you’d like to join them\, reply to the weekly email to be connected with Dave and Tim.
URL:https://www.a2blue.org/event/film-club-16/
LOCATION:Dave & Jenn Nelson’s
CATEGORIES:connection
END:VEVENT
BEGIN:VEVENT
DTSTART;TZID=America/New_York:20260215T120000
DTEND;TZID=America/New_York:20260215T130000
DTSTAMP:20260425T112806
CREATED:20240822T194825Z
LAST-MODIFIED:20240822T194848Z
UID:10002266-1771156800-1771160400@www.a2blue.org
SUMMARY:Donuts After Church
DESCRIPTION:Join us immediately after church for donuts and coffee from Washtenaw Dairy.
URL:https://www.a2blue.org/event/donuts-after-church-2-3/2026-02-15/
LOCATION:St. Clare/Temple Beth Emeth Social Hall\, 2309 Packard Street\, Ann Arbor\, MI\, 48104\, United States
CATEGORIES:connection
END:VEVENT
BEGIN:VEVENT
DTSTART;TZID=America/New_York:20260222T120000
DTEND;TZID=America/New_York:20260222T130000
DTSTAMP:20260425T112806
CREATED:20240822T194825Z
LAST-MODIFIED:20240822T194848Z
UID:10000715-1771761600-1771765200@www.a2blue.org
SUMMARY:Donuts After Church
DESCRIPTION:Join us immediately after church for donuts and coffee from Washtenaw Dairy.
URL:https://www.a2blue.org/event/donuts-after-church-2-3/2026-02-22/
LOCATION:St. Clare/Temple Beth Emeth Social Hall\, 2309 Packard Street\, Ann Arbor\, MI\, 48104\, United States
CATEGORIES:connection
END:VEVENT
BEGIN:VEVENT
DTSTART;TZID=America/New_York:20260301T120000
DTEND;TZID=America/New_York:20260301T130000
DTSTAMP:20260425T112806
CREATED:20240822T194825Z
LAST-MODIFIED:20240822T194848Z
UID:10002267-1772366400-1772370000@www.a2blue.org
SUMMARY:Donuts After Church
DESCRIPTION:Join us immediately after church for donuts and coffee from Washtenaw Dairy.
URL:https://www.a2blue.org/event/donuts-after-church-2-3/2026-03-01/
LOCATION:St. Clare/Temple Beth Emeth Social Hall\, 2309 Packard Street\, Ann Arbor\, MI\, 48104\, United States
CATEGORIES:connection
END:VEVENT
BEGIN:VEVENT
DTSTART;TZID=America/New_York:20260308T120000
DTEND;TZID=America/New_York:20260308T130000
DTSTAMP:20260425T112806
CREATED:20240822T194825Z
LAST-MODIFIED:20240822T194848Z
UID:10000716-1772971200-1772974800@www.a2blue.org
SUMMARY:Donuts After Church
DESCRIPTION:Join us immediately after church for donuts and coffee from Washtenaw Dairy.
URL:https://www.a2blue.org/event/donuts-after-church-2-3/2026-03-08/
LOCATION:St. Clare/Temple Beth Emeth Social Hall\, 2309 Packard Street\, Ann Arbor\, MI\, 48104\, United States
CATEGORIES:connection
END:VEVENT
BEGIN:VEVENT
DTSTART;TZID=America/New_York:20260314T190000
DTEND;TZID=America/New_York:20260314T220000
DTSTAMP:20260425T112806
CREATED:20260226T182042Z
LAST-MODIFIED:20260226T182042Z
UID:10002753-1773514800-1773525600@www.a2blue.org
SUMMARY:Film Club
DESCRIPTION:The Blue Ocean Film Club\, led by Dave Nelson and Tim Vaduva\, will be watching a film together at Dave & Jenn Nelson’s house (in a neighborhood near the church). This month’s movie is TBD. If you’d like to join them\, reply to the weekly update email to be connected to Dave and Tim.
URL:https://www.a2blue.org/event/film-club-17/
LOCATION:Dave & Jenn Nelson’s
CATEGORIES:connection
END:VEVENT
BEGIN:VEVENT
DTSTART;TZID=America/New_York:20260315T120000
DTEND;TZID=America/New_York:20260315T130000
DTSTAMP:20260425T112806
CREATED:20240822T194825Z
LAST-MODIFIED:20240822T194848Z
UID:10002268-1773576000-1773579600@www.a2blue.org
SUMMARY:Donuts After Church
DESCRIPTION:Join us immediately after church for donuts and coffee from Washtenaw Dairy.
URL:https://www.a2blue.org/event/donuts-after-church-2-3/2026-03-15/
LOCATION:St. Clare/Temple Beth Emeth Social Hall\, 2309 Packard Street\, Ann Arbor\, MI\, 48104\, United States
CATEGORIES:connection
END:VEVENT
BEGIN:VEVENT
DTSTART;TZID=America/New_York:20260322T120000
DTEND;TZID=America/New_York:20260322T130000
DTSTAMP:20260425T112806
CREATED:20240822T194825Z
LAST-MODIFIED:20240822T194848Z
UID:10000717-1774180800-1774184400@www.a2blue.org
SUMMARY:Donuts After Church
DESCRIPTION:Join us immediately after church for donuts and coffee from Washtenaw Dairy.
URL:https://www.a2blue.org/event/donuts-after-church-2-3/2026-03-22/
LOCATION:St. Clare/Temple Beth Emeth Social Hall\, 2309 Packard Street\, Ann Arbor\, MI\, 48104\, United States
CATEGORIES:connection
END:VEVENT
BEGIN:VEVENT
DTSTART;TZID=America/New_York:20260322T120000
DTEND;TZID=America/New_York:20260322T140000
DTSTAMP:20260425T112806
CREATED:20260306T191911Z
LAST-MODIFIED:20260306T191911Z
UID:10002766-1774180800-1774188000@www.a2blue.org
SUMMARY:Potluck After Church
DESCRIPTION:After service we will be having a church-wide potluck! Bring a dish and or dessert to share and join us for a fun afternoon of food and fellowship.
URL:https://www.a2blue.org/event/potluck-after-church/
LOCATION:St. Clare/Temple Beth Emeth Social Hall\, 2309 Packard Street\, Ann Arbor\, MI\, 48104\, United States
CATEGORIES:connection
END:VEVENT
BEGIN:VEVENT
DTSTART;TZID=America/New_York:20260329T120000
DTEND;TZID=America/New_York:20260329T130000
DTSTAMP:20260425T112806
CREATED:20240822T194825Z
LAST-MODIFIED:20240822T194848Z
UID:10002269-1774785600-1774789200@www.a2blue.org
SUMMARY:Donuts After Church
DESCRIPTION:Join us immediately after church for donuts and coffee from Washtenaw Dairy.
URL:https://www.a2blue.org/event/donuts-after-church-2-3/2026-03-29/
LOCATION:St. Clare/Temple Beth Emeth Social Hall\, 2309 Packard Street\, Ann Arbor\, MI\, 48104\, United States
CATEGORIES:connection
END:VEVENT
BEGIN:VEVENT
DTSTART;TZID=America/New_York:20260405T120000
DTEND;TZID=America/New_York:20260405T130000
DTSTAMP:20260425T112806
CREATED:20240822T194825Z
LAST-MODIFIED:20240822T194848Z
UID:10000718-1775390400-1775394000@www.a2blue.org
SUMMARY:Donuts After Church
DESCRIPTION:Join us immediately after church for donuts and coffee from Washtenaw Dairy.
URL:https://www.a2blue.org/event/donuts-after-church-2-3/2026-04-05/
LOCATION:St. Clare/Temple Beth Emeth Social Hall\, 2309 Packard Street\, Ann Arbor\, MI\, 48104\, United States
CATEGORIES:connection
END:VEVENT
BEGIN:VEVENT
DTSTART;TZID=America/New_York:20260411T190000
DTEND;TZID=America/New_York:20260411T220000
DTSTAMP:20260425T112806
CREATED:20260226T183232Z
LAST-MODIFIED:20260226T183232Z
UID:10002761-1775934000-1775944800@www.a2blue.org
SUMMARY:Film Club
DESCRIPTION:The Blue Ocean Film Club\, led by Dave Nelson and Tim Vaduva\, will be watching a film together at 7pm at Dave & Jenn Nelson’s house (in a neighborhood near the church). This month’s movie is TBD. If you’d like to join them\, reply to the weekly update email to be connected with Dave and Tim.
URL:https://www.a2blue.org/event/film-club-18/
LOCATION:Dave & Jenn Nelson’s
CATEGORIES:connection
END:VEVENT
BEGIN:VEVENT
DTSTART;TZID=America/New_York:20260412T120000
DTEND;TZID=America/New_York:20260412T130000
DTSTAMP:20260425T112806
CREATED:20240822T194825Z
LAST-MODIFIED:20240822T194848Z
UID:10002270-1775995200-1775998800@www.a2blue.org
SUMMARY:Donuts After Church
DESCRIPTION:Join us immediately after church for donuts and coffee from Washtenaw Dairy.
URL:https://www.a2blue.org/event/donuts-after-church-2-3/2026-04-12/
LOCATION:St. Clare/Temple Beth Emeth Social Hall\, 2309 Packard Street\, Ann Arbor\, MI\, 48104\, United States
CATEGORIES:connection
END:VEVENT
END:VCALENDAR