BEGIN:VCALENDAR
VERSION:2.0
PRODID:-//Blue Ocean Church Ann Arbor - ECPv6.15.20//NONSGML v1.0//EN
CALSCALE:GREGORIAN
METHOD:PUBLISH
X-ORIGINAL-URL:https://www.a2blue.org
X-WR-CALDESC:Events for Blue Ocean Church Ann Arbor
REFRESH-INTERVAL;VALUE=DURATION:PT1H
X-Robots-Tag:noindex
X-PUBLISHED-TTL:PT1H
BEGIN:VTIMEZONE
TZID:America/New_York
BEGIN:DAYLIGHT
TZOFFSETFROM:-0500
TZOFFSETTO:-0400
TZNAME:EDT
DTSTART:20260308T070000
END:DAYLIGHT
BEGIN:STANDARD
TZOFFSETFROM:-0400
TZOFFSETTO:-0500
TZNAME:EST
DTSTART:20261101T060000
END:STANDARD
BEGIN:DAYLIGHT
TZOFFSETFROM:-0500
TZOFFSETTO:-0400
TZNAME:EDT
DTSTART:20270314T070000
END:DAYLIGHT
BEGIN:STANDARD
TZOFFSETFROM:-0400
TZOFFSETTO:-0500
TZNAME:EST
DTSTART:20271107T060000
END:STANDARD
BEGIN:DAYLIGHT
TZOFFSETFROM:-0500
TZOFFSETTO:-0400
TZNAME:EDT
DTSTART:20280312T070000
END:DAYLIGHT
BEGIN:STANDARD
TZOFFSETFROM:-0400
TZOFFSETTO:-0500
TZNAME:EST
DTSTART:20281105T060000
END:STANDARD
BEGIN:DAYLIGHT
TZOFFSETFROM:-0500
TZOFFSETTO:-0400
TZNAME:EDT
DTSTART:20290311T070000
END:DAYLIGHT
BEGIN:STANDARD
TZOFFSETFROM:-0400
TZOFFSETTO:-0500
TZNAME:EST
DTSTART:20291104T060000
END:STANDARD
END:VTIMEZONE
BEGIN:VEVENT
DTSTART;TZID=America/New_York:20270711T120000
DTEND;TZID=America/New_York:20270711T130000
DTSTAMP:20260425T110947
CREATED:20240822T194825Z
LAST-MODIFIED:20240822T194848Z
UID:10000751-1815307200-1815310800@www.a2blue.org
SUMMARY:Donuts After Church
DESCRIPTION:Join us immediately after church for donuts and coffee from Washtenaw Dairy.
URL:https://www.a2blue.org/event/donuts-after-church-2-3/2027-07-11/
LOCATION:St. Clare/Temple Beth Emeth Social Hall\, 2309 Packard Street\, Ann Arbor\, MI\, 48104\, United States
CATEGORIES:connection
END:VEVENT
BEGIN:VEVENT
DTSTART;TZID=America/New_York:20270718T120000
DTEND;TZID=America/New_York:20270718T130000
DTSTAMP:20260425T110947
CREATED:20240822T194825Z
LAST-MODIFIED:20240822T194848Z
UID:10002303-1815912000-1815915600@www.a2blue.org
SUMMARY:Donuts After Church
DESCRIPTION:Join us immediately after church for donuts and coffee from Washtenaw Dairy.
URL:https://www.a2blue.org/event/donuts-after-church-2-3/2027-07-18/
LOCATION:St. Clare/Temple Beth Emeth Social Hall\, 2309 Packard Street\, Ann Arbor\, MI\, 48104\, United States
CATEGORIES:connection
END:VEVENT
BEGIN:VEVENT
DTSTART;TZID=America/New_York:20270725T120000
DTEND;TZID=America/New_York:20270725T130000
DTSTAMP:20260425T110947
CREATED:20240822T194825Z
LAST-MODIFIED:20240822T194848Z
UID:10000752-1816516800-1816520400@www.a2blue.org
SUMMARY:Donuts After Church
DESCRIPTION:Join us immediately after church for donuts and coffee from Washtenaw Dairy.
URL:https://www.a2blue.org/event/donuts-after-church-2-3/2027-07-25/
LOCATION:St. Clare/Temple Beth Emeth Social Hall\, 2309 Packard Street\, Ann Arbor\, MI\, 48104\, United States
CATEGORIES:connection
END:VEVENT
BEGIN:VEVENT
DTSTART;TZID=America/New_York:20270801T120000
DTEND;TZID=America/New_York:20270801T130000
DTSTAMP:20260425T110947
CREATED:20240822T194825Z
LAST-MODIFIED:20240822T194848Z
UID:10002304-1817121600-1817125200@www.a2blue.org
SUMMARY:Donuts After Church
DESCRIPTION:Join us immediately after church for donuts and coffee from Washtenaw Dairy.
URL:https://www.a2blue.org/event/donuts-after-church-2-3/2027-08-01/
LOCATION:St. Clare/Temple Beth Emeth Social Hall\, 2309 Packard Street\, Ann Arbor\, MI\, 48104\, United States
CATEGORIES:connection
END:VEVENT
BEGIN:VEVENT
DTSTART;TZID=America/New_York:20270808T120000
DTEND;TZID=America/New_York:20270808T130000
DTSTAMP:20260425T110947
CREATED:20240822T194825Z
LAST-MODIFIED:20240822T194848Z
UID:10000753-1817726400-1817730000@www.a2blue.org
SUMMARY:Donuts After Church
DESCRIPTION:Join us immediately after church for donuts and coffee from Washtenaw Dairy.
URL:https://www.a2blue.org/event/donuts-after-church-2-3/2027-08-08/
LOCATION:St. Clare/Temple Beth Emeth Social Hall\, 2309 Packard Street\, Ann Arbor\, MI\, 48104\, United States
CATEGORIES:connection
END:VEVENT
BEGIN:VEVENT
DTSTART;TZID=America/New_York:20270815T120000
DTEND;TZID=America/New_York:20270815T130000
DTSTAMP:20260425T110947
CREATED:20240822T194825Z
LAST-MODIFIED:20240822T194848Z
UID:10002305-1818331200-1818334800@www.a2blue.org
SUMMARY:Donuts After Church
DESCRIPTION:Join us immediately after church for donuts and coffee from Washtenaw Dairy.
URL:https://www.a2blue.org/event/donuts-after-church-2-3/2027-08-15/
LOCATION:St. Clare/Temple Beth Emeth Social Hall\, 2309 Packard Street\, Ann Arbor\, MI\, 48104\, United States
CATEGORIES:connection
END:VEVENT
BEGIN:VEVENT
DTSTART;TZID=America/New_York:20270822T120000
DTEND;TZID=America/New_York:20270822T130000
DTSTAMP:20260425T110947
CREATED:20240822T194825Z
LAST-MODIFIED:20240822T194848Z
UID:10000754-1818936000-1818939600@www.a2blue.org
SUMMARY:Donuts After Church
DESCRIPTION:Join us immediately after church for donuts and coffee from Washtenaw Dairy.
URL:https://www.a2blue.org/event/donuts-after-church-2-3/2027-08-22/
LOCATION:St. Clare/Temple Beth Emeth Social Hall\, 2309 Packard Street\, Ann Arbor\, MI\, 48104\, United States
CATEGORIES:connection
END:VEVENT
BEGIN:VEVENT
DTSTART;TZID=America/New_York:20270829T120000
DTEND;TZID=America/New_York:20270829T130000
DTSTAMP:20260425T110947
CREATED:20240822T194825Z
LAST-MODIFIED:20240822T194848Z
UID:10002306-1819540800-1819544400@www.a2blue.org
SUMMARY:Donuts After Church
DESCRIPTION:Join us immediately after church for donuts and coffee from Washtenaw Dairy.
URL:https://www.a2blue.org/event/donuts-after-church-2-3/2027-08-29/
LOCATION:St. Clare/Temple Beth Emeth Social Hall\, 2309 Packard Street\, Ann Arbor\, MI\, 48104\, United States
CATEGORIES:connection
END:VEVENT
BEGIN:VEVENT
DTSTART;TZID=America/New_York:20270905T120000
DTEND;TZID=America/New_York:20270905T130000
DTSTAMP:20260425T110947
CREATED:20240822T194825Z
LAST-MODIFIED:20240822T194848Z
UID:10000755-1820145600-1820149200@www.a2blue.org
SUMMARY:Donuts After Church
DESCRIPTION:Join us immediately after church for donuts and coffee from Washtenaw Dairy.
URL:https://www.a2blue.org/event/donuts-after-church-2-3/2027-09-05/
LOCATION:St. Clare/Temple Beth Emeth Social Hall\, 2309 Packard Street\, Ann Arbor\, MI\, 48104\, United States
CATEGORIES:connection
END:VEVENT
BEGIN:VEVENT
DTSTART;TZID=America/New_York:20270912T120000
DTEND;TZID=America/New_York:20270912T130000
DTSTAMP:20260425T110947
CREATED:20240822T194825Z
LAST-MODIFIED:20240822T194848Z
UID:10002307-1820750400-1820754000@www.a2blue.org
SUMMARY:Donuts After Church
DESCRIPTION:Join us immediately after church for donuts and coffee from Washtenaw Dairy.
URL:https://www.a2blue.org/event/donuts-after-church-2-3/2027-09-12/
LOCATION:St. Clare/Temple Beth Emeth Social Hall\, 2309 Packard Street\, Ann Arbor\, MI\, 48104\, United States
CATEGORIES:connection
END:VEVENT
BEGIN:VEVENT
DTSTART;TZID=America/New_York:20270919T120000
DTEND;TZID=America/New_York:20270919T130000
DTSTAMP:20260425T110947
CREATED:20240822T194825Z
LAST-MODIFIED:20240822T194848Z
UID:10000756-1821355200-1821358800@www.a2blue.org
SUMMARY:Donuts After Church
DESCRIPTION:Join us immediately after church for donuts and coffee from Washtenaw Dairy.
URL:https://www.a2blue.org/event/donuts-after-church-2-3/2027-09-19/
LOCATION:St. Clare/Temple Beth Emeth Social Hall\, 2309 Packard Street\, Ann Arbor\, MI\, 48104\, United States
CATEGORIES:connection
END:VEVENT
BEGIN:VEVENT
DTSTART;TZID=America/New_York:20270926T120000
DTEND;TZID=America/New_York:20270926T130000
DTSTAMP:20260425T110947
CREATED:20240822T194825Z
LAST-MODIFIED:20240822T194848Z
UID:10002308-1821960000-1821963600@www.a2blue.org
SUMMARY:Donuts After Church
DESCRIPTION:Join us immediately after church for donuts and coffee from Washtenaw Dairy.
URL:https://www.a2blue.org/event/donuts-after-church-2-3/2027-09-26/
LOCATION:St. Clare/Temple Beth Emeth Social Hall\, 2309 Packard Street\, Ann Arbor\, MI\, 48104\, United States
CATEGORIES:connection
END:VEVENT
BEGIN:VEVENT
DTSTART;TZID=America/New_York:20271003T120000
DTEND;TZID=America/New_York:20271003T130000
DTSTAMP:20260425T110947
CREATED:20240822T194825Z
LAST-MODIFIED:20240822T194848Z
UID:10000757-1822564800-1822568400@www.a2blue.org
SUMMARY:Donuts After Church
DESCRIPTION:Join us immediately after church for donuts and coffee from Washtenaw Dairy.
URL:https://www.a2blue.org/event/donuts-after-church-2-3/2027-10-03/
LOCATION:St. Clare/Temple Beth Emeth Social Hall\, 2309 Packard Street\, Ann Arbor\, MI\, 48104\, United States
CATEGORIES:connection
END:VEVENT
BEGIN:VEVENT
DTSTART;TZID=America/New_York:20271010T120000
DTEND;TZID=America/New_York:20271010T130000
DTSTAMP:20260425T110947
CREATED:20240822T194825Z
LAST-MODIFIED:20240822T194848Z
UID:10002309-1823169600-1823173200@www.a2blue.org
SUMMARY:Donuts After Church
DESCRIPTION:Join us immediately after church for donuts and coffee from Washtenaw Dairy.
URL:https://www.a2blue.org/event/donuts-after-church-2-3/2027-10-10/
LOCATION:St. Clare/Temple Beth Emeth Social Hall\, 2309 Packard Street\, Ann Arbor\, MI\, 48104\, United States
CATEGORIES:connection
END:VEVENT
BEGIN:VEVENT
DTSTART;TZID=America/New_York:20271017T120000
DTEND;TZID=America/New_York:20271017T130000
DTSTAMP:20260425T110947
CREATED:20240822T194825Z
LAST-MODIFIED:20240822T194848Z
UID:10000758-1823774400-1823778000@www.a2blue.org
SUMMARY:Donuts After Church
DESCRIPTION:Join us immediately after church for donuts and coffee from Washtenaw Dairy.
URL:https://www.a2blue.org/event/donuts-after-church-2-3/2027-10-17/
LOCATION:St. Clare/Temple Beth Emeth Social Hall\, 2309 Packard Street\, Ann Arbor\, MI\, 48104\, United States
CATEGORIES:connection
END:VEVENT
BEGIN:VEVENT
DTSTART;TZID=America/New_York:20271024T120000
DTEND;TZID=America/New_York:20271024T130000
DTSTAMP:20260425T110947
CREATED:20240822T194825Z
LAST-MODIFIED:20240822T194848Z
UID:10002310-1824379200-1824382800@www.a2blue.org
SUMMARY:Donuts After Church
DESCRIPTION:Join us immediately after church for donuts and coffee from Washtenaw Dairy.
URL:https://www.a2blue.org/event/donuts-after-church-2-3/2027-10-24/
LOCATION:St. Clare/Temple Beth Emeth Social Hall\, 2309 Packard Street\, Ann Arbor\, MI\, 48104\, United States
CATEGORIES:connection
END:VEVENT
BEGIN:VEVENT
DTSTART;TZID=America/New_York:20271031T120000
DTEND;TZID=America/New_York:20271031T130000
DTSTAMP:20260425T110947
CREATED:20240822T194825Z
LAST-MODIFIED:20240822T194848Z
UID:10000759-1824984000-1824987600@www.a2blue.org
SUMMARY:Donuts After Church
DESCRIPTION:Join us immediately after church for donuts and coffee from Washtenaw Dairy.
URL:https://www.a2blue.org/event/donuts-after-church-2-3/2027-10-31/
LOCATION:St. Clare/Temple Beth Emeth Social Hall\, 2309 Packard Street\, Ann Arbor\, MI\, 48104\, United States
CATEGORIES:connection
END:VEVENT
BEGIN:VEVENT
DTSTART;TZID=America/New_York:20271107T120000
DTEND;TZID=America/New_York:20271107T130000
DTSTAMP:20260425T110947
CREATED:20240822T194825Z
LAST-MODIFIED:20240822T194848Z
UID:10002311-1825588800-1825592400@www.a2blue.org
SUMMARY:Donuts After Church
DESCRIPTION:Join us immediately after church for donuts and coffee from Washtenaw Dairy.
URL:https://www.a2blue.org/event/donuts-after-church-2-3/2027-11-07/
LOCATION:St. Clare/Temple Beth Emeth Social Hall\, 2309 Packard Street\, Ann Arbor\, MI\, 48104\, United States
CATEGORIES:connection
END:VEVENT
BEGIN:VEVENT
DTSTART;TZID=America/New_York:20271114T120000
DTEND;TZID=America/New_York:20271114T130000
DTSTAMP:20260425T110947
CREATED:20240822T194825Z
LAST-MODIFIED:20240822T194848Z
UID:10000760-1826193600-1826197200@www.a2blue.org
SUMMARY:Donuts After Church
DESCRIPTION:Join us immediately after church for donuts and coffee from Washtenaw Dairy.
URL:https://www.a2blue.org/event/donuts-after-church-2-3/2027-11-14/
LOCATION:St. Clare/Temple Beth Emeth Social Hall\, 2309 Packard Street\, Ann Arbor\, MI\, 48104\, United States
CATEGORIES:connection
END:VEVENT
BEGIN:VEVENT
DTSTART;TZID=America/New_York:20271121T120000
DTEND;TZID=America/New_York:20271121T130000
DTSTAMP:20260425T110947
CREATED:20240822T194825Z
LAST-MODIFIED:20240822T194848Z
UID:10002312-1826798400-1826802000@www.a2blue.org
SUMMARY:Donuts After Church
DESCRIPTION:Join us immediately after church for donuts and coffee from Washtenaw Dairy.
URL:https://www.a2blue.org/event/donuts-after-church-2-3/2027-11-21/
LOCATION:St. Clare/Temple Beth Emeth Social Hall\, 2309 Packard Street\, Ann Arbor\, MI\, 48104\, United States
CATEGORIES:connection
END:VEVENT
BEGIN:VEVENT
DTSTART;TZID=America/New_York:20271128T120000
DTEND;TZID=America/New_York:20271128T130000
DTSTAMP:20260425T110947
CREATED:20240822T194825Z
LAST-MODIFIED:20240822T194848Z
UID:10000761-1827403200-1827406800@www.a2blue.org
SUMMARY:Donuts After Church
DESCRIPTION:Join us immediately after church for donuts and coffee from Washtenaw Dairy.
URL:https://www.a2blue.org/event/donuts-after-church-2-3/2027-11-28/
LOCATION:St. Clare/Temple Beth Emeth Social Hall\, 2309 Packard Street\, Ann Arbor\, MI\, 48104\, United States
CATEGORIES:connection
END:VEVENT
BEGIN:VEVENT
DTSTART;TZID=America/New_York:20271205T120000
DTEND;TZID=America/New_York:20271205T130000
DTSTAMP:20260425T110947
CREATED:20240822T194825Z
LAST-MODIFIED:20240822T194848Z
UID:10002313-1828008000-1828011600@www.a2blue.org
SUMMARY:Donuts After Church
DESCRIPTION:Join us immediately after church for donuts and coffee from Washtenaw Dairy.
URL:https://www.a2blue.org/event/donuts-after-church-2-3/2027-12-05/
LOCATION:St. Clare/Temple Beth Emeth Social Hall\, 2309 Packard Street\, Ann Arbor\, MI\, 48104\, United States
CATEGORIES:connection
END:VEVENT
BEGIN:VEVENT
DTSTART;TZID=America/New_York:20271212T120000
DTEND;TZID=America/New_York:20271212T130000
DTSTAMP:20260425T110947
CREATED:20240822T194825Z
LAST-MODIFIED:20240822T194848Z
UID:10000762-1828612800-1828616400@www.a2blue.org
SUMMARY:Donuts After Church
DESCRIPTION:Join us immediately after church for donuts and coffee from Washtenaw Dairy.
URL:https://www.a2blue.org/event/donuts-after-church-2-3/2027-12-12/
LOCATION:St. Clare/Temple Beth Emeth Social Hall\, 2309 Packard Street\, Ann Arbor\, MI\, 48104\, United States
CATEGORIES:connection
END:VEVENT
BEGIN:VEVENT
DTSTART;TZID=America/New_York:20271219T120000
DTEND;TZID=America/New_York:20271219T130000
DTSTAMP:20260425T110947
CREATED:20240822T194825Z
LAST-MODIFIED:20240822T194848Z
UID:10002314-1829217600-1829221200@www.a2blue.org
SUMMARY:Donuts After Church
DESCRIPTION:Join us immediately after church for donuts and coffee from Washtenaw Dairy.
URL:https://www.a2blue.org/event/donuts-after-church-2-3/2027-12-19/
LOCATION:St. Clare/Temple Beth Emeth Social Hall\, 2309 Packard Street\, Ann Arbor\, MI\, 48104\, United States
CATEGORIES:connection
END:VEVENT
BEGIN:VEVENT
DTSTART;TZID=America/New_York:20271226T120000
DTEND;TZID=America/New_York:20271226T130000
DTSTAMP:20260425T110947
CREATED:20240822T194825Z
LAST-MODIFIED:20240822T194848Z
UID:10000763-1829822400-1829826000@www.a2blue.org
SUMMARY:Donuts After Church
DESCRIPTION:Join us immediately after church for donuts and coffee from Washtenaw Dairy.
URL:https://www.a2blue.org/event/donuts-after-church-2-3/2027-12-26/
LOCATION:St. Clare/Temple Beth Emeth Social Hall\, 2309 Packard Street\, Ann Arbor\, MI\, 48104\, United States
CATEGORIES:connection
END:VEVENT
BEGIN:VEVENT
DTSTART;TZID=America/New_York:20280102T120000
DTEND;TZID=America/New_York:20280102T130000
DTSTAMP:20260425T110947
CREATED:20240822T194825Z
LAST-MODIFIED:20240822T194848Z
UID:10002315-1830427200-1830430800@www.a2blue.org
SUMMARY:Donuts After Church
DESCRIPTION:Join us immediately after church for donuts and coffee from Washtenaw Dairy.
URL:https://www.a2blue.org/event/donuts-after-church-2-3/2028-01-02/
LOCATION:St. Clare/Temple Beth Emeth Social Hall\, 2309 Packard Street\, Ann Arbor\, MI\, 48104\, United States
CATEGORIES:connection
END:VEVENT
BEGIN:VEVENT
DTSTART;TZID=America/New_York:20280109T120000
DTEND;TZID=America/New_York:20280109T130000
DTSTAMP:20260425T110947
CREATED:20240822T194825Z
LAST-MODIFIED:20240822T194848Z
UID:10000764-1831032000-1831035600@www.a2blue.org
SUMMARY:Donuts After Church
DESCRIPTION:Join us immediately after church for donuts and coffee from Washtenaw Dairy.
URL:https://www.a2blue.org/event/donuts-after-church-2-3/2028-01-09/
LOCATION:St. Clare/Temple Beth Emeth Social Hall\, 2309 Packard Street\, Ann Arbor\, MI\, 48104\, United States
CATEGORIES:connection
END:VEVENT
BEGIN:VEVENT
DTSTART;TZID=America/New_York:20280116T120000
DTEND;TZID=America/New_York:20280116T130000
DTSTAMP:20260425T110947
CREATED:20240822T194825Z
LAST-MODIFIED:20240822T194848Z
UID:10002316-1831636800-1831640400@www.a2blue.org
SUMMARY:Donuts After Church
DESCRIPTION:Join us immediately after church for donuts and coffee from Washtenaw Dairy.
URL:https://www.a2blue.org/event/donuts-after-church-2-3/2028-01-16/
LOCATION:St. Clare/Temple Beth Emeth Social Hall\, 2309 Packard Street\, Ann Arbor\, MI\, 48104\, United States
CATEGORIES:connection
END:VEVENT
BEGIN:VEVENT
DTSTART;TZID=America/New_York:20280123T120000
DTEND;TZID=America/New_York:20280123T130000
DTSTAMP:20260425T110947
CREATED:20240822T194825Z
LAST-MODIFIED:20240822T194848Z
UID:10000765-1832241600-1832245200@www.a2blue.org
SUMMARY:Donuts After Church
DESCRIPTION:Join us immediately after church for donuts and coffee from Washtenaw Dairy.
URL:https://www.a2blue.org/event/donuts-after-church-2-3/2028-01-23/
LOCATION:St. Clare/Temple Beth Emeth Social Hall\, 2309 Packard Street\, Ann Arbor\, MI\, 48104\, United States
CATEGORIES:connection
END:VEVENT
BEGIN:VEVENT
DTSTART;TZID=America/New_York:20280130T120000
DTEND;TZID=America/New_York:20280130T130000
DTSTAMP:20260425T110947
CREATED:20240822T194825Z
LAST-MODIFIED:20240822T194848Z
UID:10002317-1832846400-1832850000@www.a2blue.org
SUMMARY:Donuts After Church
DESCRIPTION:Join us immediately after church for donuts and coffee from Washtenaw Dairy.
URL:https://www.a2blue.org/event/donuts-after-church-2-3/2028-01-30/
LOCATION:St. Clare/Temple Beth Emeth Social Hall\, 2309 Packard Street\, Ann Arbor\, MI\, 48104\, United States
CATEGORIES:connection
END:VEVENT
END:VCALENDAR