BEGIN:VCALENDAR
VERSION:2.0
PRODID:-//Blue Ocean Church Ann Arbor - ECPv6.15.20//NONSGML v1.0//EN
CALSCALE:GREGORIAN
METHOD:PUBLISH
X-WR-CALNAME:Blue Ocean Church Ann Arbor
X-ORIGINAL-URL:https://www.a2blue.org
X-WR-CALDESC:Events for Blue Ocean Church Ann Arbor
REFRESH-INTERVAL;VALUE=DURATION:PT1H
X-Robots-Tag:noindex
X-PUBLISHED-TTL:PT1H
BEGIN:VTIMEZONE
TZID:America/New_York
BEGIN:DAYLIGHT
TZOFFSETFROM:-0500
TZOFFSETTO:-0400
TZNAME:EDT
DTSTART:20240310T070000
END:DAYLIGHT
BEGIN:STANDARD
TZOFFSETFROM:-0400
TZOFFSETTO:-0500
TZNAME:EST
DTSTART:20241103T060000
END:STANDARD
BEGIN:DAYLIGHT
TZOFFSETFROM:-0500
TZOFFSETTO:-0400
TZNAME:EDT
DTSTART:20250309T070000
END:DAYLIGHT
BEGIN:STANDARD
TZOFFSETFROM:-0400
TZOFFSETTO:-0500
TZNAME:EST
DTSTART:20251102T060000
END:STANDARD
BEGIN:DAYLIGHT
TZOFFSETFROM:-0500
TZOFFSETTO:-0400
TZNAME:EDT
DTSTART:20260308T070000
END:DAYLIGHT
BEGIN:STANDARD
TZOFFSETFROM:-0400
TZOFFSETTO:-0500
TZNAME:EST
DTSTART:20261101T060000
END:STANDARD
END:VTIMEZONE
BEGIN:VEVENT
DTSTART;TZID=America/New_York:20250504T120000
DTEND;TZID=America/New_York:20250504T130000
DTSTAMP:20260425T112438
CREATED:20240822T194825Z
LAST-MODIFIED:20240822T194848Z
UID:10000694-1746360000-1746363600@www.a2blue.org
SUMMARY:Donuts After Church
DESCRIPTION:Join us immediately after church for donuts and coffee from Washtenaw Dairy.
URL:https://www.a2blue.org/event/donuts-after-church-2-3/2025-05-04/
LOCATION:St. Clare/Temple Beth Emeth Social Hall\, 2309 Packard Street\, Ann Arbor\, MI\, 48104\, United States
CATEGORIES:connection
END:VEVENT
BEGIN:VEVENT
DTSTART;TZID=America/New_York:20250427T120000
DTEND;TZID=America/New_York:20250427T130000
DTSTAMP:20260425T112438
CREATED:20250228T220647Z
LAST-MODIFIED:20250411T204224Z
UID:10002534-1745755200-1745758800@www.a2blue.org
SUMMARY:Salad Potluck After Church with St. Clare's and Temple Beth Emeth
DESCRIPTION:Join us immediately after the service for a celebration of salads (including leafy salads\, pasta salads\, grain salads\, and so on). This is part of a series of plant-based potlucks we’ve been doing with the other congregations\, spearheaded by the Earth Care group at Blue Ocean and their counterparts at St.C and TBE. Bring your favorite salad to share\, or simply show up\, enjoy the food\, and connect with others. \nAlso\, bring your own beverage if you can; we’ll still provide water. And\, if you can\, join the Genesis Grounds volunteers for Spring Clean-up after lunch. \nVisit the Signup Genius Form to sign up. Please comment during sign-up with what you’re bringing to help avoid too many duplicates.
URL:https://www.a2blue.org/event/salad-potluck-after-church-with-st-clares-and-temple-beth-emeth/
LOCATION:St. Clare/Temple Beth Emeth Social Hall\, 2309 Packard Street\, Ann Arbor\, MI\, 48104\, United States
CATEGORIES:connection
END:VEVENT
BEGIN:VEVENT
DTSTART;TZID=America/New_York:20250427T120000
DTEND;TZID=America/New_York:20250427T130000
DTSTAMP:20260425T112438
CREATED:20240822T194825Z
LAST-MODIFIED:20240822T194848Z
UID:10002245-1745755200-1745758800@www.a2blue.org
SUMMARY:Donuts After Church
DESCRIPTION:Join us immediately after church for donuts and coffee from Washtenaw Dairy.
URL:https://www.a2blue.org/event/donuts-after-church-2-3/2025-04-27/
LOCATION:St. Clare/Temple Beth Emeth Social Hall\, 2309 Packard Street\, Ann Arbor\, MI\, 48104\, United States
CATEGORIES:connection
END:VEVENT
BEGIN:VEVENT
DTSTART;TZID=America/New_York:20250420T120000
DTEND;TZID=America/New_York:20250420T130000
DTSTAMP:20260425T112438
CREATED:20240822T194825Z
LAST-MODIFIED:20240822T194848Z
UID:10000693-1745150400-1745154000@www.a2blue.org
SUMMARY:Donuts After Church
DESCRIPTION:Join us immediately after church for donuts and coffee from Washtenaw Dairy.
URL:https://www.a2blue.org/event/donuts-after-church-2-3/2025-04-20/
LOCATION:St. Clare/Temple Beth Emeth Social Hall\, 2309 Packard Street\, Ann Arbor\, MI\, 48104\, United States
CATEGORIES:connection
END:VEVENT
BEGIN:VEVENT
DTSTART;TZID=America/New_York:20250419T190000
DTEND;TZID=America/New_York:20250419T210000
DTSTAMP:20260425T112438
CREATED:20250208T213143Z
LAST-MODIFIED:20250208T213143Z
UID:10002507-1745089200-1745096400@www.a2blue.org
SUMMARY:Film Club
DESCRIPTION:The Blue Ocean Film Club\, led by Dave Nelson and Tim Vaduva\, will be watching a film together at 7pm at Dave & Jenn Nelson’s house (in a neighborhood near the church). This month’s movie is TBD. Reply to the Weekly Updates email for more information.
URL:https://www.a2blue.org/event/film-club-5/
LOCATION:Dave & Jenn Nelson’s
CATEGORIES:connection
END:VEVENT
BEGIN:VEVENT
DTSTART;TZID=America/New_York:20250413T120000
DTEND;TZID=America/New_York:20250413T130000
DTSTAMP:20260425T112438
CREATED:20250208T211939Z
LAST-MODIFIED:20250208T211939Z
UID:10002505-1744545600-1744549200@www.a2blue.org
SUMMARY:Translocal Connection (TLC)
DESCRIPTION:The TLC small group will meet immediately after church via Zoom from for connection and guided discussion. All are welcome.
URL:https://www.a2blue.org/event/translocal-connection-tlc-4/
LOCATION:Zoom
CATEGORIES:connection,Zoom
END:VEVENT
BEGIN:VEVENT
DTSTART;TZID=America/New_York:20250413T120000
DTEND;TZID=America/New_York:20250413T130000
DTSTAMP:20260425T112438
CREATED:20240822T194825Z
LAST-MODIFIED:20240822T194848Z
UID:10002244-1744545600-1744549200@www.a2blue.org
SUMMARY:Donuts After Church
DESCRIPTION:Join us immediately after church for donuts and coffee from Washtenaw Dairy.
URL:https://www.a2blue.org/event/donuts-after-church-2-3/2025-04-13/
LOCATION:St. Clare/Temple Beth Emeth Social Hall\, 2309 Packard Street\, Ann Arbor\, MI\, 48104\, United States
CATEGORIES:connection
END:VEVENT
BEGIN:VEVENT
DTSTART;TZID=America/New_York:20250406T120000
DTEND;TZID=America/New_York:20250406T130000
DTSTAMP:20260425T112438
CREATED:20240822T194825Z
LAST-MODIFIED:20240822T194848Z
UID:10000692-1743940800-1743944400@www.a2blue.org
SUMMARY:Donuts After Church
DESCRIPTION:Join us immediately after church for donuts and coffee from Washtenaw Dairy.
URL:https://www.a2blue.org/event/donuts-after-church-2-3/2025-04-06/
LOCATION:St. Clare/Temple Beth Emeth Social Hall\, 2309 Packard Street\, Ann Arbor\, MI\, 48104\, United States
CATEGORIES:connection
END:VEVENT
BEGIN:VEVENT
DTSTART;TZID=America/New_York:20250330T120000
DTEND;TZID=America/New_York:20250330T130000
DTSTAMP:20260425T112438
CREATED:20240822T194825Z
LAST-MODIFIED:20240822T194848Z
UID:10002243-1743336000-1743339600@www.a2blue.org
SUMMARY:Donuts After Church
DESCRIPTION:Join us immediately after church for donuts and coffee from Washtenaw Dairy.
URL:https://www.a2blue.org/event/donuts-after-church-2-3/2025-03-30/
LOCATION:St. Clare/Temple Beth Emeth Social Hall\, 2309 Packard Street\, Ann Arbor\, MI\, 48104\, United States
CATEGORIES:connection
END:VEVENT
BEGIN:VEVENT
DTSTART;TZID=America/New_York:20250328T183000
DTEND;TZID=America/New_York:20250328T200000
DTSTAMP:20260425T112438
CREATED:20250228T215616Z
LAST-MODIFIED:20250228T215616Z
UID:10002525-1743186600-1743192000@www.a2blue.org
SUMMARY:In-Person Queer Meetup
DESCRIPTION:Our next in-person Queer Meetup will be from 6:30-8pm at the Corner Brewery in Ypsilanti. If you have any questions\, please reach out to El at el@a2blue.org. This gathering is for 18 and up
URL:https://www.a2blue.org/event/in-person-queer-meetup/
LOCATION:Corner Brewery\, 720 Norris Street\, Ypsilanti\, MI\, 48198
CATEGORIES:connection
ORGANIZER;CN="El Costanzo":MAILTO:be.still.costanzo@gmail.com
END:VEVENT
BEGIN:VEVENT
DTSTART;TZID=America/New_York:20250323T120000
DTEND;TZID=America/New_York:20250323T130000
DTSTAMP:20260425T112438
CREATED:20240822T194825Z
LAST-MODIFIED:20240822T194848Z
UID:10000691-1742731200-1742734800@www.a2blue.org
SUMMARY:Donuts After Church
DESCRIPTION:Join us immediately after church for donuts and coffee from Washtenaw Dairy.
URL:https://www.a2blue.org/event/donuts-after-church-2-3/2025-03-23/
LOCATION:St. Clare/Temple Beth Emeth Social Hall\, 2309 Packard Street\, Ann Arbor\, MI\, 48104\, United States
CATEGORIES:connection
END:VEVENT
BEGIN:VEVENT
DTSTART;TZID=America/New_York:20250322T190000
DTEND;TZID=America/New_York:20250322T210000
DTSTAMP:20260425T112438
CREATED:20250228T215408Z
LAST-MODIFIED:20250228T215408Z
UID:10002524-1742670000-1742677200@www.a2blue.org
SUMMARY:Film Club
DESCRIPTION:The Blue Ocean Film Club\, led by Dave Nelson and Tim Vaduva\, will be watching a film together at 7pm at Dave & Jenn Nelson’s house (in a neighborhood near the church). This month’s movie is In Bruges (2008). Contact the church to be connected to Dave and Tim if you’re interested in attending.
URL:https://www.a2blue.org/event/film-club-6/
LOCATION:Dave & Jenn Nelson’s
CATEGORIES:connection
END:VEVENT
BEGIN:VEVENT
DTSTART;TZID=America/New_York:20250316T123000
DTEND;TZID=America/New_York:20250316T150000
DTSTAMP:20260425T112438
CREATED:20250316T011358Z
LAST-MODIFIED:20250316T011358Z
UID:10002536-1742128200-1742137200@www.a2blue.org
SUMMARY:Visit to Critter House at Leslie Science Center
DESCRIPTION:Join us for a family-friendly event at Leslie Science center\, led by our Earth Care group. Head over after church with a packed lunch (or pick some up on the way) and stay as long as you want! Suggested donation is $5 per person\, $20 per family.
URL:https://www.a2blue.org/event/visit-to-critter-house-at-leslie-science-center/
LOCATION:Leslie Science Center\, 1831 Traver Rd\, Ann Arbor\, MI\, 48105\, United States
CATEGORIES:connection,families
END:VEVENT
BEGIN:VEVENT
DTSTART;TZID=America/New_York:20250316T120000
DTEND;TZID=America/New_York:20250316T130000
DTSTAMP:20260425T112438
CREATED:20240822T194825Z
LAST-MODIFIED:20240822T194848Z
UID:10002242-1742126400-1742130000@www.a2blue.org
SUMMARY:Donuts After Church
DESCRIPTION:Join us immediately after church for donuts and coffee from Washtenaw Dairy.
URL:https://www.a2blue.org/event/donuts-after-church-2-3/2025-03-16/
LOCATION:St. Clare/Temple Beth Emeth Social Hall\, 2309 Packard Street\, Ann Arbor\, MI\, 48104\, United States
CATEGORIES:connection
END:VEVENT
BEGIN:VEVENT
DTSTART;TZID=America/New_York:20250315T190000
DTEND;TZID=America/New_York:20250315T210000
DTSTAMP:20260425T112438
CREATED:20250208T211437Z
LAST-MODIFIED:20250208T211437Z
UID:10002504-1742065200-1742072400@www.a2blue.org
SUMMARY:Film Club
DESCRIPTION:The Blue Ocean Film Club\, led by Dave Nelson and Tim Vaduva\, will be watching a film together at Dave & Jenn Nelson’s house (in a neighborhood near the church). This month’s movie is TBD. If you’d like to join them\, reply to the weekly email for more information.
URL:https://www.a2blue.org/event/film-club-4/
LOCATION:Dave & Jenn Nelson’s
CATEGORIES:connection
END:VEVENT
BEGIN:VEVENT
DTSTART;TZID=America/New_York:20250309T120000
DTEND;TZID=America/New_York:20250309T130000
DTSTAMP:20260425T112438
CREATED:20250123T210231Z
LAST-MODIFIED:20250123T210231Z
UID:10002502-1741521600-1741525200@www.a2blue.org
SUMMARY:Translocal Connection (TLC)
DESCRIPTION:The TLC small group will meet immediately after church via Zoom for connection and guided discussion. All are welcome.
URL:https://www.a2blue.org/event/translocal-connection-tlc-3/
LOCATION:Zoom
CATEGORIES:connection,Zoom
END:VEVENT
BEGIN:VEVENT
DTSTART;TZID=America/New_York:20250309T120000
DTEND;TZID=America/New_York:20250309T130000
DTSTAMP:20260425T112438
CREATED:20240822T194825Z
LAST-MODIFIED:20240822T194848Z
UID:10000690-1741521600-1741525200@www.a2blue.org
SUMMARY:Donuts After Church
DESCRIPTION:Join us immediately after church for donuts and coffee from Washtenaw Dairy.
URL:https://www.a2blue.org/event/donuts-after-church-2-3/2025-03-09/
LOCATION:St. Clare/Temple Beth Emeth Social Hall\, 2309 Packard Street\, Ann Arbor\, MI\, 48104\, United States
CATEGORIES:connection
END:VEVENT
BEGIN:VEVENT
DTSTART;TZID=America/New_York:20250302T120000
DTEND;TZID=America/New_York:20250302T130000
DTSTAMP:20260425T112438
CREATED:20240822T194825Z
LAST-MODIFIED:20240822T194848Z
UID:10002241-1740916800-1740920400@www.a2blue.org
SUMMARY:Donuts After Church
DESCRIPTION:Join us immediately after church for donuts and coffee from Washtenaw Dairy.
URL:https://www.a2blue.org/event/donuts-after-church-2-3/2025-03-02/
LOCATION:St. Clare/Temple Beth Emeth Social Hall\, 2309 Packard Street\, Ann Arbor\, MI\, 48104\, United States
CATEGORIES:connection
END:VEVENT
BEGIN:VEVENT
DTSTART;TZID=America/New_York:20250228T190000
DTEND;TZID=America/New_York:20250228T210000
DTSTAMP:20260425T112438
CREATED:20250123T203901Z
LAST-MODIFIED:20250123T203901Z
UID:10002495-1740769200-1740776400@www.a2blue.org
SUMMARY:Game Night at the Corner
DESCRIPTION:We’ll host Friday game night at the Corner Brewery from 7-9pm. We’ve reserved space inside. Kids welcome. Bring your favorite games and come connect.
URL:https://www.a2blue.org/event/game-night-at-the-corner-8/
LOCATION:Corner Brewery\, 720 Norris Street\, Ypsilanti\, MI\, 48198
CATEGORIES:connection
END:VEVENT
BEGIN:VEVENT
DTSTART;TZID=America/New_York:20250223T120000
DTEND;TZID=America/New_York:20250223T130000
DTSTAMP:20260425T112438
CREATED:20240822T194825Z
LAST-MODIFIED:20240822T194848Z
UID:10000689-1740312000-1740315600@www.a2blue.org
SUMMARY:Donuts After Church
DESCRIPTION:Join us immediately after church for donuts and coffee from Washtenaw Dairy.
URL:https://www.a2blue.org/event/donuts-after-church-2-3/2025-02-23/
LOCATION:St. Clare/Temple Beth Emeth Social Hall\, 2309 Packard Street\, Ann Arbor\, MI\, 48104\, United States
CATEGORIES:connection
END:VEVENT
BEGIN:VEVENT
DTSTART;TZID=America/New_York:20250216T120000
DTEND;TZID=America/New_York:20250216T130000
DTSTAMP:20260425T112438
CREATED:20240822T194825Z
LAST-MODIFIED:20240822T194848Z
UID:10002240-1739707200-1739710800@www.a2blue.org
SUMMARY:Donuts After Church
DESCRIPTION:Join us immediately after church for donuts and coffee from Washtenaw Dairy.
URL:https://www.a2blue.org/event/donuts-after-church-2-3/2025-02-16/
LOCATION:St. Clare/Temple Beth Emeth Social Hall\, 2309 Packard Street\, Ann Arbor\, MI\, 48104\, United States
CATEGORIES:connection
END:VEVENT
BEGIN:VEVENT
DTSTART;TZID=America/New_York:20250215T190000
DTEND;TZID=America/New_York:20250215T210000
DTSTAMP:20260425T112438
CREATED:20250208T205856Z
LAST-MODIFIED:20250208T205856Z
UID:10002503-1739646000-1739653200@www.a2blue.org
SUMMARY:Film Club
DESCRIPTION:The Blue Ocean Film Club\, led by Dave Nelson and Tim Vaduva\, will be watching their fourth film together at Dave & Jenn Nelson’s house (in a neighborhood near the church). This month’s movie will be Me\, Earl\, and the Dying Girl. If you’d like to join them\, reply to the weekly email for more information.
URL:https://www.a2blue.org/event/film-club-3/
LOCATION:Dave & Jenn Nelson’s
CATEGORIES:connection
END:VEVENT
BEGIN:VEVENT
DTSTART;TZID=America/New_York:20250209T120000
DTEND;TZID=America/New_York:20250209T130000
DTSTAMP:20260425T112438
CREATED:20250123T210033Z
LAST-MODIFIED:20250123T210033Z
UID:10002501-1739102400-1739106000@www.a2blue.org
SUMMARY:Translocal Connection (TLC)
DESCRIPTION:The TLC small group will meet immediately after church via Zoom for connection and guided discussion. All are welcome.
URL:https://www.a2blue.org/event/translocal-connection-tlc-2/
LOCATION:Zoom
CATEGORIES:connection,Zoom
END:VEVENT
BEGIN:VEVENT
DTSTART;TZID=America/New_York:20250209T120000
DTEND;TZID=America/New_York:20250209T130000
DTSTAMP:20260425T112438
CREATED:20240822T194825Z
LAST-MODIFIED:20240822T194848Z
UID:10000688-1739102400-1739106000@www.a2blue.org
SUMMARY:Donuts After Church
DESCRIPTION:Join us immediately after church for donuts and coffee from Washtenaw Dairy.
URL:https://www.a2blue.org/event/donuts-after-church-2-3/2025-02-09/
LOCATION:St. Clare/Temple Beth Emeth Social Hall\, 2309 Packard Street\, Ann Arbor\, MI\, 48104\, United States
CATEGORIES:connection
END:VEVENT
BEGIN:VEVENT
DTSTART;TZID=America/New_York:20250207T183000
DTEND;TZID=America/New_York:20250207T200000
DTSTAMP:20260425T112438
CREATED:20250123T203449Z
LAST-MODIFIED:20250123T203449Z
UID:10002494-1738953000-1738958400@www.a2blue.org
SUMMARY:Queer Meetup at Corner Brewery
DESCRIPTION:Our next in-person Queer Meetup will be from 6:30-8pm at the Corner Brewery in Ypsilanti. If you have any questions\, please reach out to El at el@a2blue.org. This gathering is for 18 and up.
URL:https://www.a2blue.org/event/queer-meetup-at-corner-brewery/
LOCATION:Corner Brewery\, 720 Norris Street\, Ypsilanti\, MI\, 48198
CATEGORIES:connection
ORGANIZER;CN="El Costanzo":MAILTO:be.still.costanzo@gmail.com
END:VEVENT
BEGIN:VEVENT
DTSTART;TZID=America/New_York:20250202T120000
DTEND;TZID=America/New_York:20250202T130000
DTSTAMP:20260425T112438
CREATED:20240822T194825Z
LAST-MODIFIED:20240822T194848Z
UID:10002239-1738497600-1738501200@www.a2blue.org
SUMMARY:Donuts After Church
DESCRIPTION:Join us immediately after church for donuts and coffee from Washtenaw Dairy.
URL:https://www.a2blue.org/event/donuts-after-church-2-3/2025-02-02/
LOCATION:St. Clare/Temple Beth Emeth Social Hall\, 2309 Packard Street\, Ann Arbor\, MI\, 48104\, United States
CATEGORIES:connection
END:VEVENT
BEGIN:VEVENT
DTSTART;TZID=America/New_York:20250128T183000
DTEND;TZID=America/New_York:20250128T200000
DTSTAMP:20260425T112438
CREATED:20250123T203047Z
LAST-MODIFIED:20250123T203555Z
UID:10002493-1738089000-1738094400@www.a2blue.org
SUMMARY:Queer Meetup on Zoom
DESCRIPTION:This is a time for queer folks to gather in community; we’ll meet via Zoom from 6:30-8pm. Reach out to El at el@a2blue.org if you would like to attend\, and he will send you the Zoom link.
URL:https://www.a2blue.org/event/zoom-queer-meetup/
LOCATION:Zoom
CATEGORIES:connection,Zoom
ORGANIZER;CN="El Costanzo":MAILTO:be.still.costanzo@gmail.com
END:VEVENT
BEGIN:VEVENT
DTSTART;TZID=America/New_York:20250126T120000
DTEND;TZID=America/New_York:20250126T130000
DTSTAMP:20260425T112438
CREATED:20250117T181308Z
LAST-MODIFIED:20250117T181308Z
UID:10002492-1737892800-1737896400@www.a2blue.org
SUMMARY:Post-Inauguration Processing
DESCRIPTION:Post-Inauguration Processing As we move through a time of transition in Washington and reflect on the inauguration and transfer of power in our nation\, we understand that these moments can bring a range of emotions. You’re invited to join El Costanzo\, our intern\, and Ken Wilson after church in the youth lounge for a special gathering where we can share\, listen\, and support one another in a safe and loving space. Zooomies are welcome to stay online after service to gather with Susan King\, Caroline Nelson\, and Rose Anne Jesenovec.
URL:https://www.a2blue.org/event/post-inauguration-processing/
LOCATION:Youth Lounge\, 2309 Packard St\, Ann Arbor\, MI\, 48104\, United States
CATEGORIES:connection
ORGANIZER;CN="El Costanzo":MAILTO:be.still.costanzo@gmail.com
END:VEVENT
BEGIN:VEVENT
DTSTART;TZID=America/New_York:20250126T120000
DTEND;TZID=America/New_York:20250126T130000
DTSTAMP:20260425T112438
CREATED:20240822T194825Z
LAST-MODIFIED:20240822T194848Z
UID:10000687-1737892800-1737896400@www.a2blue.org
SUMMARY:Donuts After Church
DESCRIPTION:Join us immediately after church for donuts and coffee from Washtenaw Dairy.
URL:https://www.a2blue.org/event/donuts-after-church-2-3/2025-01-26/
LOCATION:St. Clare/Temple Beth Emeth Social Hall\, 2309 Packard Street\, Ann Arbor\, MI\, 48104\, United States
CATEGORIES:connection
END:VEVENT
BEGIN:VEVENT
DTSTART;TZID=America/New_York:20250119T120000
DTEND;TZID=America/New_York:20250119T130000
DTSTAMP:20260425T112438
CREATED:20240822T194825Z
LAST-MODIFIED:20240822T194848Z
UID:10002238-1737288000-1737291600@www.a2blue.org
SUMMARY:Donuts After Church
DESCRIPTION:Join us immediately after church for donuts and coffee from Washtenaw Dairy.
URL:https://www.a2blue.org/event/donuts-after-church-2-3/2025-01-19/
LOCATION:St. Clare/Temple Beth Emeth Social Hall\, 2309 Packard Street\, Ann Arbor\, MI\, 48104\, United States
CATEGORIES:connection
END:VEVENT
END:VCALENDAR