BEGIN:VCALENDAR
VERSION:2.0
PRODID:-//Blue Ocean Church Ann Arbor - ECPv6.15.20//NONSGML v1.0//EN
CALSCALE:GREGORIAN
METHOD:PUBLISH
X-ORIGINAL-URL:https://www.a2blue.org
X-WR-CALDESC:Events for Blue Ocean Church Ann Arbor
REFRESH-INTERVAL;VALUE=DURATION:PT1H
X-Robots-Tag:noindex
X-PUBLISHED-TTL:PT1H
BEGIN:VTIMEZONE
TZID:America/New_York
BEGIN:DAYLIGHT
TZOFFSETFROM:-0500
TZOFFSETTO:-0400
TZNAME:EDT
DTSTART:20240310T070000
END:DAYLIGHT
BEGIN:STANDARD
TZOFFSETFROM:-0400
TZOFFSETTO:-0500
TZNAME:EST
DTSTART:20241103T060000
END:STANDARD
BEGIN:DAYLIGHT
TZOFFSETFROM:-0500
TZOFFSETTO:-0400
TZNAME:EDT
DTSTART:20250309T070000
END:DAYLIGHT
BEGIN:STANDARD
TZOFFSETFROM:-0400
TZOFFSETTO:-0500
TZNAME:EST
DTSTART:20251102T060000
END:STANDARD
BEGIN:DAYLIGHT
TZOFFSETFROM:-0500
TZOFFSETTO:-0400
TZNAME:EDT
DTSTART:20260308T070000
END:DAYLIGHT
BEGIN:STANDARD
TZOFFSETFROM:-0400
TZOFFSETTO:-0500
TZNAME:EST
DTSTART:20261101T060000
END:STANDARD
END:VTIMEZONE
BEGIN:VEVENT
DTSTART;TZID=America/New_York:20251023T200000
DTEND;TZID=America/New_York:20251023T210000
DTSTAMP:20260425T094329
CREATED:20251003T164347Z
LAST-MODIFIED:20251003T164347Z
UID:10002693-1761249600-1761253200@www.a2blue.org
SUMMARY:Translocal Connection (TLC)
DESCRIPTION:The TLC small group will meet between 8-9pm EST via Zoom for online games and connection. All are welcome.
URL:https://www.a2blue.org/event/translocal-connection-tlc-9/
LOCATION:Zoom
CATEGORIES:connection
END:VEVENT
BEGIN:VEVENT
DTSTART;TZID=America/New_York:20251025T190000
DTEND;TZID=America/New_York:20251025T213000
DTSTAMP:20260425T094329
CREATED:20251003T164752Z
LAST-MODIFIED:20251003T164752Z
UID:10002694-1761418800-1761427800@www.a2blue.org
SUMMARY:Film Club
DESCRIPTION:The Blue Ocean Film Club\, led by Dave Nelson and Tim Vaduva\, will be watching a film together at 7pm at Dave & Jenn Nelson’s house (in a neighborhood near the church). This month’s movie is Alien (1979). If you’d like to join them\, reply to the Weekly Update email to be connected to Tim and Dave.
URL:https://www.a2blue.org/event/film-club-12/
LOCATION:Dave & Jenn Nelson’s
CATEGORIES:connection
END:VEVENT
BEGIN:VEVENT
DTSTART;TZID=America/New_York:20251026T120000
DTEND;TZID=America/New_York:20251026T130000
DTSTAMP:20260425T094329
CREATED:20240822T194825Z
LAST-MODIFIED:20240822T194848Z
UID:10002258-1761480000-1761483600@www.a2blue.org
SUMMARY:Donuts After Church
DESCRIPTION:Join us immediately after church for donuts and coffee from Washtenaw Dairy.
URL:https://www.a2blue.org/event/donuts-after-church-2-3/2025-10-26/
LOCATION:St. Clare/Temple Beth Emeth Social Hall\, 2309 Packard Street\, Ann Arbor\, MI\, 48104\, United States
CATEGORIES:connection
END:VEVENT
BEGIN:VEVENT
DTSTART;TZID=America/New_York:20251026T120000
DTEND;TZID=America/New_York:20251026T130000
DTSTAMP:20260425T094329
CREATED:20250528T224837Z
LAST-MODIFIED:20250528T224837Z
UID:10002637-1761480000-1761483600@www.a2blue.org
SUMMARY:Soup Potluck with Temple Beth Emeth and St. Claire's
DESCRIPTION:Join us immediately after the service for a plant-forward soup potluck. This is part of a series of plant-based potlucks we’ve been doing with the other congregations\, spearheaded by the Earth Care group at Blue Ocean and their counterparts at St.C and TBE. Bring your favorite soup to share\, or simply show up\, enjoy the food\, and connect with others. \nAlso\, bring your own beverage if you can; we’ll still provide water.
URL:https://www.a2blue.org/event/soup-potluck-with-temple-beth-emeth-and-st-claires/
LOCATION:St. Clare/Temple Beth Emeth Social Hall\, 2309 Packard Street\, Ann Arbor\, MI\, 48104\, United States
CATEGORIES:connection
END:VEVENT
END:VCALENDAR