BEGIN:VCALENDAR
VERSION:2.0
PRODID:-//Blue Ocean Church Ann Arbor - ECPv6.15.20//NONSGML v1.0//EN
CALSCALE:GREGORIAN
METHOD:PUBLISH
X-WR-CALNAME:Blue Ocean Church Ann Arbor
X-ORIGINAL-URL:https://www.a2blue.org
X-WR-CALDESC:Events for Blue Ocean Church Ann Arbor
REFRESH-INTERVAL;VALUE=DURATION:PT1H
X-Robots-Tag:noindex
X-PUBLISHED-TTL:PT1H
BEGIN:VTIMEZONE
TZID:America/New_York
BEGIN:DAYLIGHT
TZOFFSETFROM:-0500
TZOFFSETTO:-0400
TZNAME:EDT
DTSTART:20240310T070000
END:DAYLIGHT
BEGIN:STANDARD
TZOFFSETFROM:-0400
TZOFFSETTO:-0500
TZNAME:EST
DTSTART:20241103T060000
END:STANDARD
BEGIN:DAYLIGHT
TZOFFSETFROM:-0500
TZOFFSETTO:-0400
TZNAME:EDT
DTSTART:20250309T070000
END:DAYLIGHT
BEGIN:STANDARD
TZOFFSETFROM:-0400
TZOFFSETTO:-0500
TZNAME:EST
DTSTART:20251102T060000
END:STANDARD
BEGIN:DAYLIGHT
TZOFFSETFROM:-0500
TZOFFSETTO:-0400
TZNAME:EDT
DTSTART:20260308T070000
END:DAYLIGHT
BEGIN:STANDARD
TZOFFSETFROM:-0400
TZOFFSETTO:-0500
TZNAME:EST
DTSTART:20261101T060000
END:STANDARD
END:VTIMEZONE
BEGIN:VEVENT
DTSTART;TZID=America/New_York:20250802T120000
DTEND;TZID=America/New_York:20250802T200000
DTSTAMP:20260425T213002
CREATED:20250711T195804Z
LAST-MODIFIED:20250711T195804Z
UID:10002686-1754136000-1754164800@www.a2blue.org
SUMMARY:Ann Arbor Pride
DESCRIPTION:Blue Ocean is excited to be part of Ann Arbor Pride again this year. We’re looking for volunteers to spend a shift or two at the Blue Ocean table\, offering a warm welcome and passing out fun pride-themed tattoos to folks passing by. If you’re interested\, please sign up here.
URL:https://www.a2blue.org/event/ann-arbor-pride-3/
LOCATION:MI
CATEGORIES:outreach
END:VEVENT
BEGIN:VEVENT
DTSTART;TZID=America/New_York:20250817T150000
DTEND;TZID=America/New_York:20250817T183000
DTSTAMP:20260425T213002
CREATED:20250516T202947Z
LAST-MODIFIED:20250516T202947Z
UID:10002580-1755442800-1755455400@www.a2blue.org
SUMMARY:Sunday Dinner at the Hope Center
DESCRIPTION:Join our team from 3-6:30 pm as we prepare and serve a warm meal to people in the community in need of extra food. Let Tim Davis know if you’re interested in volunteering. He can be reached at chaplaintimdavis@gmail.com. \n  \n 
URL:https://www.a2blue.org/event/sunday-dinner-at-the-hope-center-2/2025-08-17/
LOCATION:Hope Center\, Ypsilanti\, 518 Harriet Street\, Ypsilanti\, MI\, 48197
CATEGORIES:outreach
ORGANIZER;CN="Tim Davis":MAILTO:chaplaintimdavis@gmail.com
END:VEVENT
END:VCALENDAR