BEGIN:VCALENDAR
VERSION:2.0
PRODID:-//Blue Ocean Church Ann Arbor - ECPv6.15.20//NONSGML v1.0//EN
CALSCALE:GREGORIAN
METHOD:PUBLISH
X-WR-CALNAME:Blue Ocean Church Ann Arbor
X-ORIGINAL-URL:https://www.a2blue.org
X-WR-CALDESC:Events for Blue Ocean Church Ann Arbor
REFRESH-INTERVAL;VALUE=DURATION:PT1H
X-Robots-Tag:noindex
X-PUBLISHED-TTL:PT1H
BEGIN:VTIMEZONE
TZID:America/New_York
BEGIN:DAYLIGHT
TZOFFSETFROM:-0500
TZOFFSETTO:-0400
TZNAME:EDT
DTSTART:20240310T070000
END:DAYLIGHT
BEGIN:STANDARD
TZOFFSETFROM:-0400
TZOFFSETTO:-0500
TZNAME:EST
DTSTART:20241103T060000
END:STANDARD
BEGIN:DAYLIGHT
TZOFFSETFROM:-0500
TZOFFSETTO:-0400
TZNAME:EDT
DTSTART:20250309T070000
END:DAYLIGHT
BEGIN:STANDARD
TZOFFSETFROM:-0400
TZOFFSETTO:-0500
TZNAME:EST
DTSTART:20251102T060000
END:STANDARD
BEGIN:DAYLIGHT
TZOFFSETFROM:-0500
TZOFFSETTO:-0400
TZNAME:EDT
DTSTART:20260308T070000
END:DAYLIGHT
BEGIN:STANDARD
TZOFFSETFROM:-0400
TZOFFSETTO:-0500
TZNAME:EST
DTSTART:20261101T060000
END:STANDARD
END:VTIMEZONE
BEGIN:VEVENT
DTSTART;TZID=America/New_York:20251019T150000
DTEND;TZID=America/New_York:20251019T183000
DTSTAMP:20260425T171013
CREATED:20250516T202947Z
LAST-MODIFIED:20250516T202947Z
UID:10002582-1760886000-1760898600@www.a2blue.org
SUMMARY:Sunday Dinner at the Hope Center
DESCRIPTION:Join our team from 3-6:30 pm as we prepare and serve a warm meal to people in the community in need of extra food. Let Tim Davis know if you’re interested in volunteering. He can be reached at chaplaintimdavis@gmail.com. \n  \n 
URL:https://www.a2blue.org/event/sunday-dinner-at-the-hope-center-2/2025-10-19/
LOCATION:Hope Center\, Ypsilanti\, 518 Harriet Street\, Ypsilanti\, MI\, 48197
CATEGORIES:outreach
ORGANIZER;CN="Tim Davis":MAILTO:chaplaintimdavis@gmail.com
END:VEVENT
BEGIN:VEVENT
DTSTART;TZID=America/New_York:20251026T140000
DTEND;TZID=America/New_York:20251026T160000
DTSTAMP:20260425T171013
CREATED:20251003T165137Z
LAST-MODIFIED:20251003T165137Z
UID:10002695-1761487200-1761494400@www.a2blue.org
SUMMARY:Genesis Grounds Cleanup Day
DESCRIPTION:We’ll join with members of Saint Clare’s and TBE following the soup potluck to do some fall cleanup work on the grounds around our church/synagogue. We’ll especially be tending to our Blue Ocean Garden out front\, and assisting with weeding\, raking\, and mulching where needed. Let either Pete Miller or Emily know if you plan to stay and help.
URL:https://www.a2blue.org/event/genesis-grounds-cleanup-day-2/
LOCATION:Genesis of Ann Arbor\, 2309 Packard St\, Ann Arbor\, MI\, 48104\, United States
CATEGORIES:outreach
END:VEVENT
END:VCALENDAR