BEGIN:VCALENDAR
VERSION:2.0
PRODID:-//Blue Ocean Church Ann Arbor - ECPv6.15.20//NONSGML v1.0//EN
CALSCALE:GREGORIAN
METHOD:PUBLISH
X-WR-CALNAME:Blue Ocean Church Ann Arbor
X-ORIGINAL-URL:https://www.a2blue.org
X-WR-CALDESC:Events for Blue Ocean Church Ann Arbor
REFRESH-INTERVAL;VALUE=DURATION:PT1H
X-Robots-Tag:noindex
X-PUBLISHED-TTL:PT1H
BEGIN:VTIMEZONE
TZID:America/New_York
BEGIN:DAYLIGHT
TZOFFSETFROM:-0500
TZOFFSETTO:-0400
TZNAME:EDT
DTSTART:20220313T070000
END:DAYLIGHT
BEGIN:STANDARD
TZOFFSETFROM:-0400
TZOFFSETTO:-0500
TZNAME:EST
DTSTART:20221106T060000
END:STANDARD
BEGIN:DAYLIGHT
TZOFFSETFROM:-0500
TZOFFSETTO:-0400
TZNAME:EDT
DTSTART:20230312T070000
END:DAYLIGHT
BEGIN:STANDARD
TZOFFSETFROM:-0400
TZOFFSETTO:-0500
TZNAME:EST
DTSTART:20231105T060000
END:STANDARD
BEGIN:DAYLIGHT
TZOFFSETFROM:-0500
TZOFFSETTO:-0400
TZNAME:EDT
DTSTART:20240310T070000
END:DAYLIGHT
BEGIN:STANDARD
TZOFFSETFROM:-0400
TZOFFSETTO:-0500
TZNAME:EST
DTSTART:20241103T060000
END:STANDARD
BEGIN:DAYLIGHT
TZOFFSETFROM:-0500
TZOFFSETTO:-0400
TZNAME:EDT
DTSTART:20250309T070000
END:DAYLIGHT
BEGIN:STANDARD
TZOFFSETFROM:-0400
TZOFFSETTO:-0500
TZNAME:EST
DTSTART:20251102T060000
END:STANDARD
END:VTIMEZONE
BEGIN:VEVENT
DTSTART;TZID=America/New_York:20241117T153000
DTEND;TZID=America/New_York:20241117T183000
DTSTAMP:20260425T070104
CREATED:20230515T151714Z
LAST-MODIFIED:20230901T184650Z
UID:10000603-1731857400-1731868200@www.a2blue.org
SUMMARY:Sunday Dinner at the Hope Center
DESCRIPTION:On the third Sunday of every month\, Blue Ocean volunteers\, led by Nancy Broadway\, meet at the Hope Center in Ypsilanti to serve a hot meal. Volunteers are needed! Dinner is from 4–5 pm\, and volunteers should arrive at 3:30 pm and expect to stay until about 6:30 pm. Please join us as your schedule permits. For further information or to be put on the contact list\, email the office.
URL:https://www.a2blue.org/event/sunday-dinner-at-the-hope-center/2024-11-17/
LOCATION:Hope Center\, Ypsilanti\, 518 Harriet Street\, Ypsilanti\, MI\, 48197
CATEGORIES:outreach
ORGANIZER;CN="Nancy Broadway":MAILTO:office@a2blue.org
END:VEVENT
BEGIN:VEVENT
DTSTART;TZID=America/New_York:20241027T130000
DTEND;TZID=America/New_York:20241027T160000
DTSTAMP:20260425T070104
CREATED:20240920T203119Z
LAST-MODIFIED:20240920T203119Z
UID:10002462-1730034000-1730044800@www.a2blue.org
SUMMARY:Genesis Grounds Cleanup Day
DESCRIPTION:We’ll join with members of Saint Clare’s and TBE to do some fall cleanup work on the grounds around our church/synagogue. We’ll especially be tending to our Blue Ocean Garden out front\, and assisting with weeding\, raking\, and mulching where needed. Lunch will be provided for those who stay. Let either Lisa Ruby or Emily know if you plan to stay and help. \n 
URL:https://www.a2blue.org/event/genesis-grounds-cleanup-day/
LOCATION:Genesis of Ann Arbor\, 2309 Packard St\, Ann Arbor\, MI\, 48104\, United States
CATEGORIES:outreach
END:VEVENT
BEGIN:VEVENT
DTSTART;TZID=America/New_York:20241020T153000
DTEND;TZID=America/New_York:20241020T183000
DTSTAMP:20260425T070104
CREATED:20230515T151714Z
LAST-MODIFIED:20230901T184650Z
UID:10000602-1729438200-1729449000@www.a2blue.org
SUMMARY:Sunday Dinner at the Hope Center
DESCRIPTION:On the third Sunday of every month\, Blue Ocean volunteers\, led by Nancy Broadway\, meet at the Hope Center in Ypsilanti to serve a hot meal. Volunteers are needed! Dinner is from 4–5 pm\, and volunteers should arrive at 3:30 pm and expect to stay until about 6:30 pm. Please join us as your schedule permits. For further information or to be put on the contact list\, email the office.
URL:https://www.a2blue.org/event/sunday-dinner-at-the-hope-center/2024-10-20/
LOCATION:Hope Center\, Ypsilanti\, 518 Harriet Street\, Ypsilanti\, MI\, 48197
CATEGORIES:outreach
ORGANIZER;CN="Nancy Broadway":MAILTO:office@a2blue.org
END:VEVENT
BEGIN:VEVENT
DTSTART;TZID=America/New_York:20241012T073000
DTEND;TZID=America/New_York:20241012T143000
DTSTAMP:20260425T070104
CREATED:20240920T201845Z
LAST-MODIFIED:20240920T201845Z
UID:10002444-1728718200-1728743400@www.a2blue.org
SUMMARY:Help with Yom Kippur Security and Parking
DESCRIPTION:Each year we offer to help our friends at Temple Beth Emeth (one of the congregations with whom we share the building) with security patrol and parking for their High Holy Days. The A2 police are on site\, but we walk around the building (with vests and walkie talkies) to keep our eyes peeled for anything suspicious. There’s a brief training via Zoom prior that you can watch at your convenience if you’d like to help. Sign up for a time here:\nhttps://signup.com/go/EmSggye
URL:https://www.a2blue.org/event/help-with-yom-kippur-security-and-parking-2/
LOCATION:Genesis of Ann Arbor\, 2309 Packard St\, Ann Arbor\, MI\, 48104\, United States
CATEGORIES:outreach
END:VEVENT
BEGIN:VEVENT
DTSTART;TZID=America/New_York:20241011T190000
DTEND;TZID=America/New_York:20241011T220000
DTSTAMP:20260425T070104
CREATED:20240812T213853Z
LAST-MODIFIED:20240920T201707Z
UID:10002226-1728673200-1728684000@www.a2blue.org
SUMMARY:Help with Yom Kippur Security and Parking
DESCRIPTION:Each year we offer to help our friends at Temple Beth Emeth (one of the congregations with whom we share the building) with security patrol and parking for their High Holy Days. The A2 police are on site\, but we walk around the building (with vests and walkie talkies) to keep our eyes peeled for anything suspicious. There’s a brief training via Zoom prior that you can watch at your convenience if you’d like to help. Sign up for a time here:\nhttps://signup.com/go/EmSggye
URL:https://www.a2blue.org/event/help-with-yom-kippur-security-and-parking/
LOCATION:Genesis of Ann Arbor\, 2309 Packard St\, Ann Arbor\, MI\, 48104\, United States
CATEGORIES:outreach
END:VEVENT
BEGIN:VEVENT
DTSTART;TZID=America/New_York:20241003T073000
DTEND;TZID=America/New_York:20241003T143000
DTSTAMP:20260425T070104
CREATED:20240812T213600Z
LAST-MODIFIED:20240920T201512Z
UID:10002225-1727940600-1727965800@www.a2blue.org
SUMMARY:Help with Rosh Hashanah Security and Parking
DESCRIPTION:Each year we offer to help our friends at Temple Beth Emeth (one of the congregations with whom we share the building) with security patrol and parking for their High Holy Days. The A2 police are on site\, but we walk around the building (with vests and walkie talkies) to keep our eyes peeled for anything suspicious. There’s a brief training via Zoom prior that you can watch at your convenience if you’d like to help. Sign up for a time here:\nhttps://signup.com/go/EmSggye
URL:https://www.a2blue.org/event/help-with-rosh-hashanah-security-and-parking/
LOCATION:Genesis of Ann Arbor\, 2309 Packard St\, Ann Arbor\, MI\, 48104\, United States
CATEGORIES:outreach
END:VEVENT
BEGIN:VEVENT
DTSTART;TZID=America/New_York:20241002T190000
DTEND;TZID=America/New_York:20241002T220000
DTSTAMP:20260425T070104
CREATED:20240920T200453Z
LAST-MODIFIED:20240920T200453Z
UID:10002442-1727895600-1727906400@www.a2blue.org
SUMMARY:Help with Rosh Hashanah Security and Parking
DESCRIPTION:Each year we offer to help our friends at Temple Beth Emeth (one of the congregations with whom we share the building) with security patrol and parking for their High Holy Days. The A2 police are on site\, but we walk around the building (with vests and walkie talkies) to keep our eyes peeled for anything suspicious. There’s a brief training via Zoom prior that you can watch at your convenience if you’d like to help. Sign up for a time here:\nhttps://signup.com/go/EmSggye
URL:https://www.a2blue.org/event/help-with-rosh-hashanah-security-and-parking-2/
LOCATION:Genesis of Ann Arbor\, 2309 Packard St\, Ann Arbor\, MI\, 48104\, United States
CATEGORIES:outreach
END:VEVENT
BEGIN:VEVENT
DTSTART;TZID=America/New_York:20240915T153000
DTEND;TZID=America/New_York:20240915T183000
DTSTAMP:20260425T070104
CREATED:20230515T151714Z
LAST-MODIFIED:20230901T184650Z
UID:10000601-1726414200-1726425000@www.a2blue.org
SUMMARY:Sunday Dinner at the Hope Center
DESCRIPTION:On the third Sunday of every month\, Blue Ocean volunteers\, led by Nancy Broadway\, meet at the Hope Center in Ypsilanti to serve a hot meal. Volunteers are needed! Dinner is from 4–5 pm\, and volunteers should arrive at 3:30 pm and expect to stay until about 6:30 pm. Please join us as your schedule permits. For further information or to be put on the contact list\, email the office.
URL:https://www.a2blue.org/event/sunday-dinner-at-the-hope-center/2024-09-15/
LOCATION:Hope Center\, Ypsilanti\, 518 Harriet Street\, Ypsilanti\, MI\, 48197
CATEGORIES:outreach
ORGANIZER;CN="Nancy Broadway":MAILTO:office@a2blue.org
END:VEVENT
BEGIN:VEVENT
DTSTART;TZID=America/New_York:20240818T153000
DTEND;TZID=America/New_York:20240818T183000
DTSTAMP:20260425T070104
CREATED:20230515T151714Z
LAST-MODIFIED:20230901T184650Z
UID:10000600-1723995000-1724005800@www.a2blue.org
SUMMARY:Sunday Dinner at the Hope Center
DESCRIPTION:On the third Sunday of every month\, Blue Ocean volunteers\, led by Nancy Broadway\, meet at the Hope Center in Ypsilanti to serve a hot meal. Volunteers are needed! Dinner is from 4–5 pm\, and volunteers should arrive at 3:30 pm and expect to stay until about 6:30 pm. Please join us as your schedule permits. For further information or to be put on the contact list\, email the office.
URL:https://www.a2blue.org/event/sunday-dinner-at-the-hope-center/2024-08-18/
LOCATION:Hope Center\, Ypsilanti\, 518 Harriet Street\, Ypsilanti\, MI\, 48197
CATEGORIES:outreach
ORGANIZER;CN="Nancy Broadway":MAILTO:office@a2blue.org
END:VEVENT
BEGIN:VEVENT
DTSTART;TZID=America/New_York:20240803T110000
DTEND;TZID=America/New_York:20240803T220000
DTSTAMP:20260425T070104
CREATED:20240723T183034Z
LAST-MODIFIED:20240723T183034Z
UID:10002157-1722682800-1722722400@www.a2blue.org
SUMMARY:Ann Arbor Pride
DESCRIPTION:Our last summer community event is Ann Arbor Pride on Saturday\, August 3rd. This is a longer event\, so we need lots of volunteers to hang out in the Blue Ocean Tent throughout the day. We’ll have fun things to pass out to people and it’s a great way to meet people in our local community.  \n\nIf you’re available to help\, please sign up for a time slot here on the sign-up genius https://www.signupgenius.com/go/60B0E4FA9AD23A57-49448102-blue or in person on Sunday mornings. Reach out to Jenn Nelson at nelsojen@gmail.com if you have any questions. 
URL:https://www.a2blue.org/event/ann-arbor-pride-2/
LOCATION:MI
CATEGORIES:outreach
END:VEVENT
BEGIN:VEVENT
DTSTART;TZID=America/New_York:20240721T153000
DTEND;TZID=America/New_York:20240721T183000
DTSTAMP:20260425T070104
CREATED:20230515T151714Z
LAST-MODIFIED:20230901T184650Z
UID:10000599-1721575800-1721586600@www.a2blue.org
SUMMARY:Sunday Dinner at the Hope Center
DESCRIPTION:On the third Sunday of every month\, Blue Ocean volunteers\, led by Nancy Broadway\, meet at the Hope Center in Ypsilanti to serve a hot meal. Volunteers are needed! Dinner is from 4–5 pm\, and volunteers should arrive at 3:30 pm and expect to stay until about 6:30 pm. Please join us as your schedule permits. For further information or to be put on the contact list\, email the office.
URL:https://www.a2blue.org/event/sunday-dinner-at-the-hope-center/2024-07-21/
LOCATION:Hope Center\, Ypsilanti\, 518 Harriet Street\, Ypsilanti\, MI\, 48197
CATEGORIES:outreach
ORGANIZER;CN="Nancy Broadway":MAILTO:office@a2blue.org
END:VEVENT
BEGIN:VEVENT
DTSTART;TZID=America/New_York:20240622T100000
DTEND;TZID=America/New_York:20240622T160000
DTSTAMP:20260425T070104
CREATED:20240621T172715Z
LAST-MODIFIED:20240621T172715Z
UID:10001779-1719050400-1719072000@www.a2blue.org
SUMMARY:Juneteenth Celebration in Ypsi
DESCRIPTION:We’ll have a booth at the Ypsi Juneteenth Celebration with fun things to pass out to people (temporary tattoos\, stickers) and it’s a great way to meet people in our local community.  If you’re available to help\, please sign up for a time slot here on the sign-up genius https://www.signupgenius.com/go/60B0E4FA9AD23A57-49448102-blue or in person on Sunday.  Sign-ups will be available on the back table.  Reach out to Jenn Nelson at nelsojen@gmail.com if you have any questions.
URL:https://www.a2blue.org/event/juneteenth-celebration-in-ypsi/
LOCATION:South Huron Parking Lot\, 107 Ferris St\, Ypsilanti\, MI\, 48197\, United States
CATEGORIES:outreach
END:VEVENT
BEGIN:VEVENT
DTSTART;TZID=America/New_York:20240616T153000
DTEND;TZID=America/New_York:20240616T183000
DTSTAMP:20260425T070104
CREATED:20230515T151714Z
LAST-MODIFIED:20230901T184650Z
UID:10000598-1718551800-1718562600@www.a2blue.org
SUMMARY:Sunday Dinner at the Hope Center
DESCRIPTION:On the third Sunday of every month\, Blue Ocean volunteers\, led by Nancy Broadway\, meet at the Hope Center in Ypsilanti to serve a hot meal. Volunteers are needed! Dinner is from 4–5 pm\, and volunteers should arrive at 3:30 pm and expect to stay until about 6:30 pm. Please join us as your schedule permits. For further information or to be put on the contact list\, email the office.
URL:https://www.a2blue.org/event/sunday-dinner-at-the-hope-center/2024-06-16/
LOCATION:Hope Center\, Ypsilanti\, 518 Harriet Street\, Ypsilanti\, MI\, 48197
CATEGORIES:outreach
ORGANIZER;CN="Nancy Broadway":MAILTO:office@a2blue.org
END:VEVENT
BEGIN:VEVENT
DTSTART;TZID=America/New_York:20240607T170000
DTEND;TZID=America/New_York:20240607T220000
DTSTAMP:20260425T070104
CREATED:20240316T012217Z
LAST-MODIFIED:20240604T183218Z
UID:10001693-1717779600-1717797600@www.a2blue.org
SUMMARY:Ypsi PRIDE
DESCRIPTION:Blue Ocean is signed up to show our community support at Ypsi Pride! We need volunteers to hang out at the Blue Ocean Tent.  We’ll have fun things to pass out to people and it’s a great way to meet people in our local community.  If you’re available to help\, please sign up for a time slot here on the sign-up genius https://www.signupgenius.com/go/60B0E4FA9AD23A57-49448102-blue or in person on Sunday.  Sign-ups will be available on the back table.  Even if you can’t volunteer\, please swing by the tent and say hi! \nReach out to Jenn Nelson at nelsojen@gmail.com if you have any questions.
URL:https://www.a2blue.org/event/ypsi-pride/
LOCATION:MI
CATEGORIES:outreach
END:VEVENT
BEGIN:VEVENT
DTSTART;TZID=America/New_York:20240519T153000
DTEND;TZID=America/New_York:20240519T183000
DTSTAMP:20260425T070104
CREATED:20230515T151714Z
LAST-MODIFIED:20230901T184650Z
UID:10000597-1716132600-1716143400@www.a2blue.org
SUMMARY:Sunday Dinner at the Hope Center
DESCRIPTION:On the third Sunday of every month\, Blue Ocean volunteers\, led by Nancy Broadway\, meet at the Hope Center in Ypsilanti to serve a hot meal. Volunteers are needed! Dinner is from 4–5 pm\, and volunteers should arrive at 3:30 pm and expect to stay until about 6:30 pm. Please join us as your schedule permits. For further information or to be put on the contact list\, email the office.
URL:https://www.a2blue.org/event/sunday-dinner-at-the-hope-center/2024-05-19/
LOCATION:Hope Center\, Ypsilanti\, 518 Harriet Street\, Ypsilanti\, MI\, 48197
CATEGORIES:outreach
ORGANIZER;CN="Nancy Broadway":MAILTO:office@a2blue.org
END:VEVENT
BEGIN:VEVENT
DTSTART;TZID=America/New_York:20240421T153000
DTEND;TZID=America/New_York:20240421T183000
DTSTAMP:20260425T070104
CREATED:20230515T151714Z
LAST-MODIFIED:20230901T184650Z
UID:10000596-1713713400-1713724200@www.a2blue.org
SUMMARY:Sunday Dinner at the Hope Center
DESCRIPTION:On the third Sunday of every month\, Blue Ocean volunteers\, led by Nancy Broadway\, meet at the Hope Center in Ypsilanti to serve a hot meal. Volunteers are needed! Dinner is from 4–5 pm\, and volunteers should arrive at 3:30 pm and expect to stay until about 6:30 pm. Please join us as your schedule permits. For further information or to be put on the contact list\, email the office.
URL:https://www.a2blue.org/event/sunday-dinner-at-the-hope-center/2024-04-21/
LOCATION:Hope Center\, Ypsilanti\, 518 Harriet Street\, Ypsilanti\, MI\, 48197
CATEGORIES:outreach
ORGANIZER;CN="Nancy Broadway":MAILTO:office@a2blue.org
END:VEVENT
BEGIN:VEVENT
DTSTART;TZID=America/New_York:20240317T153000
DTEND;TZID=America/New_York:20240317T183000
DTSTAMP:20260425T070104
CREATED:20230515T151714Z
LAST-MODIFIED:20230901T184650Z
UID:10000595-1710689400-1710700200@www.a2blue.org
SUMMARY:Sunday Dinner at the Hope Center
DESCRIPTION:On the third Sunday of every month\, Blue Ocean volunteers\, led by Nancy Broadway\, meet at the Hope Center in Ypsilanti to serve a hot meal. Volunteers are needed! Dinner is from 4–5 pm\, and volunteers should arrive at 3:30 pm and expect to stay until about 6:30 pm. Please join us as your schedule permits. For further information or to be put on the contact list\, email the office.
URL:https://www.a2blue.org/event/sunday-dinner-at-the-hope-center/2024-03-17/
LOCATION:Hope Center\, Ypsilanti\, 518 Harriet Street\, Ypsilanti\, MI\, 48197
CATEGORIES:outreach
ORGANIZER;CN="Nancy Broadway":MAILTO:office@a2blue.org
END:VEVENT
BEGIN:VEVENT
DTSTART;TZID=America/New_York:20240218T153000
DTEND;TZID=America/New_York:20240218T183000
DTSTAMP:20260425T070104
CREATED:20230515T151714Z
LAST-MODIFIED:20230901T184650Z
UID:10000594-1708270200-1708281000@www.a2blue.org
SUMMARY:Sunday Dinner at the Hope Center
DESCRIPTION:On the third Sunday of every month\, Blue Ocean volunteers\, led by Nancy Broadway\, meet at the Hope Center in Ypsilanti to serve a hot meal. Volunteers are needed! Dinner is from 4–5 pm\, and volunteers should arrive at 3:30 pm and expect to stay until about 6:30 pm. Please join us as your schedule permits. For further information or to be put on the contact list\, email the office.
URL:https://www.a2blue.org/event/sunday-dinner-at-the-hope-center/2024-02-18/
LOCATION:Hope Center\, Ypsilanti\, 518 Harriet Street\, Ypsilanti\, MI\, 48197
CATEGORIES:outreach
ORGANIZER;CN="Nancy Broadway":MAILTO:office@a2blue.org
END:VEVENT
BEGIN:VEVENT
DTSTART;TZID=America/New_York:20240121T153000
DTEND;TZID=America/New_York:20240121T183000
DTSTAMP:20260425T070104
CREATED:20230515T151714Z
LAST-MODIFIED:20230901T184650Z
UID:10000593-1705851000-1705861800@www.a2blue.org
SUMMARY:Sunday Dinner at the Hope Center
DESCRIPTION:On the third Sunday of every month\, Blue Ocean volunteers\, led by Nancy Broadway\, meet at the Hope Center in Ypsilanti to serve a hot meal. Volunteers are needed! Dinner is from 4–5 pm\, and volunteers should arrive at 3:30 pm and expect to stay until about 6:30 pm. Please join us as your schedule permits. For further information or to be put on the contact list\, email the office.
URL:https://www.a2blue.org/event/sunday-dinner-at-the-hope-center/2024-01-21/
LOCATION:Hope Center\, Ypsilanti\, 518 Harriet Street\, Ypsilanti\, MI\, 48197
CATEGORIES:outreach
ORGANIZER;CN="Nancy Broadway":MAILTO:office@a2blue.org
END:VEVENT
BEGIN:VEVENT
DTSTART;TZID=America/New_York:20231224T080000
DTEND;TZID=America/New_York:20231224T140000
DTSTAMP:20260425T070104
CREATED:20231118T170452Z
LAST-MODIFIED:20231202T150807Z
UID:10001497-1703404800-1703426400@www.a2blue.org
SUMMARY:Christmas Eve Morning Brunch for Delonis Center
DESCRIPTION:St. Clare’s has invited us to join them in preparing and serving brunch to people staying at the Delonis Center in Ann Arbor. The brunch will take place in our usual worship space. See the weekly update for the link to sign up to decorate\, cook\, or bring a dish. Volunteer times vary.
URL:https://www.a2blue.org/event/christmas-eve-morning-brunch-for-delonis-center/
LOCATION:MI
CATEGORIES:outreach
END:VEVENT
BEGIN:VEVENT
DTSTART;TZID=America/New_York:20231217T153000
DTEND;TZID=America/New_York:20231217T183000
DTSTAMP:20260425T070104
CREATED:20230515T151714Z
LAST-MODIFIED:20230901T184650Z
UID:10000592-1702827000-1702837800@www.a2blue.org
SUMMARY:Sunday Dinner at the Hope Center
DESCRIPTION:On the third Sunday of every month\, Blue Ocean volunteers\, led by Nancy Broadway\, meet at the Hope Center in Ypsilanti to serve a hot meal. Volunteers are needed! Dinner is from 4–5 pm\, and volunteers should arrive at 3:30 pm and expect to stay until about 6:30 pm. Please join us as your schedule permits. For further information or to be put on the contact list\, email the office.
URL:https://www.a2blue.org/event/sunday-dinner-at-the-hope-center/2023-12-17/
LOCATION:Hope Center\, Ypsilanti\, 518 Harriet Street\, Ypsilanti\, MI\, 48197
CATEGORIES:outreach
ORGANIZER;CN="Nancy Broadway":MAILTO:office@a2blue.org
END:VEVENT
BEGIN:VEVENT
DTSTART;TZID=America/New_York:20231119T153000
DTEND;TZID=America/New_York:20231119T183000
DTSTAMP:20260425T070104
CREATED:20230515T151714Z
LAST-MODIFIED:20230901T184650Z
UID:10000591-1700407800-1700418600@www.a2blue.org
SUMMARY:Sunday Dinner at the Hope Center
DESCRIPTION:On the third Sunday of every month\, Blue Ocean volunteers\, led by Nancy Broadway\, meet at the Hope Center in Ypsilanti to serve a hot meal. Volunteers are needed! Dinner is from 4–5 pm\, and volunteers should arrive at 3:30 pm and expect to stay until about 6:30 pm. Please join us as your schedule permits. For further information or to be put on the contact list\, email the office.
URL:https://www.a2blue.org/event/sunday-dinner-at-the-hope-center/2023-11-19/
LOCATION:Hope Center\, Ypsilanti\, 518 Harriet Street\, Ypsilanti\, MI\, 48197
CATEGORIES:outreach
ORGANIZER;CN="Nancy Broadway":MAILTO:office@a2blue.org
END:VEVENT
BEGIN:VEVENT
DTSTART;TZID=America/New_York:20231015T153000
DTEND;TZID=America/New_York:20231015T183000
DTSTAMP:20260425T070104
CREATED:20230515T151714Z
LAST-MODIFIED:20230901T184650Z
UID:10000590-1697383800-1697394600@www.a2blue.org
SUMMARY:Sunday Dinner at the Hope Center
DESCRIPTION:On the third Sunday of every month\, Blue Ocean volunteers\, led by Nancy Broadway\, meet at the Hope Center in Ypsilanti to serve a hot meal. Volunteers are needed! Dinner is from 4–5 pm\, and volunteers should arrive at 3:30 pm and expect to stay until about 6:30 pm. Please join us as your schedule permits. For further information or to be put on the contact list\, email the office.
URL:https://www.a2blue.org/event/sunday-dinner-at-the-hope-center/2023-10-15/
LOCATION:Hope Center\, Ypsilanti\, 518 Harriet Street\, Ypsilanti\, MI\, 48197
CATEGORIES:outreach
ORGANIZER;CN="Nancy Broadway":MAILTO:office@a2blue.org
END:VEVENT
BEGIN:VEVENT
DTSTART;TZID=America/New_York:20230917T153000
DTEND;TZID=America/New_York:20230917T183000
DTSTAMP:20260425T070104
CREATED:20230515T151714Z
LAST-MODIFIED:20230901T184650Z
UID:10000589-1694964600-1694975400@www.a2blue.org
SUMMARY:Sunday Dinner at the Hope Center
DESCRIPTION:On the third Sunday of every month\, Blue Ocean volunteers\, led by Nancy Broadway\, meet at the Hope Center in Ypsilanti to serve a hot meal. Volunteers are needed! Dinner is from 4–5 pm\, and volunteers should arrive at 3:30 pm and expect to stay until about 6:30 pm. Please join us as your schedule permits. For further information or to be put on the contact list\, email the office.
URL:https://www.a2blue.org/event/sunday-dinner-at-the-hope-center/2023-09-17/
LOCATION:Hope Center\, Ypsilanti\, 518 Harriet Street\, Ypsilanti\, MI\, 48197
CATEGORIES:outreach
ORGANIZER;CN="Nancy Broadway":MAILTO:office@a2blue.org
END:VEVENT
BEGIN:VEVENT
DTSTART;TZID=America/New_York:20230820T153000
DTEND;TZID=America/New_York:20230820T183000
DTSTAMP:20260425T070104
CREATED:20230515T151714Z
LAST-MODIFIED:20230901T184650Z
UID:10000588-1692545400-1692556200@www.a2blue.org
SUMMARY:Sunday Dinner at the Hope Center
DESCRIPTION:On the third Sunday of every month\, Blue Ocean volunteers\, led by Nancy Broadway\, meet at the Hope Center in Ypsilanti to serve a hot meal. Volunteers are needed! Dinner is from 4–5 pm\, and volunteers should arrive at 3:30 pm and expect to stay until about 6:30 pm. Please join us as your schedule permits. For further information or to be put on the contact list\, email the office.
URL:https://www.a2blue.org/event/sunday-dinner-at-the-hope-center/2023-08-20/
LOCATION:Hope Center\, Ypsilanti\, 518 Harriet Street\, Ypsilanti\, MI\, 48197
CATEGORIES:outreach
ORGANIZER;CN="Nancy Broadway":MAILTO:office@a2blue.org
END:VEVENT
BEGIN:VEVENT
DTSTART;TZID=America/New_York:20230729T140000
DTEND;TZID=America/New_York:20230729T170000
DTSTAMP:20260425T070104
CREATED:20230713T145938Z
LAST-MODIFIED:20230713T145938Z
UID:10000916-1690639200-1690650000@www.a2blue.org
SUMMARY:Fundraiser for Back Door Food Pantry: Wine Tasting Event at St. Clare's Episcopal
DESCRIPTION:Since 2004\, St. Clare’s Episcopal has held an annual Wine fundraiser in support of its Social Outreach efforts. This sale generates the bulk of the funds we provide to support a medical clinic and school in Mirebalais\, Haiti\, as well as a significant donation to the Back Door Food Pantry\, which is facing severe funding issues at this time. The event kicks off with a Wine and Appetizer tasting when five wine distributors will showcase a dozen wines apiece in the Social Hall\, 2-5pm on Saturday\, July 29. Tasting Tickets are $40/person\, with half going to the Outreach program. \nThe tasting participants’ ratings of these wines will determine the wines that will be available for the St. Clare’s Annual Wine Auction in September where an additional\n$60 of each wine’s case price will also benefit the Outreach program. Use the button below to order your tickets or go to the church website saintclareschurch.org\, under EVENTS & NEWS to see the announcement and access ticket sales.
URL:https://www.a2blue.org/event/fundraiser-for-back-door-food-pantry-wine-tasting-event-at-st-clares-episcopal/
LOCATION:St. Clare/Temple Beth Emeth Social Hall\, 2309 Packard Street\, Ann Arbor\, MI\, 48104\, United States
CATEGORIES:outreach
END:VEVENT
BEGIN:VEVENT
DTSTART;TZID=America/New_York:20230716T153000
DTEND;TZID=America/New_York:20230716T183000
DTSTAMP:20260425T070104
CREATED:20230515T151714Z
LAST-MODIFIED:20230901T184650Z
UID:10000587-1689521400-1689532200@www.a2blue.org
SUMMARY:Sunday Dinner at the Hope Center
DESCRIPTION:On the third Sunday of every month\, Blue Ocean volunteers\, led by Nancy Broadway\, meet at the Hope Center in Ypsilanti to serve a hot meal. Volunteers are needed! Dinner is from 4–5 pm\, and volunteers should arrive at 3:30 pm and expect to stay until about 6:30 pm. Please join us as your schedule permits. For further information or to be put on the contact list\, email the office.
URL:https://www.a2blue.org/event/sunday-dinner-at-the-hope-center/2023-07-16/
LOCATION:Hope Center\, Ypsilanti\, 518 Harriet Street\, Ypsilanti\, MI\, 48197
CATEGORIES:outreach
ORGANIZER;CN="Nancy Broadway":MAILTO:office@a2blue.org
END:VEVENT
BEGIN:VEVENT
DTSTART;TZID=America/New_York:20230618T153000
DTEND;TZID=America/New_York:20230618T183000
DTSTAMP:20260425T070104
CREATED:20230515T151714Z
LAST-MODIFIED:20230901T184650Z
UID:10000586-1687102200-1687113000@www.a2blue.org
SUMMARY:Sunday Dinner at the Hope Center
DESCRIPTION:On the third Sunday of every month\, Blue Ocean volunteers\, led by Nancy Broadway\, meet at the Hope Center in Ypsilanti to serve a hot meal. Volunteers are needed! Dinner is from 4–5 pm\, and volunteers should arrive at 3:30 pm and expect to stay until about 6:30 pm. Please join us as your schedule permits. For further information or to be put on the contact list\, email the office.
URL:https://www.a2blue.org/event/sunday-dinner-at-the-hope-center/2023-06-18/
LOCATION:Hope Center\, Ypsilanti\, 518 Harriet Street\, Ypsilanti\, MI\, 48197
CATEGORIES:outreach
ORGANIZER;CN="Nancy Broadway":MAILTO:office@a2blue.org
END:VEVENT
BEGIN:VEVENT
DTSTART;TZID=America/New_York:20230521T153000
DTEND;TZID=America/New_York:20230521T183000
DTSTAMP:20260425T070104
CREATED:20230515T151714Z
LAST-MODIFIED:20230901T184650Z
UID:10000585-1684683000-1684693800@www.a2blue.org
SUMMARY:Sunday Dinner at the Hope Center
DESCRIPTION:On the third Sunday of every month\, Blue Ocean volunteers\, led by Nancy Broadway\, meet at the Hope Center in Ypsilanti to serve a hot meal. Volunteers are needed! Dinner is from 4–5 pm\, and volunteers should arrive at 3:30 pm and expect to stay until about 6:30 pm. Please join us as your schedule permits. For further information or to be put on the contact list\, email the office.
URL:https://www.a2blue.org/event/sunday-dinner-at-the-hope-center/2023-05-21/
LOCATION:Hope Center\, Ypsilanti\, 518 Harriet Street\, Ypsilanti\, MI\, 48197
CATEGORIES:outreach
ORGANIZER;CN="Nancy Broadway":MAILTO:office@a2blue.org
END:VEVENT
END:VCALENDAR