BEGIN:VCALENDAR
VERSION:2.0
PRODID:-//Blue Ocean Church Ann Arbor - ECPv6.15.20//NONSGML v1.0//EN
CALSCALE:GREGORIAN
METHOD:PUBLISH
X-ORIGINAL-URL:https://www.a2blue.org
X-WR-CALDESC:Events for Blue Ocean Church Ann Arbor
REFRESH-INTERVAL;VALUE=DURATION:PT1H
X-Robots-Tag:noindex
X-PUBLISHED-TTL:PT1H
BEGIN:VTIMEZONE
TZID:America/New_York
BEGIN:DAYLIGHT
TZOFFSETFROM:-0500
TZOFFSETTO:-0400
TZNAME:EDT
DTSTART:20250309T070000
END:DAYLIGHT
BEGIN:STANDARD
TZOFFSETFROM:-0400
TZOFFSETTO:-0500
TZNAME:EST
DTSTART:20251102T060000
END:STANDARD
BEGIN:DAYLIGHT
TZOFFSETFROM:-0500
TZOFFSETTO:-0400
TZNAME:EDT
DTSTART:20260308T070000
END:DAYLIGHT
BEGIN:STANDARD
TZOFFSETFROM:-0400
TZOFFSETTO:-0500
TZNAME:EST
DTSTART:20261101T060000
END:STANDARD
BEGIN:DAYLIGHT
TZOFFSETFROM:-0500
TZOFFSETTO:-0400
TZNAME:EDT
DTSTART:20270314T070000
END:DAYLIGHT
BEGIN:STANDARD
TZOFFSETFROM:-0400
TZOFFSETTO:-0500
TZNAME:EST
DTSTART:20271107T060000
END:STANDARD
BEGIN:DAYLIGHT
TZOFFSETFROM:-0500
TZOFFSETTO:-0400
TZNAME:EDT
DTSTART:20280312T070000
END:DAYLIGHT
BEGIN:STANDARD
TZOFFSETFROM:-0400
TZOFFSETTO:-0500
TZNAME:EST
DTSTART:20281105T060000
END:STANDARD
END:VTIMEZONE
BEGIN:VEVENT
DTSTART;TZID=America/New_York:20261129T110000
DTEND;TZID=America/New_York:20261129T121500
DTSTAMP:20260425T125141
CREATED:20231109T151623Z
LAST-MODIFIED:20231109T151626Z
UID:10000194-1795950000-1795954500@www.a2blue.org
SUMMARY:Sunday Hybrid Service
DESCRIPTION:We hold in-person/Zoom hybrid services every Sunday at 11am ET. We meet in the social hall of St. Clare’s Episcopal Church/Temple Beth Emeth. More information can be found on our Sunday Services page. If this is your first time visiting us in person\, detailed directions for getting here are available on our Where & When page.
URL:https://www.a2blue.org/event/sunday-hybrid-service-4/2026-11-29/
LOCATION:St. Clare/Temple Beth Emeth Social Hall\, 2309 Packard Street\, Ann Arbor\, MI\, 48104\, United States
CATEGORIES:services
END:VEVENT
BEGIN:VEVENT
DTSTART;TZID=America/New_York:20261206T110000
DTEND;TZID=America/New_York:20261206T121500
DTSTAMP:20260425T125141
CREATED:20231109T151623Z
LAST-MODIFIED:20231109T151626Z
UID:10000195-1796554800-1796559300@www.a2blue.org
SUMMARY:Sunday Hybrid Service
DESCRIPTION:We hold in-person/Zoom hybrid services every Sunday at 11am ET. We meet in the social hall of St. Clare’s Episcopal Church/Temple Beth Emeth. More information can be found on our Sunday Services page. If this is your first time visiting us in person\, detailed directions for getting here are available on our Where & When page.
URL:https://www.a2blue.org/event/sunday-hybrid-service-4/2026-12-06/
LOCATION:St. Clare/Temple Beth Emeth Social Hall\, 2309 Packard Street\, Ann Arbor\, MI\, 48104\, United States
CATEGORIES:services
END:VEVENT
BEGIN:VEVENT
DTSTART;TZID=America/New_York:20261213T110000
DTEND;TZID=America/New_York:20261213T121500
DTSTAMP:20260425T125141
CREATED:20231109T151623Z
LAST-MODIFIED:20231109T151626Z
UID:10000196-1797159600-1797164100@www.a2blue.org
SUMMARY:Sunday Hybrid Service
DESCRIPTION:We hold in-person/Zoom hybrid services every Sunday at 11am ET. We meet in the social hall of St. Clare’s Episcopal Church/Temple Beth Emeth. More information can be found on our Sunday Services page. If this is your first time visiting us in person\, detailed directions for getting here are available on our Where & When page.
URL:https://www.a2blue.org/event/sunday-hybrid-service-4/2026-12-13/
LOCATION:St. Clare/Temple Beth Emeth Social Hall\, 2309 Packard Street\, Ann Arbor\, MI\, 48104\, United States
CATEGORIES:services
END:VEVENT
BEGIN:VEVENT
DTSTART;TZID=America/New_York:20261220T110000
DTEND;TZID=America/New_York:20261220T121500
DTSTAMP:20260425T125141
CREATED:20231109T151623Z
LAST-MODIFIED:20231109T151626Z
UID:10000197-1797764400-1797768900@www.a2blue.org
SUMMARY:Sunday Hybrid Service
DESCRIPTION:We hold in-person/Zoom hybrid services every Sunday at 11am ET. We meet in the social hall of St. Clare’s Episcopal Church/Temple Beth Emeth. More information can be found on our Sunday Services page. If this is your first time visiting us in person\, detailed directions for getting here are available on our Where & When page.
URL:https://www.a2blue.org/event/sunday-hybrid-service-4/2026-12-20/
LOCATION:St. Clare/Temple Beth Emeth Social Hall\, 2309 Packard Street\, Ann Arbor\, MI\, 48104\, United States
CATEGORIES:services
END:VEVENT
BEGIN:VEVENT
DTSTART;TZID=America/New_York:20261227T110000
DTEND;TZID=America/New_York:20261227T121500
DTSTAMP:20260425T125141
CREATED:20231109T151623Z
LAST-MODIFIED:20231109T151626Z
UID:10000198-1798369200-1798373700@www.a2blue.org
SUMMARY:Sunday Hybrid Service
DESCRIPTION:We hold in-person/Zoom hybrid services every Sunday at 11am ET. We meet in the social hall of St. Clare’s Episcopal Church/Temple Beth Emeth. More information can be found on our Sunday Services page. If this is your first time visiting us in person\, detailed directions for getting here are available on our Where & When page.
URL:https://www.a2blue.org/event/sunday-hybrid-service-4/2026-12-27/
LOCATION:St. Clare/Temple Beth Emeth Social Hall\, 2309 Packard Street\, Ann Arbor\, MI\, 48104\, United States
CATEGORIES:services
END:VEVENT
BEGIN:VEVENT
DTSTART;TZID=America/New_York:20270103T110000
DTEND;TZID=America/New_York:20270103T121500
DTSTAMP:20260425T125141
CREATED:20231109T151623Z
LAST-MODIFIED:20231109T151626Z
UID:10000199-1798974000-1798978500@www.a2blue.org
SUMMARY:Sunday Hybrid Service
DESCRIPTION:We hold in-person/Zoom hybrid services every Sunday at 11am ET. We meet in the social hall of St. Clare’s Episcopal Church/Temple Beth Emeth. More information can be found on our Sunday Services page. If this is your first time visiting us in person\, detailed directions for getting here are available on our Where & When page.
URL:https://www.a2blue.org/event/sunday-hybrid-service-4/2027-01-03/
LOCATION:St. Clare/Temple Beth Emeth Social Hall\, 2309 Packard Street\, Ann Arbor\, MI\, 48104\, United States
CATEGORIES:services
END:VEVENT
BEGIN:VEVENT
DTSTART;TZID=America/New_York:20270110T110000
DTEND;TZID=America/New_York:20270110T121500
DTSTAMP:20260425T125141
CREATED:20231109T151623Z
LAST-MODIFIED:20231109T151626Z
UID:10000200-1799578800-1799583300@www.a2blue.org
SUMMARY:Sunday Hybrid Service
DESCRIPTION:We hold in-person/Zoom hybrid services every Sunday at 11am ET. We meet in the social hall of St. Clare’s Episcopal Church/Temple Beth Emeth. More information can be found on our Sunday Services page. If this is your first time visiting us in person\, detailed directions for getting here are available on our Where & When page.
URL:https://www.a2blue.org/event/sunday-hybrid-service-4/2027-01-10/
LOCATION:St. Clare/Temple Beth Emeth Social Hall\, 2309 Packard Street\, Ann Arbor\, MI\, 48104\, United States
CATEGORIES:services
END:VEVENT
BEGIN:VEVENT
DTSTART;TZID=America/New_York:20270117T110000
DTEND;TZID=America/New_York:20270117T121500
DTSTAMP:20260425T125141
CREATED:20231109T151623Z
LAST-MODIFIED:20231109T151626Z
UID:10000201-1800183600-1800188100@www.a2blue.org
SUMMARY:Sunday Hybrid Service
DESCRIPTION:We hold in-person/Zoom hybrid services every Sunday at 11am ET. We meet in the social hall of St. Clare’s Episcopal Church/Temple Beth Emeth. More information can be found on our Sunday Services page. If this is your first time visiting us in person\, detailed directions for getting here are available on our Where & When page.
URL:https://www.a2blue.org/event/sunday-hybrid-service-4/2027-01-17/
LOCATION:St. Clare/Temple Beth Emeth Social Hall\, 2309 Packard Street\, Ann Arbor\, MI\, 48104\, United States
CATEGORIES:services
END:VEVENT
BEGIN:VEVENT
DTSTART;TZID=America/New_York:20270124T110000
DTEND;TZID=America/New_York:20270124T121500
DTSTAMP:20260425T125141
CREATED:20231109T151623Z
LAST-MODIFIED:20231109T151626Z
UID:10000202-1800788400-1800792900@www.a2blue.org
SUMMARY:Sunday Hybrid Service
DESCRIPTION:We hold in-person/Zoom hybrid services every Sunday at 11am ET. We meet in the social hall of St. Clare’s Episcopal Church/Temple Beth Emeth. More information can be found on our Sunday Services page. If this is your first time visiting us in person\, detailed directions for getting here are available on our Where & When page.
URL:https://www.a2blue.org/event/sunday-hybrid-service-4/2027-01-24/
LOCATION:St. Clare/Temple Beth Emeth Social Hall\, 2309 Packard Street\, Ann Arbor\, MI\, 48104\, United States
CATEGORIES:services
END:VEVENT
BEGIN:VEVENT
DTSTART;TZID=America/New_York:20270131T110000
DTEND;TZID=America/New_York:20270131T121500
DTSTAMP:20260425T125141
CREATED:20231109T151623Z
LAST-MODIFIED:20231109T151626Z
UID:10000203-1801393200-1801397700@www.a2blue.org
SUMMARY:Sunday Hybrid Service
DESCRIPTION:We hold in-person/Zoom hybrid services every Sunday at 11am ET. We meet in the social hall of St. Clare’s Episcopal Church/Temple Beth Emeth. More information can be found on our Sunday Services page. If this is your first time visiting us in person\, detailed directions for getting here are available on our Where & When page.
URL:https://www.a2blue.org/event/sunday-hybrid-service-4/2027-01-31/
LOCATION:St. Clare/Temple Beth Emeth Social Hall\, 2309 Packard Street\, Ann Arbor\, MI\, 48104\, United States
CATEGORIES:services
END:VEVENT
BEGIN:VEVENT
DTSTART;TZID=America/New_York:20270207T110000
DTEND;TZID=America/New_York:20270207T121500
DTSTAMP:20260425T125141
CREATED:20231109T151623Z
LAST-MODIFIED:20231109T151626Z
UID:10000204-1801998000-1802002500@www.a2blue.org
SUMMARY:Sunday Hybrid Service
DESCRIPTION:We hold in-person/Zoom hybrid services every Sunday at 11am ET. We meet in the social hall of St. Clare’s Episcopal Church/Temple Beth Emeth. More information can be found on our Sunday Services page. If this is your first time visiting us in person\, detailed directions for getting here are available on our Where & When page.
URL:https://www.a2blue.org/event/sunday-hybrid-service-4/2027-02-07/
LOCATION:St. Clare/Temple Beth Emeth Social Hall\, 2309 Packard Street\, Ann Arbor\, MI\, 48104\, United States
CATEGORIES:services
END:VEVENT
BEGIN:VEVENT
DTSTART;TZID=America/New_York:20270214T110000
DTEND;TZID=America/New_York:20270214T121500
DTSTAMP:20260425T125141
CREATED:20231109T151623Z
LAST-MODIFIED:20231109T151626Z
UID:10000205-1802602800-1802607300@www.a2blue.org
SUMMARY:Sunday Hybrid Service
DESCRIPTION:We hold in-person/Zoom hybrid services every Sunday at 11am ET. We meet in the social hall of St. Clare’s Episcopal Church/Temple Beth Emeth. More information can be found on our Sunday Services page. If this is your first time visiting us in person\, detailed directions for getting here are available on our Where & When page.
URL:https://www.a2blue.org/event/sunday-hybrid-service-4/2027-02-14/
LOCATION:St. Clare/Temple Beth Emeth Social Hall\, 2309 Packard Street\, Ann Arbor\, MI\, 48104\, United States
CATEGORIES:services
END:VEVENT
BEGIN:VEVENT
DTSTART;TZID=America/New_York:20270221T110000
DTEND;TZID=America/New_York:20270221T121500
DTSTAMP:20260425T125141
CREATED:20231109T151623Z
LAST-MODIFIED:20231109T151626Z
UID:10000206-1803207600-1803212100@www.a2blue.org
SUMMARY:Sunday Hybrid Service
DESCRIPTION:We hold in-person/Zoom hybrid services every Sunday at 11am ET. We meet in the social hall of St. Clare’s Episcopal Church/Temple Beth Emeth. More information can be found on our Sunday Services page. If this is your first time visiting us in person\, detailed directions for getting here are available on our Where & When page.
URL:https://www.a2blue.org/event/sunday-hybrid-service-4/2027-02-21/
LOCATION:St. Clare/Temple Beth Emeth Social Hall\, 2309 Packard Street\, Ann Arbor\, MI\, 48104\, United States
CATEGORIES:services
END:VEVENT
BEGIN:VEVENT
DTSTART;TZID=America/New_York:20270228T110000
DTEND;TZID=America/New_York:20270228T121500
DTSTAMP:20260425T125141
CREATED:20231109T151623Z
LAST-MODIFIED:20231109T151626Z
UID:10000207-1803812400-1803816900@www.a2blue.org
SUMMARY:Sunday Hybrid Service
DESCRIPTION:We hold in-person/Zoom hybrid services every Sunday at 11am ET. We meet in the social hall of St. Clare’s Episcopal Church/Temple Beth Emeth. More information can be found on our Sunday Services page. If this is your first time visiting us in person\, detailed directions for getting here are available on our Where & When page.
URL:https://www.a2blue.org/event/sunday-hybrid-service-4/2027-02-28/
LOCATION:St. Clare/Temple Beth Emeth Social Hall\, 2309 Packard Street\, Ann Arbor\, MI\, 48104\, United States
CATEGORIES:services
END:VEVENT
BEGIN:VEVENT
DTSTART;TZID=America/New_York:20270307T110000
DTEND;TZID=America/New_York:20270307T121500
DTSTAMP:20260425T125141
CREATED:20231109T151623Z
LAST-MODIFIED:20231109T151626Z
UID:10000208-1804417200-1804421700@www.a2blue.org
SUMMARY:Sunday Hybrid Service
DESCRIPTION:We hold in-person/Zoom hybrid services every Sunday at 11am ET. We meet in the social hall of St. Clare’s Episcopal Church/Temple Beth Emeth. More information can be found on our Sunday Services page. If this is your first time visiting us in person\, detailed directions for getting here are available on our Where & When page.
URL:https://www.a2blue.org/event/sunday-hybrid-service-4/2027-03-07/
LOCATION:St. Clare/Temple Beth Emeth Social Hall\, 2309 Packard Street\, Ann Arbor\, MI\, 48104\, United States
CATEGORIES:services
END:VEVENT
BEGIN:VEVENT
DTSTART;TZID=America/New_York:20270314T110000
DTEND;TZID=America/New_York:20270314T121500
DTSTAMP:20260425T125141
CREATED:20231109T151623Z
LAST-MODIFIED:20231109T151626Z
UID:10000209-1805022000-1805026500@www.a2blue.org
SUMMARY:Sunday Hybrid Service
DESCRIPTION:We hold in-person/Zoom hybrid services every Sunday at 11am ET. We meet in the social hall of St. Clare’s Episcopal Church/Temple Beth Emeth. More information can be found on our Sunday Services page. If this is your first time visiting us in person\, detailed directions for getting here are available on our Where & When page.
URL:https://www.a2blue.org/event/sunday-hybrid-service-4/2027-03-14/
LOCATION:St. Clare/Temple Beth Emeth Social Hall\, 2309 Packard Street\, Ann Arbor\, MI\, 48104\, United States
CATEGORIES:services
END:VEVENT
BEGIN:VEVENT
DTSTART;TZID=America/New_York:20270321T110000
DTEND;TZID=America/New_York:20270321T121500
DTSTAMP:20260425T125141
CREATED:20231109T151623Z
LAST-MODIFIED:20231109T151626Z
UID:10000210-1805626800-1805631300@www.a2blue.org
SUMMARY:Sunday Hybrid Service
DESCRIPTION:We hold in-person/Zoom hybrid services every Sunday at 11am ET. We meet in the social hall of St. Clare’s Episcopal Church/Temple Beth Emeth. More information can be found on our Sunday Services page. If this is your first time visiting us in person\, detailed directions for getting here are available on our Where & When page.
URL:https://www.a2blue.org/event/sunday-hybrid-service-4/2027-03-21/
LOCATION:St. Clare/Temple Beth Emeth Social Hall\, 2309 Packard Street\, Ann Arbor\, MI\, 48104\, United States
CATEGORIES:services
END:VEVENT
BEGIN:VEVENT
DTSTART;TZID=America/New_York:20270328T110000
DTEND;TZID=America/New_York:20270328T121500
DTSTAMP:20260425T125141
CREATED:20231109T151623Z
LAST-MODIFIED:20231109T151626Z
UID:10000211-1806231600-1806236100@www.a2blue.org
SUMMARY:Sunday Hybrid Service
DESCRIPTION:We hold in-person/Zoom hybrid services every Sunday at 11am ET. We meet in the social hall of St. Clare’s Episcopal Church/Temple Beth Emeth. More information can be found on our Sunday Services page. If this is your first time visiting us in person\, detailed directions for getting here are available on our Where & When page.
URL:https://www.a2blue.org/event/sunday-hybrid-service-4/2027-03-28/
LOCATION:St. Clare/Temple Beth Emeth Social Hall\, 2309 Packard Street\, Ann Arbor\, MI\, 48104\, United States
CATEGORIES:services
END:VEVENT
BEGIN:VEVENT
DTSTART;TZID=America/New_York:20270404T110000
DTEND;TZID=America/New_York:20270404T121500
DTSTAMP:20260425T125141
CREATED:20231109T151623Z
LAST-MODIFIED:20231109T151626Z
UID:10000212-1806836400-1806840900@www.a2blue.org
SUMMARY:Sunday Hybrid Service
DESCRIPTION:We hold in-person/Zoom hybrid services every Sunday at 11am ET. We meet in the social hall of St. Clare’s Episcopal Church/Temple Beth Emeth. More information can be found on our Sunday Services page. If this is your first time visiting us in person\, detailed directions for getting here are available on our Where & When page.
URL:https://www.a2blue.org/event/sunday-hybrid-service-4/2027-04-04/
LOCATION:St. Clare/Temple Beth Emeth Social Hall\, 2309 Packard Street\, Ann Arbor\, MI\, 48104\, United States
CATEGORIES:services
END:VEVENT
BEGIN:VEVENT
DTSTART;TZID=America/New_York:20270411T110000
DTEND;TZID=America/New_York:20270411T121500
DTSTAMP:20260425T125141
CREATED:20231109T151623Z
LAST-MODIFIED:20231109T151626Z
UID:10000213-1807441200-1807445700@www.a2blue.org
SUMMARY:Sunday Hybrid Service
DESCRIPTION:We hold in-person/Zoom hybrid services every Sunday at 11am ET. We meet in the social hall of St. Clare’s Episcopal Church/Temple Beth Emeth. More information can be found on our Sunday Services page. If this is your first time visiting us in person\, detailed directions for getting here are available on our Where & When page.
URL:https://www.a2blue.org/event/sunday-hybrid-service-4/2027-04-11/
LOCATION:St. Clare/Temple Beth Emeth Social Hall\, 2309 Packard Street\, Ann Arbor\, MI\, 48104\, United States
CATEGORIES:services
END:VEVENT
BEGIN:VEVENT
DTSTART;TZID=America/New_York:20270418T110000
DTEND;TZID=America/New_York:20270418T121500
DTSTAMP:20260425T125141
CREATED:20231109T151623Z
LAST-MODIFIED:20231109T151626Z
UID:10000214-1808046000-1808050500@www.a2blue.org
SUMMARY:Sunday Hybrid Service
DESCRIPTION:We hold in-person/Zoom hybrid services every Sunday at 11am ET. We meet in the social hall of St. Clare’s Episcopal Church/Temple Beth Emeth. More information can be found on our Sunday Services page. If this is your first time visiting us in person\, detailed directions for getting here are available on our Where & When page.
URL:https://www.a2blue.org/event/sunday-hybrid-service-4/2027-04-18/
LOCATION:St. Clare/Temple Beth Emeth Social Hall\, 2309 Packard Street\, Ann Arbor\, MI\, 48104\, United States
CATEGORIES:services
END:VEVENT
BEGIN:VEVENT
DTSTART;TZID=America/New_York:20270425T110000
DTEND;TZID=America/New_York:20270425T121500
DTSTAMP:20260425T125141
CREATED:20231109T151623Z
LAST-MODIFIED:20231109T151626Z
UID:10000215-1808650800-1808655300@www.a2blue.org
SUMMARY:Sunday Hybrid Service
DESCRIPTION:We hold in-person/Zoom hybrid services every Sunday at 11am ET. We meet in the social hall of St. Clare’s Episcopal Church/Temple Beth Emeth. More information can be found on our Sunday Services page. If this is your first time visiting us in person\, detailed directions for getting here are available on our Where & When page.
URL:https://www.a2blue.org/event/sunday-hybrid-service-4/2027-04-25/
LOCATION:St. Clare/Temple Beth Emeth Social Hall\, 2309 Packard Street\, Ann Arbor\, MI\, 48104\, United States
CATEGORIES:services
END:VEVENT
BEGIN:VEVENT
DTSTART;TZID=America/New_York:20270502T110000
DTEND;TZID=America/New_York:20270502T121500
DTSTAMP:20260425T125141
CREATED:20231109T151623Z
LAST-MODIFIED:20231109T151626Z
UID:10000216-1809255600-1809260100@www.a2blue.org
SUMMARY:Sunday Hybrid Service
DESCRIPTION:We hold in-person/Zoom hybrid services every Sunday at 11am ET. We meet in the social hall of St. Clare’s Episcopal Church/Temple Beth Emeth. More information can be found on our Sunday Services page. If this is your first time visiting us in person\, detailed directions for getting here are available on our Where & When page.
URL:https://www.a2blue.org/event/sunday-hybrid-service-4/2027-05-02/
LOCATION:St. Clare/Temple Beth Emeth Social Hall\, 2309 Packard Street\, Ann Arbor\, MI\, 48104\, United States
CATEGORIES:services
END:VEVENT
BEGIN:VEVENT
DTSTART;TZID=America/New_York:20270509T110000
DTEND;TZID=America/New_York:20270509T121500
DTSTAMP:20260425T125141
CREATED:20231109T151623Z
LAST-MODIFIED:20231109T151626Z
UID:10000217-1809860400-1809864900@www.a2blue.org
SUMMARY:Sunday Hybrid Service
DESCRIPTION:We hold in-person/Zoom hybrid services every Sunday at 11am ET. We meet in the social hall of St. Clare’s Episcopal Church/Temple Beth Emeth. More information can be found on our Sunday Services page. If this is your first time visiting us in person\, detailed directions for getting here are available on our Where & When page.
URL:https://www.a2blue.org/event/sunday-hybrid-service-4/2027-05-09/
LOCATION:St. Clare/Temple Beth Emeth Social Hall\, 2309 Packard Street\, Ann Arbor\, MI\, 48104\, United States
CATEGORIES:services
END:VEVENT
BEGIN:VEVENT
DTSTART;TZID=America/New_York:20270516T110000
DTEND;TZID=America/New_York:20270516T121500
DTSTAMP:20260425T125141
CREATED:20231109T151623Z
LAST-MODIFIED:20231109T151626Z
UID:10000218-1810465200-1810469700@www.a2blue.org
SUMMARY:Sunday Hybrid Service
DESCRIPTION:We hold in-person/Zoom hybrid services every Sunday at 11am ET. We meet in the social hall of St. Clare’s Episcopal Church/Temple Beth Emeth. More information can be found on our Sunday Services page. If this is your first time visiting us in person\, detailed directions for getting here are available on our Where & When page.
URL:https://www.a2blue.org/event/sunday-hybrid-service-4/2027-05-16/
LOCATION:St. Clare/Temple Beth Emeth Social Hall\, 2309 Packard Street\, Ann Arbor\, MI\, 48104\, United States
CATEGORIES:services
END:VEVENT
BEGIN:VEVENT
DTSTART;TZID=America/New_York:20270523T110000
DTEND;TZID=America/New_York:20270523T121500
DTSTAMP:20260425T125141
CREATED:20231109T151623Z
LAST-MODIFIED:20231109T151626Z
UID:10000219-1811070000-1811074500@www.a2blue.org
SUMMARY:Sunday Hybrid Service
DESCRIPTION:We hold in-person/Zoom hybrid services every Sunday at 11am ET. We meet in the social hall of St. Clare’s Episcopal Church/Temple Beth Emeth. More information can be found on our Sunday Services page. If this is your first time visiting us in person\, detailed directions for getting here are available on our Where & When page.
URL:https://www.a2blue.org/event/sunday-hybrid-service-4/2027-05-23/
LOCATION:St. Clare/Temple Beth Emeth Social Hall\, 2309 Packard Street\, Ann Arbor\, MI\, 48104\, United States
CATEGORIES:services
END:VEVENT
BEGIN:VEVENT
DTSTART;TZID=America/New_York:20270530T110000
DTEND;TZID=America/New_York:20270530T121500
DTSTAMP:20260425T125141
CREATED:20231109T151623Z
LAST-MODIFIED:20231109T151626Z
UID:10000220-1811674800-1811679300@www.a2blue.org
SUMMARY:Sunday Hybrid Service
DESCRIPTION:We hold in-person/Zoom hybrid services every Sunday at 11am ET. We meet in the social hall of St. Clare’s Episcopal Church/Temple Beth Emeth. More information can be found on our Sunday Services page. If this is your first time visiting us in person\, detailed directions for getting here are available on our Where & When page.
URL:https://www.a2blue.org/event/sunday-hybrid-service-4/2027-05-30/
LOCATION:St. Clare/Temple Beth Emeth Social Hall\, 2309 Packard Street\, Ann Arbor\, MI\, 48104\, United States
CATEGORIES:services
END:VEVENT
BEGIN:VEVENT
DTSTART;TZID=America/New_York:20270606T110000
DTEND;TZID=America/New_York:20270606T121500
DTSTAMP:20260425T125141
CREATED:20231109T151623Z
LAST-MODIFIED:20231109T151626Z
UID:10000221-1812279600-1812284100@www.a2blue.org
SUMMARY:Sunday Hybrid Service
DESCRIPTION:We hold in-person/Zoom hybrid services every Sunday at 11am ET. We meet in the social hall of St. Clare’s Episcopal Church/Temple Beth Emeth. More information can be found on our Sunday Services page. If this is your first time visiting us in person\, detailed directions for getting here are available on our Where & When page.
URL:https://www.a2blue.org/event/sunday-hybrid-service-4/2027-06-06/
LOCATION:St. Clare/Temple Beth Emeth Social Hall\, 2309 Packard Street\, Ann Arbor\, MI\, 48104\, United States
CATEGORIES:services
END:VEVENT
BEGIN:VEVENT
DTSTART;TZID=America/New_York:20270613T110000
DTEND;TZID=America/New_York:20270613T121500
DTSTAMP:20260425T125141
CREATED:20231109T151623Z
LAST-MODIFIED:20231109T151626Z
UID:10000222-1812884400-1812888900@www.a2blue.org
SUMMARY:Sunday Hybrid Service
DESCRIPTION:We hold in-person/Zoom hybrid services every Sunday at 11am ET. We meet in the social hall of St. Clare’s Episcopal Church/Temple Beth Emeth. More information can be found on our Sunday Services page. If this is your first time visiting us in person\, detailed directions for getting here are available on our Where & When page.
URL:https://www.a2blue.org/event/sunday-hybrid-service-4/2027-06-13/
LOCATION:St. Clare/Temple Beth Emeth Social Hall\, 2309 Packard Street\, Ann Arbor\, MI\, 48104\, United States
CATEGORIES:services
END:VEVENT
BEGIN:VEVENT
DTSTART;TZID=America/New_York:20270620T110000
DTEND;TZID=America/New_York:20270620T121500
DTSTAMP:20260425T125141
CREATED:20231109T151623Z
LAST-MODIFIED:20231109T151626Z
UID:10000223-1813489200-1813493700@www.a2blue.org
SUMMARY:Sunday Hybrid Service
DESCRIPTION:We hold in-person/Zoom hybrid services every Sunday at 11am ET. We meet in the social hall of St. Clare’s Episcopal Church/Temple Beth Emeth. More information can be found on our Sunday Services page. If this is your first time visiting us in person\, detailed directions for getting here are available on our Where & When page.
URL:https://www.a2blue.org/event/sunday-hybrid-service-4/2027-06-20/
LOCATION:St. Clare/Temple Beth Emeth Social Hall\, 2309 Packard Street\, Ann Arbor\, MI\, 48104\, United States
CATEGORIES:services
END:VEVENT
END:VCALENDAR