BEGIN:VCALENDAR
VERSION:2.0
PRODID:-//Blue Ocean Church Ann Arbor - ECPv6.15.20//NONSGML v1.0//EN
CALSCALE:GREGORIAN
METHOD:PUBLISH
X-WR-CALNAME:Blue Ocean Church Ann Arbor
X-ORIGINAL-URL:https://www.a2blue.org
X-WR-CALDESC:Events for Blue Ocean Church Ann Arbor
REFRESH-INTERVAL;VALUE=DURATION:PT1H
X-Robots-Tag:noindex
X-PUBLISHED-TTL:PT1H
BEGIN:VTIMEZONE
TZID:America/New_York
BEGIN:DAYLIGHT
TZOFFSETFROM:-0500
TZOFFSETTO:-0400
TZNAME:EDT
DTSTART:20230312T070000
END:DAYLIGHT
BEGIN:STANDARD
TZOFFSETFROM:-0400
TZOFFSETTO:-0500
TZNAME:EST
DTSTART:20231105T060000
END:STANDARD
BEGIN:DAYLIGHT
TZOFFSETFROM:-0500
TZOFFSETTO:-0400
TZNAME:EDT
DTSTART:20240310T070000
END:DAYLIGHT
BEGIN:STANDARD
TZOFFSETFROM:-0400
TZOFFSETTO:-0500
TZNAME:EST
DTSTART:20241103T060000
END:STANDARD
BEGIN:DAYLIGHT
TZOFFSETFROM:-0500
TZOFFSETTO:-0400
TZNAME:EDT
DTSTART:20250309T070000
END:DAYLIGHT
BEGIN:STANDARD
TZOFFSETFROM:-0400
TZOFFSETTO:-0500
TZNAME:EST
DTSTART:20251102T060000
END:STANDARD
END:VTIMEZONE
BEGIN:VEVENT
DTSTART;TZID=America/New_York:20241027T110000
DTEND;TZID=America/New_York:20241027T121500
DTSTAMP:20260425T112447
CREATED:20240920T202334Z
LAST-MODIFIED:20240920T202336Z
UID:10000085-1730026800-1730031300@www.a2blue.org
SUMMARY:Sunday Hybrid Service with Guest Speaker Rev. Dr. David Gushee
DESCRIPTION:Longtime friend of Blue Ocean and arguably the nation’s leading Christian ethicist\, Dr. Gushee will join us to preach on Christian support for democracy. Rev. Dr. David P. Gushee (PhD\, Union Theological Seminary\, New York) is Distinguished University Professor of Christian Ethics at Mercer University and Chair of Christian Social Ethics at Vrije Universiteit (“Free University”) Amsterdam\, and Senior Research Fellow\, International Baptist Theological Study Center. \nWe hold in-person/Zoom hybrid services every Sunday at 11am ET. We meet in the social hall of St. Clare’s Episcopal Church/Temple Beth Emeth. More information can be found on our Sunday Services page. If this is your first time visiting us in person\, detailed directions for getting here are available on our Where & When page.
URL:https://www.a2blue.org/event/sunday-hybrid-service-4-6/
LOCATION:St. Clare/Temple Beth Emeth Social Hall\, 2309 Packard Street\, Ann Arbor\, MI\, 48104\, United States
CATEGORIES:services
END:VEVENT
BEGIN:VEVENT
DTSTART;TZID=America/New_York:20241020T110000
DTEND;TZID=America/New_York:20241020T121500
DTSTAMP:20260425T112447
CREATED:20231109T151623Z
LAST-MODIFIED:20231109T151626Z
UID:10000084-1729422000-1729426500@www.a2blue.org
SUMMARY:Sunday Hybrid Service
DESCRIPTION:We hold in-person/Zoom hybrid services every Sunday at 11am ET. We meet in the social hall of St. Clare’s Episcopal Church/Temple Beth Emeth. More information can be found on our Sunday Services page. If this is your first time visiting us in person\, detailed directions for getting here are available on our Where & When page.
URL:https://www.a2blue.org/event/sunday-hybrid-service-4/2024-10-20/
LOCATION:St. Clare/Temple Beth Emeth Social Hall\, 2309 Packard Street\, Ann Arbor\, MI\, 48104\, United States
CATEGORIES:services
END:VEVENT
BEGIN:VEVENT
DTSTART;TZID=America/New_York:20241013T110000
DTEND;TZID=America/New_York:20241013T121500
DTSTAMP:20260425T112447
CREATED:20231109T151623Z
LAST-MODIFIED:20231109T151626Z
UID:10000083-1728817200-1728821700@www.a2blue.org
SUMMARY:Sunday Hybrid Service
DESCRIPTION:We hold in-person/Zoom hybrid services every Sunday at 11am ET. We meet in the social hall of St. Clare’s Episcopal Church/Temple Beth Emeth. More information can be found on our Sunday Services page. If this is your first time visiting us in person\, detailed directions for getting here are available on our Where & When page.
URL:https://www.a2blue.org/event/sunday-hybrid-service-4/2024-10-13/
LOCATION:St. Clare/Temple Beth Emeth Social Hall\, 2309 Packard Street\, Ann Arbor\, MI\, 48104\, United States
CATEGORIES:services
END:VEVENT
BEGIN:VEVENT
DTSTART;TZID=America/New_York:20241006T110000
DTEND;TZID=America/New_York:20241006T121500
DTSTAMP:20260425T112447
CREATED:20231109T151623Z
LAST-MODIFIED:20231109T151626Z
UID:10000082-1728212400-1728216900@www.a2blue.org
SUMMARY:Sunday Hybrid Service
DESCRIPTION:We hold in-person/Zoom hybrid services every Sunday at 11am ET. We meet in the social hall of St. Clare’s Episcopal Church/Temple Beth Emeth. More information can be found on our Sunday Services page. If this is your first time visiting us in person\, detailed directions for getting here are available on our Where & When page.
URL:https://www.a2blue.org/event/sunday-hybrid-service-4/2024-10-06/
LOCATION:St. Clare/Temple Beth Emeth Social Hall\, 2309 Packard Street\, Ann Arbor\, MI\, 48104\, United States
CATEGORIES:services
END:VEVENT
BEGIN:VEVENT
DTSTART;TZID=America/New_York:20240929T110000
DTEND;TZID=America/New_York:20240929T121500
DTSTAMP:20260425T112447
CREATED:20231109T151623Z
LAST-MODIFIED:20231109T151626Z
UID:10000081-1727607600-1727612100@www.a2blue.org
SUMMARY:Sunday Hybrid Service
DESCRIPTION:We hold in-person/Zoom hybrid services every Sunday at 11am ET. We meet in the social hall of St. Clare’s Episcopal Church/Temple Beth Emeth. More information can be found on our Sunday Services page. If this is your first time visiting us in person\, detailed directions for getting here are available on our Where & When page.
URL:https://www.a2blue.org/event/sunday-hybrid-service-4/2024-09-29/
LOCATION:St. Clare/Temple Beth Emeth Social Hall\, 2309 Packard Street\, Ann Arbor\, MI\, 48104\, United States
CATEGORIES:services
END:VEVENT
BEGIN:VEVENT
DTSTART;TZID=America/New_York:20240922T110000
DTEND;TZID=America/New_York:20240922T121500
DTSTAMP:20260425T112447
CREATED:20231109T151623Z
LAST-MODIFIED:20231109T151626Z
UID:10000080-1727002800-1727007300@www.a2blue.org
SUMMARY:Sunday Hybrid Service
DESCRIPTION:We hold in-person/Zoom hybrid services every Sunday at 11am ET. We meet in the social hall of St. Clare’s Episcopal Church/Temple Beth Emeth. More information can be found on our Sunday Services page. If this is your first time visiting us in person\, detailed directions for getting here are available on our Where & When page.
URL:https://www.a2blue.org/event/sunday-hybrid-service-4/2024-09-22/
LOCATION:St. Clare/Temple Beth Emeth Social Hall\, 2309 Packard Street\, Ann Arbor\, MI\, 48104\, United States
CATEGORIES:services
END:VEVENT
BEGIN:VEVENT
DTSTART;TZID=America/New_York:20240915T110000
DTEND;TZID=America/New_York:20240915T121500
DTSTAMP:20260425T112447
CREATED:20231109T151623Z
LAST-MODIFIED:20231109T151626Z
UID:10000079-1726398000-1726402500@www.a2blue.org
SUMMARY:Sunday Hybrid Service
DESCRIPTION:We hold in-person/Zoom hybrid services every Sunday at 11am ET. We meet in the social hall of St. Clare’s Episcopal Church/Temple Beth Emeth. More information can be found on our Sunday Services page. If this is your first time visiting us in person\, detailed directions for getting here are available on our Where & When page.
URL:https://www.a2blue.org/event/sunday-hybrid-service-4/2024-09-15/
LOCATION:St. Clare/Temple Beth Emeth Social Hall\, 2309 Packard Street\, Ann Arbor\, MI\, 48104\, United States
CATEGORIES:services
END:VEVENT
BEGIN:VEVENT
DTSTART;TZID=America/New_York:20240908T110000
DTEND;TZID=America/New_York:20240908T121500
DTSTAMP:20260425T112447
CREATED:20231109T151623Z
LAST-MODIFIED:20231109T151626Z
UID:10000078-1725793200-1725797700@www.a2blue.org
SUMMARY:Sunday Hybrid Service
DESCRIPTION:We hold in-person/Zoom hybrid services every Sunday at 11am ET. We meet in the social hall of St. Clare’s Episcopal Church/Temple Beth Emeth. More information can be found on our Sunday Services page. If this is your first time visiting us in person\, detailed directions for getting here are available on our Where & When page.
URL:https://www.a2blue.org/event/sunday-hybrid-service-4/2024-09-08/
LOCATION:St. Clare/Temple Beth Emeth Social Hall\, 2309 Packard Street\, Ann Arbor\, MI\, 48104\, United States
CATEGORIES:services
END:VEVENT
BEGIN:VEVENT
DTSTART;TZID=America/New_York:20240901T110000
DTEND;TZID=America/New_York:20240901T121500
DTSTAMP:20260425T112447
CREATED:20231109T151623Z
LAST-MODIFIED:20231109T151626Z
UID:10000077-1725188400-1725192900@www.a2blue.org
SUMMARY:Sunday Hybrid Service
DESCRIPTION:We hold in-person/Zoom hybrid services every Sunday at 11am ET. We meet in the social hall of St. Clare’s Episcopal Church/Temple Beth Emeth. More information can be found on our Sunday Services page. If this is your first time visiting us in person\, detailed directions for getting here are available on our Where & When page.
URL:https://www.a2blue.org/event/sunday-hybrid-service-4/2024-09-01/
LOCATION:St. Clare/Temple Beth Emeth Social Hall\, 2309 Packard Street\, Ann Arbor\, MI\, 48104\, United States
CATEGORIES:services
END:VEVENT
BEGIN:VEVENT
DTSTART;TZID=America/New_York:20240825T110000
DTEND;TZID=America/New_York:20240825T121500
DTSTAMP:20260425T112447
CREATED:20231109T151623Z
LAST-MODIFIED:20231109T151626Z
UID:10000076-1724583600-1724588100@www.a2blue.org
SUMMARY:Sunday Hybrid Service
DESCRIPTION:We hold in-person/Zoom hybrid services every Sunday at 11am ET. We meet in the social hall of St. Clare’s Episcopal Church/Temple Beth Emeth. More information can be found on our Sunday Services page. If this is your first time visiting us in person\, detailed directions for getting here are available on our Where & When page.
URL:https://www.a2blue.org/event/sunday-hybrid-service-4/2024-08-25/
LOCATION:St. Clare/Temple Beth Emeth Social Hall\, 2309 Packard Street\, Ann Arbor\, MI\, 48104\, United States
CATEGORIES:services
END:VEVENT
BEGIN:VEVENT
DTSTART;TZID=America/New_York:20240818T110000
DTEND;TZID=America/New_York:20240818T121500
DTSTAMP:20260425T112447
CREATED:20231109T151623Z
LAST-MODIFIED:20231109T151626Z
UID:10000075-1723978800-1723983300@www.a2blue.org
SUMMARY:Sunday Hybrid Service
DESCRIPTION:We hold in-person/Zoom hybrid services every Sunday at 11am ET. We meet in the social hall of St. Clare’s Episcopal Church/Temple Beth Emeth. More information can be found on our Sunday Services page. If this is your first time visiting us in person\, detailed directions for getting here are available on our Where & When page.
URL:https://www.a2blue.org/event/sunday-hybrid-service-4/2024-08-18/
LOCATION:St. Clare/Temple Beth Emeth Social Hall\, 2309 Packard Street\, Ann Arbor\, MI\, 48104\, United States
CATEGORIES:services
END:VEVENT
BEGIN:VEVENT
DTSTART;TZID=America/New_York:20240811T110000
DTEND;TZID=America/New_York:20240811T121500
DTSTAMP:20260425T112447
CREATED:20231109T151623Z
LAST-MODIFIED:20231109T151626Z
UID:10000074-1723374000-1723378500@www.a2blue.org
SUMMARY:Sunday Hybrid Service
DESCRIPTION:We hold in-person/Zoom hybrid services every Sunday at 11am ET. We meet in the social hall of St. Clare’s Episcopal Church/Temple Beth Emeth. More information can be found on our Sunday Services page. If this is your first time visiting us in person\, detailed directions for getting here are available on our Where & When page.
URL:https://www.a2blue.org/event/sunday-hybrid-service-4/2024-08-11/
LOCATION:St. Clare/Temple Beth Emeth Social Hall\, 2309 Packard Street\, Ann Arbor\, MI\, 48104\, United States
CATEGORIES:services
END:VEVENT
BEGIN:VEVENT
DTSTART;TZID=America/New_York:20240804T110000
DTEND;TZID=America/New_York:20240804T121500
DTSTAMP:20260425T112447
CREATED:20240524T163008Z
LAST-MODIFIED:20240524T163010Z
UID:10000073-1722769200-1722773700@www.a2blue.org
SUMMARY:Church in the Park
DESCRIPTION:We’ll meet at Lillie Park South at 4365 Platt Rd. for our regular Sunday morning 11am worship service. There will be a slightly shorter worship liturgy that will be streamed for Zoomies\, and then we’ll eat together (bring-your-own picnic) and have some connection time. The park is ADA accessible; it also has a pavilion\, a few picnic tables\, bathrooms\, a playground for kids\, a walking/biking path\, and plenty of room for recreational activities.
URL:https://www.a2blue.org/event/sunday-hybrid-service-4-5/
LOCATION:Lillie Park South\, 4365 Platt\, Ann Arbor\, 48108\, United States
CATEGORIES:services
END:VEVENT
BEGIN:VEVENT
DTSTART;TZID=America/New_York:20240728T110000
DTEND;TZID=America/New_York:20240728T121500
DTSTAMP:20260425T112447
CREATED:20231109T151623Z
LAST-MODIFIED:20231109T151626Z
UID:10000072-1722164400-1722168900@www.a2blue.org
SUMMARY:Sunday Hybrid Service
DESCRIPTION:We hold in-person/Zoom hybrid services every Sunday at 11am ET. We meet in the social hall of St. Clare’s Episcopal Church/Temple Beth Emeth. More information can be found on our Sunday Services page. If this is your first time visiting us in person\, detailed directions for getting here are available on our Where & When page.
URL:https://www.a2blue.org/event/sunday-hybrid-service-4/2024-07-28/
LOCATION:St. Clare/Temple Beth Emeth Social Hall\, 2309 Packard Street\, Ann Arbor\, MI\, 48104\, United States
CATEGORIES:services
END:VEVENT
BEGIN:VEVENT
DTSTART;TZID=America/New_York:20240721T110000
DTEND;TZID=America/New_York:20240721T121500
DTSTAMP:20260425T112447
CREATED:20231109T151623Z
LAST-MODIFIED:20231109T151626Z
UID:10000071-1721559600-1721564100@www.a2blue.org
SUMMARY:Sunday Hybrid Service
DESCRIPTION:We hold in-person/Zoom hybrid services every Sunday at 11am ET. We meet in the social hall of St. Clare’s Episcopal Church/Temple Beth Emeth. More information can be found on our Sunday Services page. If this is your first time visiting us in person\, detailed directions for getting here are available on our Where & When page.
URL:https://www.a2blue.org/event/sunday-hybrid-service-4/2024-07-21/
LOCATION:St. Clare/Temple Beth Emeth Social Hall\, 2309 Packard Street\, Ann Arbor\, MI\, 48104\, United States
CATEGORIES:services
END:VEVENT
BEGIN:VEVENT
DTSTART;TZID=America/New_York:20240714T110000
DTEND;TZID=America/New_York:20240714T121500
DTSTAMP:20260425T112447
CREATED:20231109T151623Z
LAST-MODIFIED:20231109T151626Z
UID:10000070-1720954800-1720959300@www.a2blue.org
SUMMARY:Sunday Hybrid Service
DESCRIPTION:We hold in-person/Zoom hybrid services every Sunday at 11am ET. We meet in the social hall of St. Clare’s Episcopal Church/Temple Beth Emeth. More information can be found on our Sunday Services page. If this is your first time visiting us in person\, detailed directions for getting here are available on our Where & When page.
URL:https://www.a2blue.org/event/sunday-hybrid-service-4/2024-07-14/
LOCATION:St. Clare/Temple Beth Emeth Social Hall\, 2309 Packard Street\, Ann Arbor\, MI\, 48104\, United States
CATEGORIES:services
END:VEVENT
BEGIN:VEVENT
DTSTART;TZID=America/New_York:20240707T110000
DTEND;TZID=America/New_York:20240707T121500
DTSTAMP:20260425T112447
CREATED:20240514T161954Z
LAST-MODIFIED:20240621T173823Z
UID:10000069-1720350000-1720354500@www.a2blue.org
SUMMARY:Church in the Park
DESCRIPTION:We’ll meet at Lillie Park South at 4365 Platt Rd. for our regular Sunday morning 11am worship service. There will be a slightly shorter worship liturgy that will be streamed for Zoomies\, and then we’ll eat together (bring-your-own picnic) and have some connection time. The park is ADA accessible; it also has a pavillion\, a few picnic tables\, bathrooms\, a playground for kids\, a walking/biking path\, and plenty of room for recreational activities. The Earth Care Group is going to take a walk in the park after lunch and all are welcome to join them.
URL:https://www.a2blue.org/event/sunday-hybrid-service-4-4/
LOCATION:Lillie Park South\, 4365 Platt\, Ann Arbor\, 48108\, United States
CATEGORIES:services
END:VEVENT
BEGIN:VEVENT
DTSTART;TZID=America/New_York:20240630T110000
DTEND;TZID=America/New_York:20240630T121500
DTSTAMP:20260425T112447
CREATED:20231109T151623Z
LAST-MODIFIED:20231109T151626Z
UID:10000068-1719745200-1719749700@www.a2blue.org
SUMMARY:Sunday Hybrid Service
DESCRIPTION:We hold in-person/Zoom hybrid services every Sunday at 11am ET. We meet in the social hall of St. Clare’s Episcopal Church/Temple Beth Emeth. More information can be found on our Sunday Services page. If this is your first time visiting us in person\, detailed directions for getting here are available on our Where & When page.
URL:https://www.a2blue.org/event/sunday-hybrid-service-4/2024-06-30/
LOCATION:St. Clare/Temple Beth Emeth Social Hall\, 2309 Packard Street\, Ann Arbor\, MI\, 48104\, United States
CATEGORIES:services
END:VEVENT
BEGIN:VEVENT
DTSTART;TZID=America/New_York:20240623T110000
DTEND;TZID=America/New_York:20240623T121500
DTSTAMP:20260425T112447
CREATED:20231109T151623Z
LAST-MODIFIED:20231109T151626Z
UID:10000067-1719140400-1719144900@www.a2blue.org
SUMMARY:Sunday Hybrid Service
DESCRIPTION:We hold in-person/Zoom hybrid services every Sunday at 11am ET. We meet in the social hall of St. Clare’s Episcopal Church/Temple Beth Emeth. More information can be found on our Sunday Services page. If this is your first time visiting us in person\, detailed directions for getting here are available on our Where & When page.
URL:https://www.a2blue.org/event/sunday-hybrid-service-4/2024-06-23/
LOCATION:St. Clare/Temple Beth Emeth Social Hall\, 2309 Packard Street\, Ann Arbor\, MI\, 48104\, United States
CATEGORIES:services
END:VEVENT
BEGIN:VEVENT
DTSTART;TZID=America/New_York:20240616T110000
DTEND;TZID=America/New_York:20240616T121500
DTSTAMP:20260425T112447
CREATED:20231109T151623Z
LAST-MODIFIED:20231109T151626Z
UID:10000066-1718535600-1718540100@www.a2blue.org
SUMMARY:Sunday Hybrid Service
DESCRIPTION:We hold in-person/Zoom hybrid services every Sunday at 11am ET. We meet in the social hall of St. Clare’s Episcopal Church/Temple Beth Emeth. More information can be found on our Sunday Services page. If this is your first time visiting us in person\, detailed directions for getting here are available on our Where & When page.
URL:https://www.a2blue.org/event/sunday-hybrid-service-4/2024-06-16/
LOCATION:St. Clare/Temple Beth Emeth Social Hall\, 2309 Packard Street\, Ann Arbor\, MI\, 48104\, United States
CATEGORIES:services
END:VEVENT
BEGIN:VEVENT
DTSTART;TZID=America/New_York:20240609T110000
DTEND;TZID=America/New_York:20240609T121500
DTSTAMP:20260425T112447
CREATED:20240514T161515Z
LAST-MODIFIED:20240514T161519Z
UID:10000065-1717930800-1717935300@www.a2blue.org
SUMMARY:Church in the Park
DESCRIPTION:We’ll meet at Lillie Park South at 4365 Platt Rd. for our regular Sunday morning 11am worship service. There will be a slightly shorter worship liturgy that will be streamed for Zoomies\, and then we’ll eat together (bring-your-own picnic) and have some connection time. The park is ADA accessible; it also has a pavillion\, a few picnic tables\, bathrooms\, a playground for kids\, a walking/biking path\, and plenty of room for recreational activities.
URL:https://www.a2blue.org/event/sunday-hybrid-service-4-3/
LOCATION:Lillie Park South\, 4365 Platt\, Ann Arbor\, 48108\, United States
CATEGORIES:services
END:VEVENT
BEGIN:VEVENT
DTSTART;TZID=America/New_York:20240602T110000
DTEND;TZID=America/New_York:20240602T121500
DTSTAMP:20260425T112447
CREATED:20231109T151623Z
LAST-MODIFIED:20231109T151626Z
UID:10000064-1717326000-1717330500@www.a2blue.org
SUMMARY:Sunday Hybrid Service
DESCRIPTION:We hold in-person/Zoom hybrid services every Sunday at 11am ET. We meet in the social hall of St. Clare’s Episcopal Church/Temple Beth Emeth. More information can be found on our Sunday Services page. If this is your first time visiting us in person\, detailed directions for getting here are available on our Where & When page.
URL:https://www.a2blue.org/event/sunday-hybrid-service-4/2024-06-02/
LOCATION:St. Clare/Temple Beth Emeth Social Hall\, 2309 Packard Street\, Ann Arbor\, MI\, 48104\, United States
CATEGORIES:services
END:VEVENT
BEGIN:VEVENT
DTSTART;TZID=America/New_York:20240526T110000
DTEND;TZID=America/New_York:20240526T121500
DTSTAMP:20260425T112447
CREATED:20231109T151623Z
LAST-MODIFIED:20231109T151626Z
UID:10000063-1716721200-1716725700@www.a2blue.org
SUMMARY:Sunday Hybrid Service
DESCRIPTION:We hold in-person/Zoom hybrid services every Sunday at 11am ET. We meet in the social hall of St. Clare’s Episcopal Church/Temple Beth Emeth. More information can be found on our Sunday Services page. If this is your first time visiting us in person\, detailed directions for getting here are available on our Where & When page.
URL:https://www.a2blue.org/event/sunday-hybrid-service-4/2024-05-26/
LOCATION:St. Clare/Temple Beth Emeth Social Hall\, 2309 Packard Street\, Ann Arbor\, MI\, 48104\, United States
CATEGORIES:services
END:VEVENT
BEGIN:VEVENT
DTSTART;TZID=America/New_York:20240519T110000
DTEND;TZID=America/New_York:20240519T121500
DTSTAMP:20260425T112447
CREATED:20231109T151623Z
LAST-MODIFIED:20231109T151626Z
UID:10000062-1716116400-1716120900@www.a2blue.org
SUMMARY:Sunday Hybrid Service
DESCRIPTION:We hold in-person/Zoom hybrid services every Sunday at 11am ET. We meet in the social hall of St. Clare’s Episcopal Church/Temple Beth Emeth. More information can be found on our Sunday Services page. If this is your first time visiting us in person\, detailed directions for getting here are available on our Where & When page.
URL:https://www.a2blue.org/event/sunday-hybrid-service-4/2024-05-19/
LOCATION:St. Clare/Temple Beth Emeth Social Hall\, 2309 Packard Street\, Ann Arbor\, MI\, 48104\, United States
CATEGORIES:services
END:VEVENT
BEGIN:VEVENT
DTSTART;TZID=America/New_York:20240512T110000
DTEND;TZID=America/New_York:20240512T121500
DTSTAMP:20260425T112447
CREATED:20231109T151623Z
LAST-MODIFIED:20231109T151626Z
UID:10000061-1715511600-1715516100@www.a2blue.org
SUMMARY:Sunday Hybrid Service
DESCRIPTION:We hold in-person/Zoom hybrid services every Sunday at 11am ET. We meet in the social hall of St. Clare’s Episcopal Church/Temple Beth Emeth. More information can be found on our Sunday Services page. If this is your first time visiting us in person\, detailed directions for getting here are available on our Where & When page.
URL:https://www.a2blue.org/event/sunday-hybrid-service-4/2024-05-12/
LOCATION:St. Clare/Temple Beth Emeth Social Hall\, 2309 Packard Street\, Ann Arbor\, MI\, 48104\, United States
CATEGORIES:services
END:VEVENT
BEGIN:VEVENT
DTSTART;TZID=America/New_York:20240505T110000
DTEND;TZID=America/New_York:20240505T121500
DTSTAMP:20260425T112447
CREATED:20231109T151623Z
LAST-MODIFIED:20231109T151626Z
UID:10000060-1714906800-1714911300@www.a2blue.org
SUMMARY:Sunday Hybrid Service
DESCRIPTION:We hold in-person/Zoom hybrid services every Sunday at 11am ET. We meet in the social hall of St. Clare’s Episcopal Church/Temple Beth Emeth. More information can be found on our Sunday Services page. If this is your first time visiting us in person\, detailed directions for getting here are available on our Where & When page.
URL:https://www.a2blue.org/event/sunday-hybrid-service-4/2024-05-05/
LOCATION:St. Clare/Temple Beth Emeth Social Hall\, 2309 Packard Street\, Ann Arbor\, MI\, 48104\, United States
CATEGORIES:services
END:VEVENT
BEGIN:VEVENT
DTSTART;TZID=America/New_York:20240428T110000
DTEND;TZID=America/New_York:20240428T121500
DTSTAMP:20260425T112447
CREATED:20231109T151623Z
LAST-MODIFIED:20231109T151626Z
UID:10000059-1714302000-1714306500@www.a2blue.org
SUMMARY:Sunday Hybrid Service
DESCRIPTION:We hold in-person/Zoom hybrid services every Sunday at 11am ET. We meet in the social hall of St. Clare’s Episcopal Church/Temple Beth Emeth. More information can be found on our Sunday Services page. If this is your first time visiting us in person\, detailed directions for getting here are available on our Where & When page.
URL:https://www.a2blue.org/event/sunday-hybrid-service-4/2024-04-28/
LOCATION:St. Clare/Temple Beth Emeth Social Hall\, 2309 Packard Street\, Ann Arbor\, MI\, 48104\, United States
CATEGORIES:services
END:VEVENT
BEGIN:VEVENT
DTSTART;TZID=America/New_York:20240421T110000
DTEND;TZID=America/New_York:20240421T121500
DTSTAMP:20260425T112447
CREATED:20231109T151623Z
LAST-MODIFIED:20231109T151626Z
UID:10000058-1713697200-1713701700@www.a2blue.org
SUMMARY:Sunday Hybrid Service
DESCRIPTION:We hold in-person/Zoom hybrid services every Sunday at 11am ET. We meet in the social hall of St. Clare’s Episcopal Church/Temple Beth Emeth. More information can be found on our Sunday Services page. If this is your first time visiting us in person\, detailed directions for getting here are available on our Where & When page.
URL:https://www.a2blue.org/event/sunday-hybrid-service-4/2024-04-21/
LOCATION:St. Clare/Temple Beth Emeth Social Hall\, 2309 Packard Street\, Ann Arbor\, MI\, 48104\, United States
CATEGORIES:services
END:VEVENT
BEGIN:VEVENT
DTSTART;TZID=America/New_York:20240414T110000
DTEND;TZID=America/New_York:20240414T121500
DTSTAMP:20260425T112447
CREATED:20231109T151623Z
LAST-MODIFIED:20231109T151626Z
UID:10000057-1713092400-1713096900@www.a2blue.org
SUMMARY:Sunday Hybrid Service
DESCRIPTION:We hold in-person/Zoom hybrid services every Sunday at 11am ET. We meet in the social hall of St. Clare’s Episcopal Church/Temple Beth Emeth. More information can be found on our Sunday Services page. If this is your first time visiting us in person\, detailed directions for getting here are available on our Where & When page.
URL:https://www.a2blue.org/event/sunday-hybrid-service-4/2024-04-14/
LOCATION:St. Clare/Temple Beth Emeth Social Hall\, 2309 Packard Street\, Ann Arbor\, MI\, 48104\, United States
CATEGORIES:services
END:VEVENT
BEGIN:VEVENT
DTSTART;TZID=America/New_York:20240407T110000
DTEND;TZID=America/New_York:20240407T121500
DTSTAMP:20260425T112447
CREATED:20231109T151623Z
LAST-MODIFIED:20231109T151626Z
UID:10000056-1712487600-1712492100@www.a2blue.org
SUMMARY:Sunday Hybrid Service
DESCRIPTION:We hold in-person/Zoom hybrid services every Sunday at 11am ET. We meet in the social hall of St. Clare’s Episcopal Church/Temple Beth Emeth. More information can be found on our Sunday Services page. If this is your first time visiting us in person\, detailed directions for getting here are available on our Where & When page.
URL:https://www.a2blue.org/event/sunday-hybrid-service-4/2024-04-07/
LOCATION:St. Clare/Temple Beth Emeth Social Hall\, 2309 Packard Street\, Ann Arbor\, MI\, 48104\, United States
CATEGORIES:services
END:VEVENT
END:VCALENDAR