BEGIN:VCALENDAR
VERSION:2.0
PRODID:-//Blue Ocean Church Ann Arbor - ECPv6.15.20//NONSGML v1.0//EN
CALSCALE:GREGORIAN
METHOD:PUBLISH
X-WR-CALNAME:Blue Ocean Church Ann Arbor
X-ORIGINAL-URL:https://www.a2blue.org
X-WR-CALDESC:Events for Blue Ocean Church Ann Arbor
REFRESH-INTERVAL;VALUE=DURATION:PT1H
X-Robots-Tag:noindex
X-PUBLISHED-TTL:PT1H
BEGIN:VTIMEZONE
TZID:America/New_York
BEGIN:DAYLIGHT
TZOFFSETFROM:-0500
TZOFFSETTO:-0400
TZNAME:EDT
DTSTART:20230312T070000
END:DAYLIGHT
BEGIN:STANDARD
TZOFFSETFROM:-0400
TZOFFSETTO:-0500
TZNAME:EST
DTSTART:20231105T060000
END:STANDARD
BEGIN:DAYLIGHT
TZOFFSETFROM:-0500
TZOFFSETTO:-0400
TZNAME:EDT
DTSTART:20240310T070000
END:DAYLIGHT
BEGIN:STANDARD
TZOFFSETFROM:-0400
TZOFFSETTO:-0500
TZNAME:EST
DTSTART:20241103T060000
END:STANDARD
BEGIN:DAYLIGHT
TZOFFSETFROM:-0500
TZOFFSETTO:-0400
TZNAME:EDT
DTSTART:20250309T070000
END:DAYLIGHT
BEGIN:STANDARD
TZOFFSETFROM:-0400
TZOFFSETTO:-0500
TZNAME:EST
DTSTART:20251102T060000
END:STANDARD
END:VTIMEZONE
BEGIN:VEVENT
DTSTART;TZID=America/New_York:20241110T120000
DTEND;TZID=America/New_York:20241110T130000
DTSTAMP:20260425T211558
CREATED:20240827T172205Z
LAST-MODIFIED:20240827T172205Z
UID:10002436-1731240000-1731243600@www.a2blue.org
SUMMARY:TLC Group (Translocal Connection) via Zoom
DESCRIPTION:The TLC small group will meet immediately after church via Zoom from noon-1pm for connection and guided discussion. All are welcome. Email the office or Pastor Caroline to get the Zoom link.
URL:https://www.a2blue.org/event/tlc-group-translocal-connection-via-zoom-7/
LOCATION:Zoom
CATEGORIES:connection,Zoom
END:VEVENT
BEGIN:VEVENT
DTSTART;TZID=America/New_York:20241103T200000
DTEND;TZID=America/New_York:20241103T203000
DTSTAMP:20260425T211558
CREATED:20230929T164931Z
LAST-MODIFIED:20230929T164931Z
UID:10001277-1730664000-1730665800@www.a2blue.org
SUMMARY:Sunday Evening Prayer Group
DESCRIPTION:Join via Zoom for a half hour of readings\, music\, and shared silence. Email nancyogilvie@gmail.com for the Zoom link.
URL:https://www.a2blue.org/event/sunday-evening-prayer-group/2024-11-03/
LOCATION:Virtual Zoom Meeting
CATEGORIES:Zoom
END:VEVENT
BEGIN:VEVENT
DTSTART;TZID=America/New_York:20241027T200000
DTEND;TZID=America/New_York:20241027T203000
DTSTAMP:20260425T211558
CREATED:20230929T164931Z
LAST-MODIFIED:20230929T164931Z
UID:10001276-1730059200-1730061000@www.a2blue.org
SUMMARY:Sunday Evening Prayer Group
DESCRIPTION:Join via Zoom for a half hour of readings\, music\, and shared silence. Email nancyogilvie@gmail.com for the Zoom link.
URL:https://www.a2blue.org/event/sunday-evening-prayer-group/2024-10-27/
LOCATION:Virtual Zoom Meeting
CATEGORIES:Zoom
END:VEVENT
BEGIN:VEVENT
DTSTART;TZID=America/New_York:20241024T200000
DTEND;TZID=America/New_York:20241024T210000
DTSTAMP:20260425T211558
CREATED:20240812T214406Z
LAST-MODIFIED:20240812T214406Z
UID:10002227-1729800000-1729803600@www.a2blue.org
SUMMARY:Translocal (TLC) Game Night via Zoom
DESCRIPTION:The Translocal Connection (TLC) group meets twice monthly on Zoom—after church on the 2nd Sunday of the month for deeper discussion\, and on the 4th Thursday of the month at 8pm ET for online games. All are welcome. Email the church office or Caroline Kittle for a Zoom link.
URL:https://www.a2blue.org/event/translocal-tlc-game-night-via-zoom/
LOCATION:Zoom
CATEGORIES:connection,Zoom
END:VEVENT
BEGIN:VEVENT
DTSTART;TZID=America/New_York:20241020T200000
DTEND;TZID=America/New_York:20241020T203000
DTSTAMP:20260425T211558
CREATED:20230929T164931Z
LAST-MODIFIED:20230929T164931Z
UID:10001275-1729454400-1729456200@www.a2blue.org
SUMMARY:Sunday Evening Prayer Group
DESCRIPTION:Join via Zoom for a half hour of readings\, music\, and shared silence. Email nancyogilvie@gmail.com for the Zoom link.
URL:https://www.a2blue.org/event/sunday-evening-prayer-group/2024-10-20/
LOCATION:Virtual Zoom Meeting
CATEGORIES:Zoom
END:VEVENT
BEGIN:VEVENT
DTSTART;TZID=America/New_York:20241013T200000
DTEND;TZID=America/New_York:20241013T203000
DTSTAMP:20260425T211558
CREATED:20230929T164931Z
LAST-MODIFIED:20230929T164931Z
UID:10001274-1728849600-1728851400@www.a2blue.org
SUMMARY:Sunday Evening Prayer Group
DESCRIPTION:Join via Zoom for a half hour of readings\, music\, and shared silence. Email nancyogilvie@gmail.com for the Zoom link.
URL:https://www.a2blue.org/event/sunday-evening-prayer-group/2024-10-13/
LOCATION:Virtual Zoom Meeting
CATEGORIES:Zoom
END:VEVENT
BEGIN:VEVENT
DTSTART;TZID=America/New_York:20241013T120000
DTEND;TZID=America/New_York:20241013T130000
DTSTAMP:20260425T211558
CREATED:20240827T171655Z
LAST-MODIFIED:20240827T171821Z
UID:10002435-1728820800-1728824400@www.a2blue.org
SUMMARY:TLC (Translocal Connection) via Zoom
DESCRIPTION:The TLC small group will meet immediately after church via Zoom from noon-1pm for connection and guided discussion. All are welcome. Email the office or Pastor Caroline to get the Zoom link.
URL:https://www.a2blue.org/event/tlc-trans-local-connection-via-zoom/
LOCATION:Zoom
CATEGORIES:connection,Zoom
END:VEVENT
BEGIN:VEVENT
DTSTART;TZID=America/New_York:20241006T200000
DTEND;TZID=America/New_York:20241006T203000
DTSTAMP:20260425T211558
CREATED:20230929T164931Z
LAST-MODIFIED:20230929T164931Z
UID:10001273-1728244800-1728246600@www.a2blue.org
SUMMARY:Sunday Evening Prayer Group
DESCRIPTION:Join via Zoom for a half hour of readings\, music\, and shared silence. Email nancyogilvie@gmail.com for the Zoom link.
URL:https://www.a2blue.org/event/sunday-evening-prayer-group/2024-10-06/
LOCATION:Virtual Zoom Meeting
CATEGORIES:Zoom
END:VEVENT
BEGIN:VEVENT
DTSTART;TZID=America/New_York:20240929T200000
DTEND;TZID=America/New_York:20240929T203000
DTSTAMP:20260425T211558
CREATED:20230929T164931Z
LAST-MODIFIED:20230929T164931Z
UID:10001272-1727640000-1727641800@www.a2blue.org
SUMMARY:Sunday Evening Prayer Group
DESCRIPTION:Join via Zoom for a half hour of readings\, music\, and shared silence. Email nancyogilvie@gmail.com for the Zoom link.
URL:https://www.a2blue.org/event/sunday-evening-prayer-group/2024-09-29/
LOCATION:Virtual Zoom Meeting
CATEGORIES:Zoom
END:VEVENT
BEGIN:VEVENT
DTSTART;TZID=America/New_York:20240924T190000
DTEND;TZID=America/New_York:20240924T210000
DTSTAMP:20260425T211558
CREATED:20240920T195220Z
LAST-MODIFIED:20240920T195220Z
UID:10002441-1727204400-1727211600@www.a2blue.org
SUMMARY:Training for Helping with TBE High Holy Days Security
DESCRIPTION:If you’re signed up to help with security for Temple Beth Emeth’s High Holy Days in October and did not take the training last year\, there will be a Zoom session at 7pm on Sept. 24. The training will be recorded\, so if you’d like to access it later\, let Emily know. The training will address the Power of Hello along with some information on the general issues occurring within Ann Arbor surrounding antisemitism. The Zoom link can be found here. 
URL:https://www.a2blue.org/event/training-for-helping-with-tbe-high-holy-days-security/
LOCATION:Virtual Zoom Meeting
CATEGORIES:training,Zoom
END:VEVENT
BEGIN:VEVENT
DTSTART;TZID=America/New_York:20240922T200000
DTEND;TZID=America/New_York:20240922T203000
DTSTAMP:20260425T211558
CREATED:20230929T164931Z
LAST-MODIFIED:20230929T164931Z
UID:10001271-1727035200-1727037000@www.a2blue.org
SUMMARY:Sunday Evening Prayer Group
DESCRIPTION:Join via Zoom for a half hour of readings\, music\, and shared silence. Email nancyogilvie@gmail.com for the Zoom link.
URL:https://www.a2blue.org/event/sunday-evening-prayer-group/2024-09-22/
LOCATION:Virtual Zoom Meeting
CATEGORIES:Zoom
END:VEVENT
BEGIN:VEVENT
DTSTART;TZID=America/New_York:20240915T200000
DTEND;TZID=America/New_York:20240915T203000
DTSTAMP:20260425T211558
CREATED:20230929T164931Z
LAST-MODIFIED:20230929T164931Z
UID:10001270-1726430400-1726432200@www.a2blue.org
SUMMARY:Sunday Evening Prayer Group
DESCRIPTION:Join via Zoom for a half hour of readings\, music\, and shared silence. Email nancyogilvie@gmail.com for the Zoom link.
URL:https://www.a2blue.org/event/sunday-evening-prayer-group/2024-09-15/
LOCATION:Virtual Zoom Meeting
CATEGORIES:Zoom
END:VEVENT
BEGIN:VEVENT
DTSTART;TZID=America/New_York:20240908T200000
DTEND;TZID=America/New_York:20240908T203000
DTSTAMP:20260425T211558
CREATED:20230929T164931Z
LAST-MODIFIED:20230929T164931Z
UID:10001269-1725825600-1725827400@www.a2blue.org
SUMMARY:Sunday Evening Prayer Group
DESCRIPTION:Join via Zoom for a half hour of readings\, music\, and shared silence. Email nancyogilvie@gmail.com for the Zoom link.
URL:https://www.a2blue.org/event/sunday-evening-prayer-group/2024-09-08/
LOCATION:Virtual Zoom Meeting
CATEGORIES:Zoom
END:VEVENT
BEGIN:VEVENT
DTSTART;TZID=America/New_York:20240901T200000
DTEND;TZID=America/New_York:20240901T203000
DTSTAMP:20260425T211558
CREATED:20230929T164931Z
LAST-MODIFIED:20230929T164931Z
UID:10001268-1725220800-1725222600@www.a2blue.org
SUMMARY:Sunday Evening Prayer Group
DESCRIPTION:Join via Zoom for a half hour of readings\, music\, and shared silence. Email nancyogilvie@gmail.com for the Zoom link.
URL:https://www.a2blue.org/event/sunday-evening-prayer-group/2024-09-01/
LOCATION:Virtual Zoom Meeting
CATEGORIES:Zoom
END:VEVENT
BEGIN:VEVENT
DTSTART;TZID=America/New_York:20240825T200000
DTEND;TZID=America/New_York:20240825T203000
DTSTAMP:20260425T211558
CREATED:20230929T164931Z
LAST-MODIFIED:20230929T164931Z
UID:10001267-1724616000-1724617800@www.a2blue.org
SUMMARY:Sunday Evening Prayer Group
DESCRIPTION:Join via Zoom for a half hour of readings\, music\, and shared silence. Email nancyogilvie@gmail.com for the Zoom link.
URL:https://www.a2blue.org/event/sunday-evening-prayer-group/2024-08-25/
LOCATION:Virtual Zoom Meeting
CATEGORIES:Zoom
END:VEVENT
BEGIN:VEVENT
DTSTART;TZID=America/New_York:20240818T200000
DTEND;TZID=America/New_York:20240818T203000
DTSTAMP:20260425T211558
CREATED:20230929T164931Z
LAST-MODIFIED:20230929T164931Z
UID:10001266-1724011200-1724013000@www.a2blue.org
SUMMARY:Sunday Evening Prayer Group
DESCRIPTION:Join via Zoom for a half hour of readings\, music\, and shared silence. Email nancyogilvie@gmail.com for the Zoom link.
URL:https://www.a2blue.org/event/sunday-evening-prayer-group/2024-08-18/
LOCATION:Virtual Zoom Meeting
CATEGORIES:Zoom
END:VEVENT
BEGIN:VEVENT
DTSTART;TZID=America/New_York:20240811T200000
DTEND;TZID=America/New_York:20240811T203000
DTSTAMP:20260425T211558
CREATED:20230929T164931Z
LAST-MODIFIED:20230929T164931Z
UID:10001265-1723406400-1723408200@www.a2blue.org
SUMMARY:Sunday Evening Prayer Group
DESCRIPTION:Join via Zoom for a half hour of readings\, music\, and shared silence. Email nancyogilvie@gmail.com for the Zoom link.
URL:https://www.a2blue.org/event/sunday-evening-prayer-group/2024-08-11/
LOCATION:Virtual Zoom Meeting
CATEGORIES:Zoom
END:VEVENT
BEGIN:VEVENT
DTSTART;TZID=America/New_York:20240804T200000
DTEND;TZID=America/New_York:20240804T203000
DTSTAMP:20260425T211558
CREATED:20230929T164931Z
LAST-MODIFIED:20230929T164931Z
UID:10001264-1722801600-1722803400@www.a2blue.org
SUMMARY:Sunday Evening Prayer Group
DESCRIPTION:Join via Zoom for a half hour of readings\, music\, and shared silence. Email nancyogilvie@gmail.com for the Zoom link.
URL:https://www.a2blue.org/event/sunday-evening-prayer-group/2024-08-04/
LOCATION:Virtual Zoom Meeting
CATEGORIES:Zoom
END:VEVENT
BEGIN:VEVENT
DTSTART;TZID=America/New_York:20240728T200000
DTEND;TZID=America/New_York:20240728T203000
DTSTAMP:20260425T211558
CREATED:20230929T164931Z
LAST-MODIFIED:20230929T164931Z
UID:10001263-1722196800-1722198600@www.a2blue.org
SUMMARY:Sunday Evening Prayer Group
DESCRIPTION:Join via Zoom for a half hour of readings\, music\, and shared silence. Email nancyogilvie@gmail.com for the Zoom link.
URL:https://www.a2blue.org/event/sunday-evening-prayer-group/2024-07-28/
LOCATION:Virtual Zoom Meeting
CATEGORIES:Zoom
END:VEVENT
BEGIN:VEVENT
DTSTART;TZID=America/New_York:20240725T200000
DTEND;TZID=America/New_York:20240725T210000
DTSTAMP:20260425T211558
CREATED:20240524T162648Z
LAST-MODIFIED:20240524T162648Z
UID:10001777-1721937600-1721941200@www.a2blue.org
SUMMARY:Translocal Connection (TLC) Game Night via Zoom
DESCRIPTION:The Translocal Connection (TLC) group meets twice monthly on Zoom—after church on the 2nd Sunday of the month for deeper discussion\, and on the 4th Thursday of the month at 8pm ET for online games. All are welcome. Email the church office or Caroline Kittle for a Zoom link.
URL:https://www.a2blue.org/event/translocal-connection-tlc-game-night-via-zoom/
LOCATION:Zoom
CATEGORIES:connection,Zoom
END:VEVENT
BEGIN:VEVENT
DTSTART;TZID=America/New_York:20240721T200000
DTEND;TZID=America/New_York:20240721T203000
DTSTAMP:20260425T211558
CREATED:20230929T164931Z
LAST-MODIFIED:20230929T164931Z
UID:10001262-1721592000-1721593800@www.a2blue.org
SUMMARY:Sunday Evening Prayer Group
DESCRIPTION:Join via Zoom for a half hour of readings\, music\, and shared silence. Email nancyogilvie@gmail.com for the Zoom link.
URL:https://www.a2blue.org/event/sunday-evening-prayer-group/2024-07-21/
LOCATION:Virtual Zoom Meeting
CATEGORIES:Zoom
END:VEVENT
BEGIN:VEVENT
DTSTART;TZID=America/New_York:20240714T200000
DTEND;TZID=America/New_York:20240714T203000
DTSTAMP:20260425T211558
CREATED:20230929T164931Z
LAST-MODIFIED:20230929T164931Z
UID:10001261-1720987200-1720989000@www.a2blue.org
SUMMARY:Sunday Evening Prayer Group
DESCRIPTION:Join via Zoom for a half hour of readings\, music\, and shared silence. Email nancyogilvie@gmail.com for the Zoom link.
URL:https://www.a2blue.org/event/sunday-evening-prayer-group/2024-07-14/
LOCATION:Virtual Zoom Meeting
CATEGORIES:Zoom
END:VEVENT
BEGIN:VEVENT
DTSTART;TZID=America/New_York:20240707T200000
DTEND;TZID=America/New_York:20240707T203000
DTSTAMP:20260425T211558
CREATED:20230929T164931Z
LAST-MODIFIED:20230929T164931Z
UID:10001260-1720382400-1720384200@www.a2blue.org
SUMMARY:Sunday Evening Prayer Group
DESCRIPTION:Join via Zoom for a half hour of readings\, music\, and shared silence. Email nancyogilvie@gmail.com for the Zoom link.
URL:https://www.a2blue.org/event/sunday-evening-prayer-group/2024-07-07/
LOCATION:Virtual Zoom Meeting
CATEGORIES:Zoom
END:VEVENT
BEGIN:VEVENT
DTSTART;TZID=America/New_York:20240630T200000
DTEND;TZID=America/New_York:20240630T203000
DTSTAMP:20260425T211558
CREATED:20230929T164931Z
LAST-MODIFIED:20230929T164931Z
UID:10001259-1719777600-1719779400@www.a2blue.org
SUMMARY:Sunday Evening Prayer Group
DESCRIPTION:Join via Zoom for a half hour of readings\, music\, and shared silence. Email nancyogilvie@gmail.com for the Zoom link.
URL:https://www.a2blue.org/event/sunday-evening-prayer-group/2024-06-30/
LOCATION:Virtual Zoom Meeting
CATEGORIES:Zoom
END:VEVENT
BEGIN:VEVENT
DTSTART;TZID=America/New_York:20240623T200000
DTEND;TZID=America/New_York:20240623T203000
DTSTAMP:20260425T211558
CREATED:20230929T164931Z
LAST-MODIFIED:20230929T164931Z
UID:10001258-1719172800-1719174600@www.a2blue.org
SUMMARY:Sunday Evening Prayer Group
DESCRIPTION:Join via Zoom for a half hour of readings\, music\, and shared silence. Email nancyogilvie@gmail.com for the Zoom link.
URL:https://www.a2blue.org/event/sunday-evening-prayer-group/2024-06-23/
LOCATION:Virtual Zoom Meeting
CATEGORIES:Zoom
END:VEVENT
BEGIN:VEVENT
DTSTART;TZID=America/New_York:20240616T200000
DTEND;TZID=America/New_York:20240616T203000
DTSTAMP:20260425T211558
CREATED:20230929T164931Z
LAST-MODIFIED:20230929T164931Z
UID:10001257-1718568000-1718569800@www.a2blue.org
SUMMARY:Sunday Evening Prayer Group
DESCRIPTION:Join via Zoom for a half hour of readings\, music\, and shared silence. Email nancyogilvie@gmail.com for the Zoom link.
URL:https://www.a2blue.org/event/sunday-evening-prayer-group/2024-06-16/
LOCATION:Virtual Zoom Meeting
CATEGORIES:Zoom
END:VEVENT
BEGIN:VEVENT
DTSTART;TZID=America/New_York:20240609T200000
DTEND;TZID=America/New_York:20240609T203000
DTSTAMP:20260425T211558
CREATED:20230929T164931Z
LAST-MODIFIED:20230929T164931Z
UID:10001256-1717963200-1717965000@www.a2blue.org
SUMMARY:Sunday Evening Prayer Group
DESCRIPTION:Join via Zoom for a half hour of readings\, music\, and shared silence. Email nancyogilvie@gmail.com for the Zoom link.
URL:https://www.a2blue.org/event/sunday-evening-prayer-group/2024-06-09/
LOCATION:Virtual Zoom Meeting
CATEGORIES:Zoom
END:VEVENT
BEGIN:VEVENT
DTSTART;TZID=America/New_York:20240602T200000
DTEND;TZID=America/New_York:20240602T203000
DTSTAMP:20260425T211558
CREATED:20230929T164931Z
LAST-MODIFIED:20230929T164931Z
UID:10001255-1717358400-1717360200@www.a2blue.org
SUMMARY:Sunday Evening Prayer Group
DESCRIPTION:Join via Zoom for a half hour of readings\, music\, and shared silence. Email nancyogilvie@gmail.com for the Zoom link.
URL:https://www.a2blue.org/event/sunday-evening-prayer-group/2024-06-02/
LOCATION:Virtual Zoom Meeting
CATEGORIES:Zoom
END:VEVENT
BEGIN:VEVENT
DTSTART;TZID=America/New_York:20240526T200000
DTEND;TZID=America/New_York:20240526T203000
DTSTAMP:20260425T211558
CREATED:20230929T164931Z
LAST-MODIFIED:20230929T164931Z
UID:10001254-1716753600-1716755400@www.a2blue.org
SUMMARY:Sunday Evening Prayer Group
DESCRIPTION:Join via Zoom for a half hour of readings\, music\, and shared silence. Email nancyogilvie@gmail.com for the Zoom link.
URL:https://www.a2blue.org/event/sunday-evening-prayer-group/2024-05-26/
LOCATION:Virtual Zoom Meeting
CATEGORIES:Zoom
END:VEVENT
BEGIN:VEVENT
DTSTART;TZID=America/New_York:20240519T200000
DTEND;TZID=America/New_York:20240519T203000
DTSTAMP:20260425T211558
CREATED:20230929T164931Z
LAST-MODIFIED:20230929T164931Z
UID:10001253-1716148800-1716150600@www.a2blue.org
SUMMARY:Sunday Evening Prayer Group
DESCRIPTION:Join via Zoom for a half hour of readings\, music\, and shared silence. Email nancyogilvie@gmail.com for the Zoom link.
URL:https://www.a2blue.org/event/sunday-evening-prayer-group/2024-05-19/
LOCATION:Virtual Zoom Meeting
CATEGORIES:Zoom
END:VEVENT
END:VCALENDAR