BEGIN:VCALENDAR
VERSION:2.0
PRODID:-//Blue Ocean Church Ann Arbor - ECPv6.15.20//NONSGML v1.0//EN
CALSCALE:GREGORIAN
METHOD:PUBLISH
X-ORIGINAL-URL:https://www.a2blue.org
X-WR-CALDESC:Events for Blue Ocean Church Ann Arbor
REFRESH-INTERVAL;VALUE=DURATION:PT1H
X-Robots-Tag:noindex
X-PUBLISHED-TTL:PT1H
BEGIN:VTIMEZONE
TZID:America/New_York
BEGIN:DAYLIGHT
TZOFFSETFROM:-0500
TZOFFSETTO:-0400
TZNAME:EDT
DTSTART:20240310T070000
END:DAYLIGHT
BEGIN:STANDARD
TZOFFSETFROM:-0400
TZOFFSETTO:-0500
TZNAME:EST
DTSTART:20241103T060000
END:STANDARD
BEGIN:DAYLIGHT
TZOFFSETFROM:-0500
TZOFFSETTO:-0400
TZNAME:EDT
DTSTART:20250309T070000
END:DAYLIGHT
BEGIN:STANDARD
TZOFFSETFROM:-0400
TZOFFSETTO:-0500
TZNAME:EST
DTSTART:20251102T060000
END:STANDARD
BEGIN:DAYLIGHT
TZOFFSETFROM:-0500
TZOFFSETTO:-0400
TZNAME:EDT
DTSTART:20260308T070000
END:DAYLIGHT
BEGIN:STANDARD
TZOFFSETFROM:-0400
TZOFFSETTO:-0500
TZNAME:EST
DTSTART:20261101T060000
END:STANDARD
BEGIN:DAYLIGHT
TZOFFSETFROM:-0500
TZOFFSETTO:-0400
TZNAME:EDT
DTSTART:20270314T070000
END:DAYLIGHT
BEGIN:STANDARD
TZOFFSETFROM:-0400
TZOFFSETTO:-0500
TZNAME:EST
DTSTART:20271107T060000
END:STANDARD
END:VTIMEZONE
BEGIN:VEVENT
DTSTART;TZID=America/New_York:20250727T200000
DTEND;TZID=America/New_York:20250727T203000
DTSTAMP:20260425T195153
CREATED:20230929T164931Z
LAST-MODIFIED:20230929T164931Z
UID:10001315-1753646400-1753648200@www.a2blue.org
SUMMARY:Sunday Evening Prayer Group
DESCRIPTION:Join via Zoom for a half hour of readings\, music\, and shared silence. Email nancyogilvie@gmail.com for the Zoom link.
URL:https://www.a2blue.org/event/sunday-evening-prayer-group/2025-07-27/
LOCATION:Virtual Zoom Meeting
CATEGORIES:Zoom
END:VEVENT
BEGIN:VEVENT
DTSTART;TZID=America/New_York:20250803T200000
DTEND;TZID=America/New_York:20250803T203000
DTSTAMP:20260425T195153
CREATED:20230929T164931Z
LAST-MODIFIED:20230929T164931Z
UID:10001316-1754251200-1754253000@www.a2blue.org
SUMMARY:Sunday Evening Prayer Group
DESCRIPTION:Join via Zoom for a half hour of readings\, music\, and shared silence. Email nancyogilvie@gmail.com for the Zoom link.
URL:https://www.a2blue.org/event/sunday-evening-prayer-group/2025-08-03/
LOCATION:Virtual Zoom Meeting
CATEGORIES:Zoom
END:VEVENT
BEGIN:VEVENT
DTSTART;TZID=America/New_York:20250810T200000
DTEND;TZID=America/New_York:20250810T203000
DTSTAMP:20260425T195153
CREATED:20230929T164931Z
LAST-MODIFIED:20230929T164931Z
UID:10001317-1754856000-1754857800@www.a2blue.org
SUMMARY:Sunday Evening Prayer Group
DESCRIPTION:Join via Zoom for a half hour of readings\, music\, and shared silence. Email nancyogilvie@gmail.com for the Zoom link.
URL:https://www.a2blue.org/event/sunday-evening-prayer-group/2025-08-10/
LOCATION:Virtual Zoom Meeting
CATEGORIES:Zoom
END:VEVENT
BEGIN:VEVENT
DTSTART;TZID=America/New_York:20250817T200000
DTEND;TZID=America/New_York:20250817T203000
DTSTAMP:20260425T195153
CREATED:20230929T164931Z
LAST-MODIFIED:20230929T164931Z
UID:10001318-1755460800-1755462600@www.a2blue.org
SUMMARY:Sunday Evening Prayer Group
DESCRIPTION:Join via Zoom for a half hour of readings\, music\, and shared silence. Email nancyogilvie@gmail.com for the Zoom link.
URL:https://www.a2blue.org/event/sunday-evening-prayer-group/2025-08-17/
LOCATION:Virtual Zoom Meeting
CATEGORIES:Zoom
END:VEVENT
BEGIN:VEVENT
DTSTART;TZID=America/New_York:20250824T200000
DTEND;TZID=America/New_York:20250824T203000
DTSTAMP:20260425T195153
CREATED:20230929T164931Z
LAST-MODIFIED:20230929T164931Z
UID:10001319-1756065600-1756067400@www.a2blue.org
SUMMARY:Sunday Evening Prayer Group
DESCRIPTION:Join via Zoom for a half hour of readings\, music\, and shared silence. Email nancyogilvie@gmail.com for the Zoom link.
URL:https://www.a2blue.org/event/sunday-evening-prayer-group/2025-08-24/
LOCATION:Virtual Zoom Meeting
CATEGORIES:Zoom
END:VEVENT
BEGIN:VEVENT
DTSTART;TZID=America/New_York:20250828T200000
DTEND;TZID=America/New_York:20250828T210000
DTSTAMP:20260425T195153
CREATED:20250514T025950Z
LAST-MODIFIED:20250514T025950Z
UID:10002575-1756411200-1756414800@www.a2blue.org
SUMMARY:Translocal Connection (TLC)
DESCRIPTION:The TLC small group will meet between 8-9pm EST via Zoom for online games and connection. All are welcome.
URL:https://www.a2blue.org/event/translocal-connection-tlc-11/
LOCATION:Zoom
CATEGORIES:connection,Zoom
END:VEVENT
BEGIN:VEVENT
DTSTART;TZID=America/New_York:20250831T200000
DTEND;TZID=America/New_York:20250831T203000
DTSTAMP:20260425T195153
CREATED:20230929T164931Z
LAST-MODIFIED:20230929T164931Z
UID:10001320-1756670400-1756672200@www.a2blue.org
SUMMARY:Sunday Evening Prayer Group
DESCRIPTION:Join via Zoom for a half hour of readings\, music\, and shared silence. Email nancyogilvie@gmail.com for the Zoom link.
URL:https://www.a2blue.org/event/sunday-evening-prayer-group/2025-08-31/
LOCATION:Virtual Zoom Meeting
CATEGORIES:Zoom
END:VEVENT
BEGIN:VEVENT
DTSTART;TZID=America/New_York:20250907T200000
DTEND;TZID=America/New_York:20250907T203000
DTSTAMP:20260425T195153
CREATED:20230929T164931Z
LAST-MODIFIED:20230929T164931Z
UID:10001321-1757275200-1757277000@www.a2blue.org
SUMMARY:Sunday Evening Prayer Group
DESCRIPTION:Join via Zoom for a half hour of readings\, music\, and shared silence. Email nancyogilvie@gmail.com for the Zoom link.
URL:https://www.a2blue.org/event/sunday-evening-prayer-group/2025-09-07/
LOCATION:Virtual Zoom Meeting
CATEGORIES:Zoom
END:VEVENT
BEGIN:VEVENT
DTSTART;TZID=America/New_York:20250914T120000
DTEND;TZID=America/New_York:20250914T130000
DTSTAMP:20260425T195153
CREATED:20250606T184922Z
LAST-MODIFIED:20250606T184922Z
UID:10002679-1757851200-1757854800@www.a2blue.org
SUMMARY:Translocal Connection (TLC)
DESCRIPTION:The TLC small group will meet immediately after church via Zoom from noon-1pm for connection and guided discussion. All are welcome.
URL:https://www.a2blue.org/event/translocal-connection-tlc-13/
LOCATION:Zoom
CATEGORIES:connection,Zoom
END:VEVENT
BEGIN:VEVENT
DTSTART;TZID=America/New_York:20250914T200000
DTEND;TZID=America/New_York:20250914T203000
DTSTAMP:20260425T195153
CREATED:20230929T164931Z
LAST-MODIFIED:20230929T164931Z
UID:10001322-1757880000-1757881800@www.a2blue.org
SUMMARY:Sunday Evening Prayer Group
DESCRIPTION:Join via Zoom for a half hour of readings\, music\, and shared silence. Email nancyogilvie@gmail.com for the Zoom link.
URL:https://www.a2blue.org/event/sunday-evening-prayer-group/2025-09-14/
LOCATION:Virtual Zoom Meeting
CATEGORIES:Zoom
END:VEVENT
BEGIN:VEVENT
DTSTART;TZID=America/New_York:20250921T200000
DTEND;TZID=America/New_York:20250921T203000
DTSTAMP:20260425T195153
CREATED:20230929T164931Z
LAST-MODIFIED:20230929T164931Z
UID:10001323-1758484800-1758486600@www.a2blue.org
SUMMARY:Sunday Evening Prayer Group
DESCRIPTION:Join via Zoom for a half hour of readings\, music\, and shared silence. Email nancyogilvie@gmail.com for the Zoom link.
URL:https://www.a2blue.org/event/sunday-evening-prayer-group/2025-09-21/
LOCATION:Virtual Zoom Meeting
CATEGORIES:Zoom
END:VEVENT
BEGIN:VEVENT
DTSTART;TZID=America/New_York:20250928T200000
DTEND;TZID=America/New_York:20250928T203000
DTSTAMP:20260425T195153
CREATED:20230929T164931Z
LAST-MODIFIED:20230929T164931Z
UID:10001324-1759089600-1759091400@www.a2blue.org
SUMMARY:Sunday Evening Prayer Group
DESCRIPTION:Join via Zoom for a half hour of readings\, music\, and shared silence. Email nancyogilvie@gmail.com for the Zoom link.
URL:https://www.a2blue.org/event/sunday-evening-prayer-group/2025-09-28/
LOCATION:Virtual Zoom Meeting
CATEGORIES:Zoom
END:VEVENT
BEGIN:VEVENT
DTSTART;TZID=America/New_York:20251005T200000
DTEND;TZID=America/New_York:20251005T203000
DTSTAMP:20260425T195153
CREATED:20230929T164931Z
LAST-MODIFIED:20230929T164931Z
UID:10001325-1759694400-1759696200@www.a2blue.org
SUMMARY:Sunday Evening Prayer Group
DESCRIPTION:Join via Zoom for a half hour of readings\, music\, and shared silence. Email nancyogilvie@gmail.com for the Zoom link.
URL:https://www.a2blue.org/event/sunday-evening-prayer-group/2025-10-05/
LOCATION:Virtual Zoom Meeting
CATEGORIES:Zoom
END:VEVENT
BEGIN:VEVENT
DTSTART;TZID=America/New_York:20251012T200000
DTEND;TZID=America/New_York:20251012T203000
DTSTAMP:20260425T195153
CREATED:20230929T164931Z
LAST-MODIFIED:20230929T164931Z
UID:10001326-1760299200-1760301000@www.a2blue.org
SUMMARY:Sunday Evening Prayer Group
DESCRIPTION:Join via Zoom for a half hour of readings\, music\, and shared silence. Email nancyogilvie@gmail.com for the Zoom link.
URL:https://www.a2blue.org/event/sunday-evening-prayer-group/2025-10-12/
LOCATION:Virtual Zoom Meeting
CATEGORIES:Zoom
END:VEVENT
BEGIN:VEVENT
DTSTART;TZID=America/New_York:20251019T200000
DTEND;TZID=America/New_York:20251019T203000
DTSTAMP:20260425T195153
CREATED:20230929T164931Z
LAST-MODIFIED:20230929T164931Z
UID:10001327-1760904000-1760905800@www.a2blue.org
SUMMARY:Sunday Evening Prayer Group
DESCRIPTION:Join via Zoom for a half hour of readings\, music\, and shared silence. Email nancyogilvie@gmail.com for the Zoom link.
URL:https://www.a2blue.org/event/sunday-evening-prayer-group/2025-10-19/
LOCATION:Virtual Zoom Meeting
CATEGORIES:Zoom
END:VEVENT
BEGIN:VEVENT
DTSTART;TZID=America/New_York:20251026T200000
DTEND;TZID=America/New_York:20251026T203000
DTSTAMP:20260425T195153
CREATED:20230929T164931Z
LAST-MODIFIED:20230929T164931Z
UID:10001328-1761508800-1761510600@www.a2blue.org
SUMMARY:Sunday Evening Prayer Group
DESCRIPTION:Join via Zoom for a half hour of readings\, music\, and shared silence. Email nancyogilvie@gmail.com for the Zoom link.
URL:https://www.a2blue.org/event/sunday-evening-prayer-group/2025-10-26/
LOCATION:Virtual Zoom Meeting
CATEGORIES:Zoom
END:VEVENT
BEGIN:VEVENT
DTSTART;TZID=America/New_York:20251102T200000
DTEND;TZID=America/New_York:20251102T203000
DTSTAMP:20260425T195153
CREATED:20230929T164931Z
LAST-MODIFIED:20230929T164931Z
UID:10001329-1762113600-1762115400@www.a2blue.org
SUMMARY:Sunday Evening Prayer Group
DESCRIPTION:Join via Zoom for a half hour of readings\, music\, and shared silence. Email nancyogilvie@gmail.com for the Zoom link.
URL:https://www.a2blue.org/event/sunday-evening-prayer-group/2025-11-02/
LOCATION:Virtual Zoom Meeting
CATEGORIES:Zoom
END:VEVENT
BEGIN:VEVENT
DTSTART;TZID=America/New_York:20251109T200000
DTEND;TZID=America/New_York:20251109T203000
DTSTAMP:20260425T195153
CREATED:20230929T164931Z
LAST-MODIFIED:20230929T164931Z
UID:10001330-1762718400-1762720200@www.a2blue.org
SUMMARY:Sunday Evening Prayer Group
DESCRIPTION:Join via Zoom for a half hour of readings\, music\, and shared silence. Email nancyogilvie@gmail.com for the Zoom link.
URL:https://www.a2blue.org/event/sunday-evening-prayer-group/2025-11-09/
LOCATION:Virtual Zoom Meeting
CATEGORIES:Zoom
END:VEVENT
BEGIN:VEVENT
DTSTART;TZID=America/New_York:20251116T200000
DTEND;TZID=America/New_York:20251116T203000
DTSTAMP:20260425T195153
CREATED:20230929T164931Z
LAST-MODIFIED:20230929T164931Z
UID:10001331-1763323200-1763325000@www.a2blue.org
SUMMARY:Sunday Evening Prayer Group
DESCRIPTION:Join via Zoom for a half hour of readings\, music\, and shared silence. Email nancyogilvie@gmail.com for the Zoom link.
URL:https://www.a2blue.org/event/sunday-evening-prayer-group/2025-11-16/
LOCATION:Virtual Zoom Meeting
CATEGORIES:Zoom
END:VEVENT
BEGIN:VEVENT
DTSTART;TZID=America/New_York:20251118T190000
DTEND;TZID=America/New_York:20251118T194000
DTSTAMP:20260425T195153
CREATED:20251107T171759Z
LAST-MODIFIED:20251107T171759Z
UID:10002724-1763492400-1763494800@www.a2blue.org
SUMMARY:Intro to Praying the Hours (Zoomie Edition)
DESCRIPTION:Join Emily and Daniel online via Zoom from 7:00-7:40pm for a brief introduction to praying the liturgy of the hours. We invite you to get a copy of either Christmastide: Prayers From Advent Through Epiphany or The Divine Hours: Prayers for Autumn and Wintertime and join us in using this prayer tool during Advent (starts Nov. 30 this year) and ending at Epiphany (Jan. 6). During this intro session we’ll talk about a brief history of the hours\, the purpose of praying this way\, and how to use the prayer book. If you’d like a Zoom link to this session\, email Emily (emily@a2blue.org) or Daniel (daniel@a2blue.org). \n 
URL:https://www.a2blue.org/event/intro-to-praying-the-hours-zoomie-edition/
LOCATION:Zoom
CATEGORIES:classes,Zoom
END:VEVENT
BEGIN:VEVENT
DTSTART;TZID=America/New_York:20251123T200000
DTEND;TZID=America/New_York:20251123T203000
DTSTAMP:20260425T195153
CREATED:20230929T164931Z
LAST-MODIFIED:20230929T164931Z
UID:10001332-1763928000-1763929800@www.a2blue.org
SUMMARY:Sunday Evening Prayer Group
DESCRIPTION:Join via Zoom for a half hour of readings\, music\, and shared silence. Email nancyogilvie@gmail.com for the Zoom link.
URL:https://www.a2blue.org/event/sunday-evening-prayer-group/2025-11-23/
LOCATION:Virtual Zoom Meeting
CATEGORIES:Zoom
END:VEVENT
BEGIN:VEVENT
DTSTART;TZID=America/New_York:20251130T200000
DTEND;TZID=America/New_York:20251130T203000
DTSTAMP:20260425T195153
CREATED:20230929T164931Z
LAST-MODIFIED:20230929T164931Z
UID:10001333-1764532800-1764534600@www.a2blue.org
SUMMARY:Sunday Evening Prayer Group
DESCRIPTION:Join via Zoom for a half hour of readings\, music\, and shared silence. Email nancyogilvie@gmail.com for the Zoom link.
URL:https://www.a2blue.org/event/sunday-evening-prayer-group/2025-11-30/
LOCATION:Virtual Zoom Meeting
CATEGORIES:Zoom
END:VEVENT
BEGIN:VEVENT
DTSTART;TZID=America/New_York:20251207T200000
DTEND;TZID=America/New_York:20251207T203000
DTSTAMP:20260425T195153
CREATED:20230929T164931Z
LAST-MODIFIED:20230929T164931Z
UID:10001334-1765137600-1765139400@www.a2blue.org
SUMMARY:Sunday Evening Prayer Group
DESCRIPTION:Join via Zoom for a half hour of readings\, music\, and shared silence. Email nancyogilvie@gmail.com for the Zoom link.
URL:https://www.a2blue.org/event/sunday-evening-prayer-group/2025-12-07/
LOCATION:Virtual Zoom Meeting
CATEGORIES:Zoom
END:VEVENT
BEGIN:VEVENT
DTSTART;TZID=America/New_York:20251214T200000
DTEND;TZID=America/New_York:20251214T203000
DTSTAMP:20260425T195153
CREATED:20230929T164931Z
LAST-MODIFIED:20230929T164931Z
UID:10001335-1765742400-1765744200@www.a2blue.org
SUMMARY:Sunday Evening Prayer Group
DESCRIPTION:Join via Zoom for a half hour of readings\, music\, and shared silence. Email nancyogilvie@gmail.com for the Zoom link.
URL:https://www.a2blue.org/event/sunday-evening-prayer-group/2025-12-14/
LOCATION:Virtual Zoom Meeting
CATEGORIES:Zoom
END:VEVENT
BEGIN:VEVENT
DTSTART;TZID=America/New_York:20251216T190000
DTEND;TZID=America/New_York:20251216T193000
DTSTAMP:20260425T195153
CREATED:20251107T172053Z
LAST-MODIFIED:20251107T172053Z
UID:10002725-1765911600-1765913400@www.a2blue.org
SUMMARY:Divine Hours Group Zoom Check-In
DESCRIPTION:We’ll have a brief check-in via Zoom from 7-7:30pm for those of us praying the Divine Hours through Advent.
URL:https://www.a2blue.org/event/divine-hours-group-zoom-check-in/
LOCATION:Zoom
CATEGORIES:classes,Zoom
END:VEVENT
BEGIN:VEVENT
DTSTART;TZID=America/New_York:20251216T193000
DTEND;TZID=America/New_York:20251216T203000
DTSTAMP:20260425T195153
CREATED:20251107T172235Z
LAST-MODIFIED:20251107T172235Z
UID:10002726-1765913400-1765917000@www.a2blue.org
SUMMARY:Zoomies Welcome Session
DESCRIPTION:Zoomies are invited to join Pastor Emily online at 7:30pm. Bring a hot beverage and come share a bit of your story. A link will be included in the weekly update closer to the date.
URL:https://www.a2blue.org/event/zoomies-welcome-session/
LOCATION:Zoom
CATEGORIES:connection,Zoom
END:VEVENT
BEGIN:VEVENT
DTSTART;TZID=America/New_York:20251221T200000
DTEND;TZID=America/New_York:20251221T203000
DTSTAMP:20260425T195153
CREATED:20230929T164931Z
LAST-MODIFIED:20230929T164931Z
UID:10001336-1766347200-1766349000@www.a2blue.org
SUMMARY:Sunday Evening Prayer Group
DESCRIPTION:Join via Zoom for a half hour of readings\, music\, and shared silence. Email nancyogilvie@gmail.com for the Zoom link.
URL:https://www.a2blue.org/event/sunday-evening-prayer-group/2025-12-21/
LOCATION:Virtual Zoom Meeting
CATEGORIES:Zoom
END:VEVENT
BEGIN:VEVENT
DTSTART;TZID=America/New_York:20251228T200000
DTEND;TZID=America/New_York:20251228T203000
DTSTAMP:20260425T195153
CREATED:20230929T164931Z
LAST-MODIFIED:20230929T164931Z
UID:10001337-1766952000-1766953800@www.a2blue.org
SUMMARY:Sunday Evening Prayer Group
DESCRIPTION:Join via Zoom for a half hour of readings\, music\, and shared silence. Email nancyogilvie@gmail.com for the Zoom link.
URL:https://www.a2blue.org/event/sunday-evening-prayer-group/2025-12-28/
LOCATION:Virtual Zoom Meeting
CATEGORIES:Zoom
END:VEVENT
BEGIN:VEVENT
DTSTART;TZID=America/New_York:20260104T200000
DTEND;TZID=America/New_York:20260104T203000
DTSTAMP:20260425T195153
CREATED:20230929T164931Z
LAST-MODIFIED:20230929T164931Z
UID:10001338-1767556800-1767558600@www.a2blue.org
SUMMARY:Sunday Evening Prayer Group
DESCRIPTION:Join via Zoom for a half hour of readings\, music\, and shared silence. Email nancyogilvie@gmail.com for the Zoom link.
URL:https://www.a2blue.org/event/sunday-evening-prayer-group/2026-01-04/
LOCATION:Virtual Zoom Meeting
CATEGORIES:Zoom
END:VEVENT
BEGIN:VEVENT
DTSTART;TZID=America/New_York:20260106T190000
DTEND;TZID=America/New_York:20260106T193000
DTSTAMP:20260425T195153
CREATED:20251107T172748Z
LAST-MODIFIED:20251107T172748Z
UID:10002728-1767726000-1767727800@www.a2blue.org
SUMMARY:Divine Hours Group Wrap-Up
DESCRIPTION:We’ll have a check-in via Zoom from 7-7:40pm for those of us praying the Divine Hours from Advent through Epiphany. We’ll chat about how it went for us\, if there were times of the day that were easier to find time to pray\, if it was helpful\, and so on.
URL:https://www.a2blue.org/event/divine-hours-group-wrap-up/
LOCATION:Zoom
CATEGORIES:classes,Zoom
END:VEVENT
END:VCALENDAR