BEGIN:VCALENDAR
VERSION:2.0
PRODID:-//Blue Ocean Church Ann Arbor - ECPv6.15.20//NONSGML v1.0//EN
CALSCALE:GREGORIAN
METHOD:PUBLISH
X-ORIGINAL-URL:https://www.a2blue.org
X-WR-CALDESC:Events for Blue Ocean Church Ann Arbor
REFRESH-INTERVAL;VALUE=DURATION:PT1H
X-Robots-Tag:noindex
X-PUBLISHED-TTL:PT1H
BEGIN:VTIMEZONE
TZID:America/New_York
BEGIN:DAYLIGHT
TZOFFSETFROM:-0500
TZOFFSETTO:-0400
TZNAME:EDT
DTSTART:20250309T070000
END:DAYLIGHT
BEGIN:STANDARD
TZOFFSETFROM:-0400
TZOFFSETTO:-0500
TZNAME:EST
DTSTART:20251102T060000
END:STANDARD
BEGIN:DAYLIGHT
TZOFFSETFROM:-0500
TZOFFSETTO:-0400
TZNAME:EDT
DTSTART:20260308T070000
END:DAYLIGHT
BEGIN:STANDARD
TZOFFSETFROM:-0400
TZOFFSETTO:-0500
TZNAME:EST
DTSTART:20261101T060000
END:STANDARD
BEGIN:DAYLIGHT
TZOFFSETFROM:-0500
TZOFFSETTO:-0400
TZNAME:EDT
DTSTART:20270314T070000
END:DAYLIGHT
BEGIN:STANDARD
TZOFFSETFROM:-0400
TZOFFSETTO:-0500
TZNAME:EST
DTSTART:20271107T060000
END:STANDARD
BEGIN:DAYLIGHT
TZOFFSETFROM:-0500
TZOFFSETTO:-0400
TZNAME:EDT
DTSTART:20280312T070000
END:DAYLIGHT
BEGIN:STANDARD
TZOFFSETFROM:-0400
TZOFFSETTO:-0500
TZNAME:EST
DTSTART:20281105T060000
END:STANDARD
END:VTIMEZONE
BEGIN:VEVENT
DTSTART;TZID=America/New_York:20260726T200000
DTEND;TZID=America/New_York:20260726T203000
DTSTAMP:20260425T112145
CREATED:20230929T164931Z
LAST-MODIFIED:20230929T164931Z
UID:10001367-1785096000-1785097800@www.a2blue.org
SUMMARY:Sunday Evening Prayer Group
DESCRIPTION:Join via Zoom for a half hour of readings\, music\, and shared silence. Email nancyogilvie@gmail.com for the Zoom link.
URL:https://www.a2blue.org/event/sunday-evening-prayer-group/2026-07-26/
LOCATION:Virtual Zoom Meeting
CATEGORIES:Zoom
END:VEVENT
BEGIN:VEVENT
DTSTART;TZID=America/New_York:20260802T200000
DTEND;TZID=America/New_York:20260802T203000
DTSTAMP:20260425T112145
CREATED:20230929T164931Z
LAST-MODIFIED:20230929T164931Z
UID:10001368-1785700800-1785702600@www.a2blue.org
SUMMARY:Sunday Evening Prayer Group
DESCRIPTION:Join via Zoom for a half hour of readings\, music\, and shared silence. Email nancyogilvie@gmail.com for the Zoom link.
URL:https://www.a2blue.org/event/sunday-evening-prayer-group/2026-08-02/
LOCATION:Virtual Zoom Meeting
CATEGORIES:Zoom
END:VEVENT
BEGIN:VEVENT
DTSTART;TZID=America/New_York:20260809T200000
DTEND;TZID=America/New_York:20260809T203000
DTSTAMP:20260425T112145
CREATED:20230929T164931Z
LAST-MODIFIED:20230929T164931Z
UID:10001369-1786305600-1786307400@www.a2blue.org
SUMMARY:Sunday Evening Prayer Group
DESCRIPTION:Join via Zoom for a half hour of readings\, music\, and shared silence. Email nancyogilvie@gmail.com for the Zoom link.
URL:https://www.a2blue.org/event/sunday-evening-prayer-group/2026-08-09/
LOCATION:Virtual Zoom Meeting
CATEGORIES:Zoom
END:VEVENT
BEGIN:VEVENT
DTSTART;TZID=America/New_York:20260816T200000
DTEND;TZID=America/New_York:20260816T203000
DTSTAMP:20260425T112145
CREATED:20230929T164931Z
LAST-MODIFIED:20230929T164931Z
UID:10001370-1786910400-1786912200@www.a2blue.org
SUMMARY:Sunday Evening Prayer Group
DESCRIPTION:Join via Zoom for a half hour of readings\, music\, and shared silence. Email nancyogilvie@gmail.com for the Zoom link.
URL:https://www.a2blue.org/event/sunday-evening-prayer-group/2026-08-16/
LOCATION:Virtual Zoom Meeting
CATEGORIES:Zoom
END:VEVENT
BEGIN:VEVENT
DTSTART;TZID=America/New_York:20260823T200000
DTEND;TZID=America/New_York:20260823T203000
DTSTAMP:20260425T112145
CREATED:20230929T164931Z
LAST-MODIFIED:20230929T164931Z
UID:10001371-1787515200-1787517000@www.a2blue.org
SUMMARY:Sunday Evening Prayer Group
DESCRIPTION:Join via Zoom for a half hour of readings\, music\, and shared silence. Email nancyogilvie@gmail.com for the Zoom link.
URL:https://www.a2blue.org/event/sunday-evening-prayer-group/2026-08-23/
LOCATION:Virtual Zoom Meeting
CATEGORIES:Zoom
END:VEVENT
BEGIN:VEVENT
DTSTART;TZID=America/New_York:20260830T200000
DTEND;TZID=America/New_York:20260830T203000
DTSTAMP:20260425T112145
CREATED:20230929T164931Z
LAST-MODIFIED:20230929T164931Z
UID:10001372-1788120000-1788121800@www.a2blue.org
SUMMARY:Sunday Evening Prayer Group
DESCRIPTION:Join via Zoom for a half hour of readings\, music\, and shared silence. Email nancyogilvie@gmail.com for the Zoom link.
URL:https://www.a2blue.org/event/sunday-evening-prayer-group/2026-08-30/
LOCATION:Virtual Zoom Meeting
CATEGORIES:Zoom
END:VEVENT
BEGIN:VEVENT
DTSTART;TZID=America/New_York:20260906T200000
DTEND;TZID=America/New_York:20260906T203000
DTSTAMP:20260425T112145
CREATED:20230929T164931Z
LAST-MODIFIED:20230929T164931Z
UID:10001373-1788724800-1788726600@www.a2blue.org
SUMMARY:Sunday Evening Prayer Group
DESCRIPTION:Join via Zoom for a half hour of readings\, music\, and shared silence. Email nancyogilvie@gmail.com for the Zoom link.
URL:https://www.a2blue.org/event/sunday-evening-prayer-group/2026-09-06/
LOCATION:Virtual Zoom Meeting
CATEGORIES:Zoom
END:VEVENT
BEGIN:VEVENT
DTSTART;TZID=America/New_York:20260913T200000
DTEND;TZID=America/New_York:20260913T203000
DTSTAMP:20260425T112145
CREATED:20230929T164931Z
LAST-MODIFIED:20230929T164931Z
UID:10001374-1789329600-1789331400@www.a2blue.org
SUMMARY:Sunday Evening Prayer Group
DESCRIPTION:Join via Zoom for a half hour of readings\, music\, and shared silence. Email nancyogilvie@gmail.com for the Zoom link.
URL:https://www.a2blue.org/event/sunday-evening-prayer-group/2026-09-13/
LOCATION:Virtual Zoom Meeting
CATEGORIES:Zoom
END:VEVENT
BEGIN:VEVENT
DTSTART;TZID=America/New_York:20260920T200000
DTEND;TZID=America/New_York:20260920T203000
DTSTAMP:20260425T112145
CREATED:20230929T164931Z
LAST-MODIFIED:20230929T164931Z
UID:10001375-1789934400-1789936200@www.a2blue.org
SUMMARY:Sunday Evening Prayer Group
DESCRIPTION:Join via Zoom for a half hour of readings\, music\, and shared silence. Email nancyogilvie@gmail.com for the Zoom link.
URL:https://www.a2blue.org/event/sunday-evening-prayer-group/2026-09-20/
LOCATION:Virtual Zoom Meeting
CATEGORIES:Zoom
END:VEVENT
BEGIN:VEVENT
DTSTART;TZID=America/New_York:20260927T200000
DTEND;TZID=America/New_York:20260927T203000
DTSTAMP:20260425T112145
CREATED:20230929T164931Z
LAST-MODIFIED:20230929T164931Z
UID:10001376-1790539200-1790541000@www.a2blue.org
SUMMARY:Sunday Evening Prayer Group
DESCRIPTION:Join via Zoom for a half hour of readings\, music\, and shared silence. Email nancyogilvie@gmail.com for the Zoom link.
URL:https://www.a2blue.org/event/sunday-evening-prayer-group/2026-09-27/
LOCATION:Virtual Zoom Meeting
CATEGORIES:Zoom
END:VEVENT
BEGIN:VEVENT
DTSTART;TZID=America/New_York:20261004T200000
DTEND;TZID=America/New_York:20261004T203000
DTSTAMP:20260425T112145
CREATED:20230929T164931Z
LAST-MODIFIED:20230929T164931Z
UID:10001377-1791144000-1791145800@www.a2blue.org
SUMMARY:Sunday Evening Prayer Group
DESCRIPTION:Join via Zoom for a half hour of readings\, music\, and shared silence. Email nancyogilvie@gmail.com for the Zoom link.
URL:https://www.a2blue.org/event/sunday-evening-prayer-group/2026-10-04/
LOCATION:Virtual Zoom Meeting
CATEGORIES:Zoom
END:VEVENT
BEGIN:VEVENT
DTSTART;TZID=America/New_York:20261011T200000
DTEND;TZID=America/New_York:20261011T203000
DTSTAMP:20260425T112145
CREATED:20230929T164931Z
LAST-MODIFIED:20230929T164931Z
UID:10001378-1791748800-1791750600@www.a2blue.org
SUMMARY:Sunday Evening Prayer Group
DESCRIPTION:Join via Zoom for a half hour of readings\, music\, and shared silence. Email nancyogilvie@gmail.com for the Zoom link.
URL:https://www.a2blue.org/event/sunday-evening-prayer-group/2026-10-11/
LOCATION:Virtual Zoom Meeting
CATEGORIES:Zoom
END:VEVENT
BEGIN:VEVENT
DTSTART;TZID=America/New_York:20261018T200000
DTEND;TZID=America/New_York:20261018T203000
DTSTAMP:20260425T112145
CREATED:20230929T164931Z
LAST-MODIFIED:20230929T164931Z
UID:10001379-1792353600-1792355400@www.a2blue.org
SUMMARY:Sunday Evening Prayer Group
DESCRIPTION:Join via Zoom for a half hour of readings\, music\, and shared silence. Email nancyogilvie@gmail.com for the Zoom link.
URL:https://www.a2blue.org/event/sunday-evening-prayer-group/2026-10-18/
LOCATION:Virtual Zoom Meeting
CATEGORIES:Zoom
END:VEVENT
BEGIN:VEVENT
DTSTART;TZID=America/New_York:20261025T200000
DTEND;TZID=America/New_York:20261025T203000
DTSTAMP:20260425T112145
CREATED:20230929T164931Z
LAST-MODIFIED:20230929T164931Z
UID:10001380-1792958400-1792960200@www.a2blue.org
SUMMARY:Sunday Evening Prayer Group
DESCRIPTION:Join via Zoom for a half hour of readings\, music\, and shared silence. Email nancyogilvie@gmail.com for the Zoom link.
URL:https://www.a2blue.org/event/sunday-evening-prayer-group/2026-10-25/
LOCATION:Virtual Zoom Meeting
CATEGORIES:Zoom
END:VEVENT
BEGIN:VEVENT
DTSTART;TZID=America/New_York:20261101T200000
DTEND;TZID=America/New_York:20261101T203000
DTSTAMP:20260425T112145
CREATED:20230929T164931Z
LAST-MODIFIED:20230929T164931Z
UID:10001381-1793563200-1793565000@www.a2blue.org
SUMMARY:Sunday Evening Prayer Group
DESCRIPTION:Join via Zoom for a half hour of readings\, music\, and shared silence. Email nancyogilvie@gmail.com for the Zoom link.
URL:https://www.a2blue.org/event/sunday-evening-prayer-group/2026-11-01/
LOCATION:Virtual Zoom Meeting
CATEGORIES:Zoom
END:VEVENT
BEGIN:VEVENT
DTSTART;TZID=America/New_York:20261108T200000
DTEND;TZID=America/New_York:20261108T203000
DTSTAMP:20260425T112145
CREATED:20230929T164931Z
LAST-MODIFIED:20230929T164931Z
UID:10001382-1794168000-1794169800@www.a2blue.org
SUMMARY:Sunday Evening Prayer Group
DESCRIPTION:Join via Zoom for a half hour of readings\, music\, and shared silence. Email nancyogilvie@gmail.com for the Zoom link.
URL:https://www.a2blue.org/event/sunday-evening-prayer-group/2026-11-08/
LOCATION:Virtual Zoom Meeting
CATEGORIES:Zoom
END:VEVENT
BEGIN:VEVENT
DTSTART;TZID=America/New_York:20261115T200000
DTEND;TZID=America/New_York:20261115T203000
DTSTAMP:20260425T112145
CREATED:20230929T164931Z
LAST-MODIFIED:20230929T164931Z
UID:10001383-1794772800-1794774600@www.a2blue.org
SUMMARY:Sunday Evening Prayer Group
DESCRIPTION:Join via Zoom for a half hour of readings\, music\, and shared silence. Email nancyogilvie@gmail.com for the Zoom link.
URL:https://www.a2blue.org/event/sunday-evening-prayer-group/2026-11-15/
LOCATION:Virtual Zoom Meeting
CATEGORIES:Zoom
END:VEVENT
BEGIN:VEVENT
DTSTART;TZID=America/New_York:20261122T200000
DTEND;TZID=America/New_York:20261122T203000
DTSTAMP:20260425T112145
CREATED:20230929T164931Z
LAST-MODIFIED:20230929T164931Z
UID:10001384-1795377600-1795379400@www.a2blue.org
SUMMARY:Sunday Evening Prayer Group
DESCRIPTION:Join via Zoom for a half hour of readings\, music\, and shared silence. Email nancyogilvie@gmail.com for the Zoom link.
URL:https://www.a2blue.org/event/sunday-evening-prayer-group/2026-11-22/
LOCATION:Virtual Zoom Meeting
CATEGORIES:Zoom
END:VEVENT
BEGIN:VEVENT
DTSTART;TZID=America/New_York:20261129T200000
DTEND;TZID=America/New_York:20261129T203000
DTSTAMP:20260425T112145
CREATED:20230929T164931Z
LAST-MODIFIED:20230929T164931Z
UID:10001385-1795982400-1795984200@www.a2blue.org
SUMMARY:Sunday Evening Prayer Group
DESCRIPTION:Join via Zoom for a half hour of readings\, music\, and shared silence. Email nancyogilvie@gmail.com for the Zoom link.
URL:https://www.a2blue.org/event/sunday-evening-prayer-group/2026-11-29/
LOCATION:Virtual Zoom Meeting
CATEGORIES:Zoom
END:VEVENT
BEGIN:VEVENT
DTSTART;TZID=America/New_York:20261206T200000
DTEND;TZID=America/New_York:20261206T203000
DTSTAMP:20260425T112145
CREATED:20230929T164931Z
LAST-MODIFIED:20230929T164931Z
UID:10001386-1796587200-1796589000@www.a2blue.org
SUMMARY:Sunday Evening Prayer Group
DESCRIPTION:Join via Zoom for a half hour of readings\, music\, and shared silence. Email nancyogilvie@gmail.com for the Zoom link.
URL:https://www.a2blue.org/event/sunday-evening-prayer-group/2026-12-06/
LOCATION:Virtual Zoom Meeting
CATEGORIES:Zoom
END:VEVENT
BEGIN:VEVENT
DTSTART;TZID=America/New_York:20261213T200000
DTEND;TZID=America/New_York:20261213T203000
DTSTAMP:20260425T112145
CREATED:20230929T164931Z
LAST-MODIFIED:20230929T164931Z
UID:10001387-1797192000-1797193800@www.a2blue.org
SUMMARY:Sunday Evening Prayer Group
DESCRIPTION:Join via Zoom for a half hour of readings\, music\, and shared silence. Email nancyogilvie@gmail.com for the Zoom link.
URL:https://www.a2blue.org/event/sunday-evening-prayer-group/2026-12-13/
LOCATION:Virtual Zoom Meeting
CATEGORIES:Zoom
END:VEVENT
BEGIN:VEVENT
DTSTART;TZID=America/New_York:20261220T200000
DTEND;TZID=America/New_York:20261220T203000
DTSTAMP:20260425T112145
CREATED:20230929T164931Z
LAST-MODIFIED:20230929T164931Z
UID:10001388-1797796800-1797798600@www.a2blue.org
SUMMARY:Sunday Evening Prayer Group
DESCRIPTION:Join via Zoom for a half hour of readings\, music\, and shared silence. Email nancyogilvie@gmail.com for the Zoom link.
URL:https://www.a2blue.org/event/sunday-evening-prayer-group/2026-12-20/
LOCATION:Virtual Zoom Meeting
CATEGORIES:Zoom
END:VEVENT
BEGIN:VEVENT
DTSTART;TZID=America/New_York:20261227T200000
DTEND;TZID=America/New_York:20261227T203000
DTSTAMP:20260425T112145
CREATED:20230929T164931Z
LAST-MODIFIED:20230929T164931Z
UID:10001389-1798401600-1798403400@www.a2blue.org
SUMMARY:Sunday Evening Prayer Group
DESCRIPTION:Join via Zoom for a half hour of readings\, music\, and shared silence. Email nancyogilvie@gmail.com for the Zoom link.
URL:https://www.a2blue.org/event/sunday-evening-prayer-group/2026-12-27/
LOCATION:Virtual Zoom Meeting
CATEGORIES:Zoom
END:VEVENT
BEGIN:VEVENT
DTSTART;TZID=America/New_York:20270103T200000
DTEND;TZID=America/New_York:20270103T203000
DTSTAMP:20260425T112145
CREATED:20230929T164931Z
LAST-MODIFIED:20230929T164931Z
UID:10001390-1799006400-1799008200@www.a2blue.org
SUMMARY:Sunday Evening Prayer Group
DESCRIPTION:Join via Zoom for a half hour of readings\, music\, and shared silence. Email nancyogilvie@gmail.com for the Zoom link.
URL:https://www.a2blue.org/event/sunday-evening-prayer-group/2027-01-03/
LOCATION:Virtual Zoom Meeting
CATEGORIES:Zoom
END:VEVENT
BEGIN:VEVENT
DTSTART;TZID=America/New_York:20270110T200000
DTEND;TZID=America/New_York:20270110T203000
DTSTAMP:20260425T112145
CREATED:20230929T164931Z
LAST-MODIFIED:20230929T164931Z
UID:10001391-1799611200-1799613000@www.a2blue.org
SUMMARY:Sunday Evening Prayer Group
DESCRIPTION:Join via Zoom for a half hour of readings\, music\, and shared silence. Email nancyogilvie@gmail.com for the Zoom link.
URL:https://www.a2blue.org/event/sunday-evening-prayer-group/2027-01-10/
LOCATION:Virtual Zoom Meeting
CATEGORIES:Zoom
END:VEVENT
BEGIN:VEVENT
DTSTART;TZID=America/New_York:20270117T200000
DTEND;TZID=America/New_York:20270117T203000
DTSTAMP:20260425T112145
CREATED:20230929T164931Z
LAST-MODIFIED:20230929T164931Z
UID:10001392-1800216000-1800217800@www.a2blue.org
SUMMARY:Sunday Evening Prayer Group
DESCRIPTION:Join via Zoom for a half hour of readings\, music\, and shared silence. Email nancyogilvie@gmail.com for the Zoom link.
URL:https://www.a2blue.org/event/sunday-evening-prayer-group/2027-01-17/
LOCATION:Virtual Zoom Meeting
CATEGORIES:Zoom
END:VEVENT
BEGIN:VEVENT
DTSTART;TZID=America/New_York:20270124T200000
DTEND;TZID=America/New_York:20270124T203000
DTSTAMP:20260425T112145
CREATED:20230929T164931Z
LAST-MODIFIED:20230929T164931Z
UID:10001393-1800820800-1800822600@www.a2blue.org
SUMMARY:Sunday Evening Prayer Group
DESCRIPTION:Join via Zoom for a half hour of readings\, music\, and shared silence. Email nancyogilvie@gmail.com for the Zoom link.
URL:https://www.a2blue.org/event/sunday-evening-prayer-group/2027-01-24/
LOCATION:Virtual Zoom Meeting
CATEGORIES:Zoom
END:VEVENT
BEGIN:VEVENT
DTSTART;TZID=America/New_York:20270131T200000
DTEND;TZID=America/New_York:20270131T203000
DTSTAMP:20260425T112145
CREATED:20230929T164931Z
LAST-MODIFIED:20230929T164931Z
UID:10001394-1801425600-1801427400@www.a2blue.org
SUMMARY:Sunday Evening Prayer Group
DESCRIPTION:Join via Zoom for a half hour of readings\, music\, and shared silence. Email nancyogilvie@gmail.com for the Zoom link.
URL:https://www.a2blue.org/event/sunday-evening-prayer-group/2027-01-31/
LOCATION:Virtual Zoom Meeting
CATEGORIES:Zoom
END:VEVENT
BEGIN:VEVENT
DTSTART;TZID=America/New_York:20270207T200000
DTEND;TZID=America/New_York:20270207T203000
DTSTAMP:20260425T112145
CREATED:20230929T164931Z
LAST-MODIFIED:20230929T164931Z
UID:10001395-1802030400-1802032200@www.a2blue.org
SUMMARY:Sunday Evening Prayer Group
DESCRIPTION:Join via Zoom for a half hour of readings\, music\, and shared silence. Email nancyogilvie@gmail.com for the Zoom link.
URL:https://www.a2blue.org/event/sunday-evening-prayer-group/2027-02-07/
LOCATION:Virtual Zoom Meeting
CATEGORIES:Zoom
END:VEVENT
BEGIN:VEVENT
DTSTART;TZID=America/New_York:20270214T200000
DTEND;TZID=America/New_York:20270214T203000
DTSTAMP:20260425T112145
CREATED:20230929T164931Z
LAST-MODIFIED:20230929T164931Z
UID:10001396-1802635200-1802637000@www.a2blue.org
SUMMARY:Sunday Evening Prayer Group
DESCRIPTION:Join via Zoom for a half hour of readings\, music\, and shared silence. Email nancyogilvie@gmail.com for the Zoom link.
URL:https://www.a2blue.org/event/sunday-evening-prayer-group/2027-02-14/
LOCATION:Virtual Zoom Meeting
CATEGORIES:Zoom
END:VEVENT
END:VCALENDAR