BEGIN:VCALENDAR
VERSION:2.0
PRODID:-//Blue Ocean Church Ann Arbor - ECPv6.15.20//NONSGML v1.0//EN
CALSCALE:GREGORIAN
METHOD:PUBLISH
X-WR-CALNAME:Blue Ocean Church Ann Arbor
X-ORIGINAL-URL:https://www.a2blue.org
X-WR-CALDESC:Events for Blue Ocean Church Ann Arbor
REFRESH-INTERVAL;VALUE=DURATION:PT1H
X-Robots-Tag:noindex
X-PUBLISHED-TTL:PT1H
BEGIN:VTIMEZONE
TZID:America/New_York
BEGIN:DAYLIGHT
TZOFFSETFROM:-0500
TZOFFSETTO:-0400
TZNAME:EDT
DTSTART:20260308T070000
END:DAYLIGHT
BEGIN:STANDARD
TZOFFSETFROM:-0400
TZOFFSETTO:-0500
TZNAME:EST
DTSTART:20261101T060000
END:STANDARD
BEGIN:DAYLIGHT
TZOFFSETFROM:-0500
TZOFFSETTO:-0400
TZNAME:EDT
DTSTART:20270314T070000
END:DAYLIGHT
BEGIN:STANDARD
TZOFFSETFROM:-0400
TZOFFSETTO:-0500
TZNAME:EST
DTSTART:20271107T060000
END:STANDARD
BEGIN:DAYLIGHT
TZOFFSETFROM:-0500
TZOFFSETTO:-0400
TZNAME:EDT
DTSTART:20280312T070000
END:DAYLIGHT
BEGIN:STANDARD
TZOFFSETFROM:-0400
TZOFFSETTO:-0500
TZNAME:EST
DTSTART:20281105T060000
END:STANDARD
END:VTIMEZONE
BEGIN:VEVENT
DTSTART;TZID=America/New_York:20270328T200000
DTEND;TZID=America/New_York:20270328T203000
DTSTAMP:20260425T115155
CREATED:20230929T164931Z
LAST-MODIFIED:20230929T164931Z
UID:10001402-1806264000-1806265800@www.a2blue.org
SUMMARY:Sunday Evening Prayer Group
DESCRIPTION:Join via Zoom for a half hour of readings\, music\, and shared silence. Email nancyogilvie@gmail.com for the Zoom link.
URL:https://www.a2blue.org/event/sunday-evening-prayer-group/2027-03-28/
LOCATION:Virtual Zoom Meeting
CATEGORIES:Zoom
END:VEVENT
BEGIN:VEVENT
DTSTART;TZID=America/New_York:20270404T200000
DTEND;TZID=America/New_York:20270404T203000
DTSTAMP:20260425T115155
CREATED:20230929T164931Z
LAST-MODIFIED:20230929T164931Z
UID:10001403-1806868800-1806870600@www.a2blue.org
SUMMARY:Sunday Evening Prayer Group
DESCRIPTION:Join via Zoom for a half hour of readings\, music\, and shared silence. Email nancyogilvie@gmail.com for the Zoom link.
URL:https://www.a2blue.org/event/sunday-evening-prayer-group/2027-04-04/
LOCATION:Virtual Zoom Meeting
CATEGORIES:Zoom
END:VEVENT
BEGIN:VEVENT
DTSTART;TZID=America/New_York:20270411T200000
DTEND;TZID=America/New_York:20270411T203000
DTSTAMP:20260425T115155
CREATED:20230929T164931Z
LAST-MODIFIED:20230929T164931Z
UID:10001404-1807473600-1807475400@www.a2blue.org
SUMMARY:Sunday Evening Prayer Group
DESCRIPTION:Join via Zoom for a half hour of readings\, music\, and shared silence. Email nancyogilvie@gmail.com for the Zoom link.
URL:https://www.a2blue.org/event/sunday-evening-prayer-group/2027-04-11/
LOCATION:Virtual Zoom Meeting
CATEGORIES:Zoom
END:VEVENT
BEGIN:VEVENT
DTSTART;TZID=America/New_York:20270418T200000
DTEND;TZID=America/New_York:20270418T203000
DTSTAMP:20260425T115155
CREATED:20230929T164931Z
LAST-MODIFIED:20230929T164931Z
UID:10001405-1808078400-1808080200@www.a2blue.org
SUMMARY:Sunday Evening Prayer Group
DESCRIPTION:Join via Zoom for a half hour of readings\, music\, and shared silence. Email nancyogilvie@gmail.com for the Zoom link.
URL:https://www.a2blue.org/event/sunday-evening-prayer-group/2027-04-18/
LOCATION:Virtual Zoom Meeting
CATEGORIES:Zoom
END:VEVENT
BEGIN:VEVENT
DTSTART;TZID=America/New_York:20270425T200000
DTEND;TZID=America/New_York:20270425T203000
DTSTAMP:20260425T115155
CREATED:20230929T164931Z
LAST-MODIFIED:20230929T164931Z
UID:10001406-1808683200-1808685000@www.a2blue.org
SUMMARY:Sunday Evening Prayer Group
DESCRIPTION:Join via Zoom for a half hour of readings\, music\, and shared silence. Email nancyogilvie@gmail.com for the Zoom link.
URL:https://www.a2blue.org/event/sunday-evening-prayer-group/2027-04-25/
LOCATION:Virtual Zoom Meeting
CATEGORIES:Zoom
END:VEVENT
BEGIN:VEVENT
DTSTART;TZID=America/New_York:20270502T200000
DTEND;TZID=America/New_York:20270502T203000
DTSTAMP:20260425T115155
CREATED:20230929T164931Z
LAST-MODIFIED:20230929T164931Z
UID:10001407-1809288000-1809289800@www.a2blue.org
SUMMARY:Sunday Evening Prayer Group
DESCRIPTION:Join via Zoom for a half hour of readings\, music\, and shared silence. Email nancyogilvie@gmail.com for the Zoom link.
URL:https://www.a2blue.org/event/sunday-evening-prayer-group/2027-05-02/
LOCATION:Virtual Zoom Meeting
CATEGORIES:Zoom
END:VEVENT
BEGIN:VEVENT
DTSTART;TZID=America/New_York:20270509T200000
DTEND;TZID=America/New_York:20270509T203000
DTSTAMP:20260425T115155
CREATED:20230929T164931Z
LAST-MODIFIED:20230929T164931Z
UID:10001408-1809892800-1809894600@www.a2blue.org
SUMMARY:Sunday Evening Prayer Group
DESCRIPTION:Join via Zoom for a half hour of readings\, music\, and shared silence. Email nancyogilvie@gmail.com for the Zoom link.
URL:https://www.a2blue.org/event/sunday-evening-prayer-group/2027-05-09/
LOCATION:Virtual Zoom Meeting
CATEGORIES:Zoom
END:VEVENT
BEGIN:VEVENT
DTSTART;TZID=America/New_York:20270516T200000
DTEND;TZID=America/New_York:20270516T203000
DTSTAMP:20260425T115155
CREATED:20230929T164931Z
LAST-MODIFIED:20230929T164931Z
UID:10001409-1810497600-1810499400@www.a2blue.org
SUMMARY:Sunday Evening Prayer Group
DESCRIPTION:Join via Zoom for a half hour of readings\, music\, and shared silence. Email nancyogilvie@gmail.com for the Zoom link.
URL:https://www.a2blue.org/event/sunday-evening-prayer-group/2027-05-16/
LOCATION:Virtual Zoom Meeting
CATEGORIES:Zoom
END:VEVENT
BEGIN:VEVENT
DTSTART;TZID=America/New_York:20270523T200000
DTEND;TZID=America/New_York:20270523T203000
DTSTAMP:20260425T115155
CREATED:20230929T164931Z
LAST-MODIFIED:20230929T164931Z
UID:10001410-1811102400-1811104200@www.a2blue.org
SUMMARY:Sunday Evening Prayer Group
DESCRIPTION:Join via Zoom for a half hour of readings\, music\, and shared silence. Email nancyogilvie@gmail.com for the Zoom link.
URL:https://www.a2blue.org/event/sunday-evening-prayer-group/2027-05-23/
LOCATION:Virtual Zoom Meeting
CATEGORIES:Zoom
END:VEVENT
BEGIN:VEVENT
DTSTART;TZID=America/New_York:20270530T200000
DTEND;TZID=America/New_York:20270530T203000
DTSTAMP:20260425T115155
CREATED:20230929T164931Z
LAST-MODIFIED:20230929T164931Z
UID:10001411-1811707200-1811709000@www.a2blue.org
SUMMARY:Sunday Evening Prayer Group
DESCRIPTION:Join via Zoom for a half hour of readings\, music\, and shared silence. Email nancyogilvie@gmail.com for the Zoom link.
URL:https://www.a2blue.org/event/sunday-evening-prayer-group/2027-05-30/
LOCATION:Virtual Zoom Meeting
CATEGORIES:Zoom
END:VEVENT
BEGIN:VEVENT
DTSTART;TZID=America/New_York:20270606T200000
DTEND;TZID=America/New_York:20270606T203000
DTSTAMP:20260425T115155
CREATED:20230929T164931Z
LAST-MODIFIED:20230929T164931Z
UID:10001412-1812312000-1812313800@www.a2blue.org
SUMMARY:Sunday Evening Prayer Group
DESCRIPTION:Join via Zoom for a half hour of readings\, music\, and shared silence. Email nancyogilvie@gmail.com for the Zoom link.
URL:https://www.a2blue.org/event/sunday-evening-prayer-group/2027-06-06/
LOCATION:Virtual Zoom Meeting
CATEGORIES:Zoom
END:VEVENT
BEGIN:VEVENT
DTSTART;TZID=America/New_York:20270613T200000
DTEND;TZID=America/New_York:20270613T203000
DTSTAMP:20260425T115155
CREATED:20230929T164931Z
LAST-MODIFIED:20230929T164931Z
UID:10001413-1812916800-1812918600@www.a2blue.org
SUMMARY:Sunday Evening Prayer Group
DESCRIPTION:Join via Zoom for a half hour of readings\, music\, and shared silence. Email nancyogilvie@gmail.com for the Zoom link.
URL:https://www.a2blue.org/event/sunday-evening-prayer-group/2027-06-13/
LOCATION:Virtual Zoom Meeting
CATEGORIES:Zoom
END:VEVENT
BEGIN:VEVENT
DTSTART;TZID=America/New_York:20270620T200000
DTEND;TZID=America/New_York:20270620T203000
DTSTAMP:20260425T115155
CREATED:20230929T164931Z
LAST-MODIFIED:20230929T164931Z
UID:10001414-1813521600-1813523400@www.a2blue.org
SUMMARY:Sunday Evening Prayer Group
DESCRIPTION:Join via Zoom for a half hour of readings\, music\, and shared silence. Email nancyogilvie@gmail.com for the Zoom link.
URL:https://www.a2blue.org/event/sunday-evening-prayer-group/2027-06-20/
LOCATION:Virtual Zoom Meeting
CATEGORIES:Zoom
END:VEVENT
BEGIN:VEVENT
DTSTART;TZID=America/New_York:20270627T200000
DTEND;TZID=America/New_York:20270627T203000
DTSTAMP:20260425T115155
CREATED:20230929T164931Z
LAST-MODIFIED:20230929T164931Z
UID:10001415-1814126400-1814128200@www.a2blue.org
SUMMARY:Sunday Evening Prayer Group
DESCRIPTION:Join via Zoom for a half hour of readings\, music\, and shared silence. Email nancyogilvie@gmail.com for the Zoom link.
URL:https://www.a2blue.org/event/sunday-evening-prayer-group/2027-06-27/
LOCATION:Virtual Zoom Meeting
CATEGORIES:Zoom
END:VEVENT
BEGIN:VEVENT
DTSTART;TZID=America/New_York:20270704T200000
DTEND;TZID=America/New_York:20270704T203000
DTSTAMP:20260425T115155
CREATED:20230929T164931Z
LAST-MODIFIED:20230929T164931Z
UID:10001416-1814731200-1814733000@www.a2blue.org
SUMMARY:Sunday Evening Prayer Group
DESCRIPTION:Join via Zoom for a half hour of readings\, music\, and shared silence. Email nancyogilvie@gmail.com for the Zoom link.
URL:https://www.a2blue.org/event/sunday-evening-prayer-group/2027-07-04/
LOCATION:Virtual Zoom Meeting
CATEGORIES:Zoom
END:VEVENT
BEGIN:VEVENT
DTSTART;TZID=America/New_York:20270711T200000
DTEND;TZID=America/New_York:20270711T203000
DTSTAMP:20260425T115155
CREATED:20230929T164931Z
LAST-MODIFIED:20230929T164931Z
UID:10001417-1815336000-1815337800@www.a2blue.org
SUMMARY:Sunday Evening Prayer Group
DESCRIPTION:Join via Zoom for a half hour of readings\, music\, and shared silence. Email nancyogilvie@gmail.com for the Zoom link.
URL:https://www.a2blue.org/event/sunday-evening-prayer-group/2027-07-11/
LOCATION:Virtual Zoom Meeting
CATEGORIES:Zoom
END:VEVENT
BEGIN:VEVENT
DTSTART;TZID=America/New_York:20270718T200000
DTEND;TZID=America/New_York:20270718T203000
DTSTAMP:20260425T115155
CREATED:20230929T164931Z
LAST-MODIFIED:20230929T164931Z
UID:10001418-1815940800-1815942600@www.a2blue.org
SUMMARY:Sunday Evening Prayer Group
DESCRIPTION:Join via Zoom for a half hour of readings\, music\, and shared silence. Email nancyogilvie@gmail.com for the Zoom link.
URL:https://www.a2blue.org/event/sunday-evening-prayer-group/2027-07-18/
LOCATION:Virtual Zoom Meeting
CATEGORIES:Zoom
END:VEVENT
BEGIN:VEVENT
DTSTART;TZID=America/New_York:20270725T200000
DTEND;TZID=America/New_York:20270725T203000
DTSTAMP:20260425T115155
CREATED:20230929T164931Z
LAST-MODIFIED:20230929T164931Z
UID:10001419-1816545600-1816547400@www.a2blue.org
SUMMARY:Sunday Evening Prayer Group
DESCRIPTION:Join via Zoom for a half hour of readings\, music\, and shared silence. Email nancyogilvie@gmail.com for the Zoom link.
URL:https://www.a2blue.org/event/sunday-evening-prayer-group/2027-07-25/
LOCATION:Virtual Zoom Meeting
CATEGORIES:Zoom
END:VEVENT
BEGIN:VEVENT
DTSTART;TZID=America/New_York:20270801T200000
DTEND;TZID=America/New_York:20270801T203000
DTSTAMP:20260425T115155
CREATED:20230929T164931Z
LAST-MODIFIED:20230929T164931Z
UID:10001420-1817150400-1817152200@www.a2blue.org
SUMMARY:Sunday Evening Prayer Group
DESCRIPTION:Join via Zoom for a half hour of readings\, music\, and shared silence. Email nancyogilvie@gmail.com for the Zoom link.
URL:https://www.a2blue.org/event/sunday-evening-prayer-group/2027-08-01/
LOCATION:Virtual Zoom Meeting
CATEGORIES:Zoom
END:VEVENT
BEGIN:VEVENT
DTSTART;TZID=America/New_York:20270808T200000
DTEND;TZID=America/New_York:20270808T203000
DTSTAMP:20260425T115155
CREATED:20230929T164931Z
LAST-MODIFIED:20230929T164931Z
UID:10001421-1817755200-1817757000@www.a2blue.org
SUMMARY:Sunday Evening Prayer Group
DESCRIPTION:Join via Zoom for a half hour of readings\, music\, and shared silence. Email nancyogilvie@gmail.com for the Zoom link.
URL:https://www.a2blue.org/event/sunday-evening-prayer-group/2027-08-08/
LOCATION:Virtual Zoom Meeting
CATEGORIES:Zoom
END:VEVENT
BEGIN:VEVENT
DTSTART;TZID=America/New_York:20270815T200000
DTEND;TZID=America/New_York:20270815T203000
DTSTAMP:20260425T115155
CREATED:20230929T164931Z
LAST-MODIFIED:20230929T164931Z
UID:10001422-1818360000-1818361800@www.a2blue.org
SUMMARY:Sunday Evening Prayer Group
DESCRIPTION:Join via Zoom for a half hour of readings\, music\, and shared silence. Email nancyogilvie@gmail.com for the Zoom link.
URL:https://www.a2blue.org/event/sunday-evening-prayer-group/2027-08-15/
LOCATION:Virtual Zoom Meeting
CATEGORIES:Zoom
END:VEVENT
BEGIN:VEVENT
DTSTART;TZID=America/New_York:20270822T200000
DTEND;TZID=America/New_York:20270822T203000
DTSTAMP:20260425T115155
CREATED:20230929T164931Z
LAST-MODIFIED:20230929T164931Z
UID:10001423-1818964800-1818966600@www.a2blue.org
SUMMARY:Sunday Evening Prayer Group
DESCRIPTION:Join via Zoom for a half hour of readings\, music\, and shared silence. Email nancyogilvie@gmail.com for the Zoom link.
URL:https://www.a2blue.org/event/sunday-evening-prayer-group/2027-08-22/
LOCATION:Virtual Zoom Meeting
CATEGORIES:Zoom
END:VEVENT
BEGIN:VEVENT
DTSTART;TZID=America/New_York:20270829T200000
DTEND;TZID=America/New_York:20270829T203000
DTSTAMP:20260425T115155
CREATED:20230929T164931Z
LAST-MODIFIED:20230929T164931Z
UID:10001424-1819569600-1819571400@www.a2blue.org
SUMMARY:Sunday Evening Prayer Group
DESCRIPTION:Join via Zoom for a half hour of readings\, music\, and shared silence. Email nancyogilvie@gmail.com for the Zoom link.
URL:https://www.a2blue.org/event/sunday-evening-prayer-group/2027-08-29/
LOCATION:Virtual Zoom Meeting
CATEGORIES:Zoom
END:VEVENT
BEGIN:VEVENT
DTSTART;TZID=America/New_York:20270905T200000
DTEND;TZID=America/New_York:20270905T203000
DTSTAMP:20260425T115155
CREATED:20230929T164931Z
LAST-MODIFIED:20230929T164931Z
UID:10001425-1820174400-1820176200@www.a2blue.org
SUMMARY:Sunday Evening Prayer Group
DESCRIPTION:Join via Zoom for a half hour of readings\, music\, and shared silence. Email nancyogilvie@gmail.com for the Zoom link.
URL:https://www.a2blue.org/event/sunday-evening-prayer-group/2027-09-05/
LOCATION:Virtual Zoom Meeting
CATEGORIES:Zoom
END:VEVENT
BEGIN:VEVENT
DTSTART;TZID=America/New_York:20270912T200000
DTEND;TZID=America/New_York:20270912T203000
DTSTAMP:20260425T115155
CREATED:20230929T164931Z
LAST-MODIFIED:20230929T164931Z
UID:10001426-1820779200-1820781000@www.a2blue.org
SUMMARY:Sunday Evening Prayer Group
DESCRIPTION:Join via Zoom for a half hour of readings\, music\, and shared silence. Email nancyogilvie@gmail.com for the Zoom link.
URL:https://www.a2blue.org/event/sunday-evening-prayer-group/2027-09-12/
LOCATION:Virtual Zoom Meeting
CATEGORIES:Zoom
END:VEVENT
BEGIN:VEVENT
DTSTART;TZID=America/New_York:20270919T200000
DTEND;TZID=America/New_York:20270919T203000
DTSTAMP:20260425T115155
CREATED:20230929T164931Z
LAST-MODIFIED:20230929T164931Z
UID:10001427-1821384000-1821385800@www.a2blue.org
SUMMARY:Sunday Evening Prayer Group
DESCRIPTION:Join via Zoom for a half hour of readings\, music\, and shared silence. Email nancyogilvie@gmail.com for the Zoom link.
URL:https://www.a2blue.org/event/sunday-evening-prayer-group/2027-09-19/
LOCATION:Virtual Zoom Meeting
CATEGORIES:Zoom
END:VEVENT
BEGIN:VEVENT
DTSTART;TZID=America/New_York:20270926T200000
DTEND;TZID=America/New_York:20270926T203000
DTSTAMP:20260425T115155
CREATED:20230929T164931Z
LAST-MODIFIED:20230929T164931Z
UID:10001428-1821988800-1821990600@www.a2blue.org
SUMMARY:Sunday Evening Prayer Group
DESCRIPTION:Join via Zoom for a half hour of readings\, music\, and shared silence. Email nancyogilvie@gmail.com for the Zoom link.
URL:https://www.a2blue.org/event/sunday-evening-prayer-group/2027-09-26/
LOCATION:Virtual Zoom Meeting
CATEGORIES:Zoom
END:VEVENT
BEGIN:VEVENT
DTSTART;TZID=America/New_York:20271003T200000
DTEND;TZID=America/New_York:20271003T203000
DTSTAMP:20260425T115155
CREATED:20230929T164931Z
LAST-MODIFIED:20230929T164931Z
UID:10001429-1822593600-1822595400@www.a2blue.org
SUMMARY:Sunday Evening Prayer Group
DESCRIPTION:Join via Zoom for a half hour of readings\, music\, and shared silence. Email nancyogilvie@gmail.com for the Zoom link.
URL:https://www.a2blue.org/event/sunday-evening-prayer-group/2027-10-03/
LOCATION:Virtual Zoom Meeting
CATEGORIES:Zoom
END:VEVENT
BEGIN:VEVENT
DTSTART;TZID=America/New_York:20271010T200000
DTEND;TZID=America/New_York:20271010T203000
DTSTAMP:20260425T115155
CREATED:20230929T164931Z
LAST-MODIFIED:20230929T164931Z
UID:10001430-1823198400-1823200200@www.a2blue.org
SUMMARY:Sunday Evening Prayer Group
DESCRIPTION:Join via Zoom for a half hour of readings\, music\, and shared silence. Email nancyogilvie@gmail.com for the Zoom link.
URL:https://www.a2blue.org/event/sunday-evening-prayer-group/2027-10-10/
LOCATION:Virtual Zoom Meeting
CATEGORIES:Zoom
END:VEVENT
BEGIN:VEVENT
DTSTART;TZID=America/New_York:20271017T200000
DTEND;TZID=America/New_York:20271017T203000
DTSTAMP:20260425T115155
CREATED:20230929T164931Z
LAST-MODIFIED:20230929T164931Z
UID:10001431-1823803200-1823805000@www.a2blue.org
SUMMARY:Sunday Evening Prayer Group
DESCRIPTION:Join via Zoom for a half hour of readings\, music\, and shared silence. Email nancyogilvie@gmail.com for the Zoom link.
URL:https://www.a2blue.org/event/sunday-evening-prayer-group/2027-10-17/
LOCATION:Virtual Zoom Meeting
CATEGORIES:Zoom
END:VEVENT
END:VCALENDAR