BEGIN:VCALENDAR
VERSION:2.0
PRODID:-//Blue Ocean Church Ann Arbor - ECPv6.15.20//NONSGML v1.0//EN
CALSCALE:GREGORIAN
METHOD:PUBLISH
X-ORIGINAL-URL:https://www.a2blue.org
X-WR-CALDESC:Events for Blue Ocean Church Ann Arbor
REFRESH-INTERVAL;VALUE=DURATION:PT1H
X-Robots-Tag:noindex
X-PUBLISHED-TTL:PT1H
BEGIN:VTIMEZONE
TZID:America/New_York
BEGIN:DAYLIGHT
TZOFFSETFROM:-0500
TZOFFSETTO:-0400
TZNAME:EDT
DTSTART:20260308T070000
END:DAYLIGHT
BEGIN:STANDARD
TZOFFSETFROM:-0400
TZOFFSETTO:-0500
TZNAME:EST
DTSTART:20261101T060000
END:STANDARD
BEGIN:DAYLIGHT
TZOFFSETFROM:-0500
TZOFFSETTO:-0400
TZNAME:EDT
DTSTART:20270314T070000
END:DAYLIGHT
BEGIN:STANDARD
TZOFFSETFROM:-0400
TZOFFSETTO:-0500
TZNAME:EST
DTSTART:20271107T060000
END:STANDARD
BEGIN:DAYLIGHT
TZOFFSETFROM:-0500
TZOFFSETTO:-0400
TZNAME:EDT
DTSTART:20280312T070000
END:DAYLIGHT
BEGIN:STANDARD
TZOFFSETFROM:-0400
TZOFFSETTO:-0500
TZNAME:EST
DTSTART:20281105T060000
END:STANDARD
BEGIN:DAYLIGHT
TZOFFSETFROM:-0500
TZOFFSETTO:-0400
TZNAME:EDT
DTSTART:20290311T070000
END:DAYLIGHT
BEGIN:STANDARD
TZOFFSETFROM:-0400
TZOFFSETTO:-0500
TZNAME:EST
DTSTART:20291104T060000
END:STANDARD
END:VTIMEZONE
BEGIN:VEVENT
DTSTART;TZID=America/New_York:20271205T200000
DTEND;TZID=America/New_York:20271205T203000
DTSTAMP:20260425T094159
CREATED:20230929T164931Z
LAST-MODIFIED:20230929T164931Z
UID:10001438-1828036800-1828038600@www.a2blue.org
SUMMARY:Sunday Evening Prayer Group
DESCRIPTION:Join via Zoom for a half hour of readings\, music\, and shared silence. Email nancyogilvie@gmail.com for the Zoom link.
URL:https://www.a2blue.org/event/sunday-evening-prayer-group/2027-12-05/
LOCATION:Virtual Zoom Meeting
CATEGORIES:Zoom
END:VEVENT
BEGIN:VEVENT
DTSTART;TZID=America/New_York:20271212T200000
DTEND;TZID=America/New_York:20271212T203000
DTSTAMP:20260425T094200
CREATED:20230929T164931Z
LAST-MODIFIED:20230929T164931Z
UID:10001439-1828641600-1828643400@www.a2blue.org
SUMMARY:Sunday Evening Prayer Group
DESCRIPTION:Join via Zoom for a half hour of readings\, music\, and shared silence. Email nancyogilvie@gmail.com for the Zoom link.
URL:https://www.a2blue.org/event/sunday-evening-prayer-group/2027-12-12/
LOCATION:Virtual Zoom Meeting
CATEGORIES:Zoom
END:VEVENT
BEGIN:VEVENT
DTSTART;TZID=America/New_York:20271219T200000
DTEND;TZID=America/New_York:20271219T203000
DTSTAMP:20260425T094200
CREATED:20230929T164931Z
LAST-MODIFIED:20230929T164931Z
UID:10001440-1829246400-1829248200@www.a2blue.org
SUMMARY:Sunday Evening Prayer Group
DESCRIPTION:Join via Zoom for a half hour of readings\, music\, and shared silence. Email nancyogilvie@gmail.com for the Zoom link.
URL:https://www.a2blue.org/event/sunday-evening-prayer-group/2027-12-19/
LOCATION:Virtual Zoom Meeting
CATEGORIES:Zoom
END:VEVENT
BEGIN:VEVENT
DTSTART;TZID=America/New_York:20271226T200000
DTEND;TZID=America/New_York:20271226T203000
DTSTAMP:20260425T094200
CREATED:20230929T164931Z
LAST-MODIFIED:20230929T164931Z
UID:10001441-1829851200-1829853000@www.a2blue.org
SUMMARY:Sunday Evening Prayer Group
DESCRIPTION:Join via Zoom for a half hour of readings\, music\, and shared silence. Email nancyogilvie@gmail.com for the Zoom link.
URL:https://www.a2blue.org/event/sunday-evening-prayer-group/2027-12-26/
LOCATION:Virtual Zoom Meeting
CATEGORIES:Zoom
END:VEVENT
BEGIN:VEVENT
DTSTART;TZID=America/New_York:20280102T200000
DTEND;TZID=America/New_York:20280102T203000
DTSTAMP:20260425T094200
CREATED:20230929T164931Z
LAST-MODIFIED:20230929T164931Z
UID:10001442-1830456000-1830457800@www.a2blue.org
SUMMARY:Sunday Evening Prayer Group
DESCRIPTION:Join via Zoom for a half hour of readings\, music\, and shared silence. Email nancyogilvie@gmail.com for the Zoom link.
URL:https://www.a2blue.org/event/sunday-evening-prayer-group/2028-01-02/
LOCATION:Virtual Zoom Meeting
CATEGORIES:Zoom
END:VEVENT
BEGIN:VEVENT
DTSTART;TZID=America/New_York:20280109T200000
DTEND;TZID=America/New_York:20280109T203000
DTSTAMP:20260425T094200
CREATED:20230929T164931Z
LAST-MODIFIED:20230929T164931Z
UID:10001443-1831060800-1831062600@www.a2blue.org
SUMMARY:Sunday Evening Prayer Group
DESCRIPTION:Join via Zoom for a half hour of readings\, music\, and shared silence. Email nancyogilvie@gmail.com for the Zoom link.
URL:https://www.a2blue.org/event/sunday-evening-prayer-group/2028-01-09/
LOCATION:Virtual Zoom Meeting
CATEGORIES:Zoom
END:VEVENT
BEGIN:VEVENT
DTSTART;TZID=America/New_York:20280116T200000
DTEND;TZID=America/New_York:20280116T203000
DTSTAMP:20260425T094200
CREATED:20230929T164931Z
LAST-MODIFIED:20230929T164931Z
UID:10001444-1831665600-1831667400@www.a2blue.org
SUMMARY:Sunday Evening Prayer Group
DESCRIPTION:Join via Zoom for a half hour of readings\, music\, and shared silence. Email nancyogilvie@gmail.com for the Zoom link.
URL:https://www.a2blue.org/event/sunday-evening-prayer-group/2028-01-16/
LOCATION:Virtual Zoom Meeting
CATEGORIES:Zoom
END:VEVENT
BEGIN:VEVENT
DTSTART;TZID=America/New_York:20280123T200000
DTEND;TZID=America/New_York:20280123T203000
DTSTAMP:20260425T094200
CREATED:20230929T164931Z
LAST-MODIFIED:20230929T164931Z
UID:10001445-1832270400-1832272200@www.a2blue.org
SUMMARY:Sunday Evening Prayer Group
DESCRIPTION:Join via Zoom for a half hour of readings\, music\, and shared silence. Email nancyogilvie@gmail.com for the Zoom link.
URL:https://www.a2blue.org/event/sunday-evening-prayer-group/2028-01-23/
LOCATION:Virtual Zoom Meeting
CATEGORIES:Zoom
END:VEVENT
BEGIN:VEVENT
DTSTART;TZID=America/New_York:20280130T200000
DTEND;TZID=America/New_York:20280130T203000
DTSTAMP:20260425T094200
CREATED:20230929T164931Z
LAST-MODIFIED:20230929T164931Z
UID:10001446-1832875200-1832877000@www.a2blue.org
SUMMARY:Sunday Evening Prayer Group
DESCRIPTION:Join via Zoom for a half hour of readings\, music\, and shared silence. Email nancyogilvie@gmail.com for the Zoom link.
URL:https://www.a2blue.org/event/sunday-evening-prayer-group/2028-01-30/
LOCATION:Virtual Zoom Meeting
CATEGORIES:Zoom
END:VEVENT
BEGIN:VEVENT
DTSTART;TZID=America/New_York:20280206T200000
DTEND;TZID=America/New_York:20280206T203000
DTSTAMP:20260425T094200
CREATED:20230929T164931Z
LAST-MODIFIED:20230929T164931Z
UID:10001447-1833480000-1833481800@www.a2blue.org
SUMMARY:Sunday Evening Prayer Group
DESCRIPTION:Join via Zoom for a half hour of readings\, music\, and shared silence. Email nancyogilvie@gmail.com for the Zoom link.
URL:https://www.a2blue.org/event/sunday-evening-prayer-group/2028-02-06/
LOCATION:Virtual Zoom Meeting
CATEGORIES:Zoom
END:VEVENT
BEGIN:VEVENT
DTSTART;TZID=America/New_York:20280213T200000
DTEND;TZID=America/New_York:20280213T203000
DTSTAMP:20260425T094200
CREATED:20230929T164931Z
LAST-MODIFIED:20230929T164931Z
UID:10001448-1834084800-1834086600@www.a2blue.org
SUMMARY:Sunday Evening Prayer Group
DESCRIPTION:Join via Zoom for a half hour of readings\, music\, and shared silence. Email nancyogilvie@gmail.com for the Zoom link.
URL:https://www.a2blue.org/event/sunday-evening-prayer-group/2028-02-13/
LOCATION:Virtual Zoom Meeting
CATEGORIES:Zoom
END:VEVENT
BEGIN:VEVENT
DTSTART;TZID=America/New_York:20280220T200000
DTEND;TZID=America/New_York:20280220T203000
DTSTAMP:20260425T094200
CREATED:20230929T164931Z
LAST-MODIFIED:20230929T164931Z
UID:10001449-1834689600-1834691400@www.a2blue.org
SUMMARY:Sunday Evening Prayer Group
DESCRIPTION:Join via Zoom for a half hour of readings\, music\, and shared silence. Email nancyogilvie@gmail.com for the Zoom link.
URL:https://www.a2blue.org/event/sunday-evening-prayer-group/2028-02-20/
LOCATION:Virtual Zoom Meeting
CATEGORIES:Zoom
END:VEVENT
BEGIN:VEVENT
DTSTART;TZID=America/New_York:20280227T200000
DTEND;TZID=America/New_York:20280227T203000
DTSTAMP:20260425T094200
CREATED:20230929T164931Z
LAST-MODIFIED:20230929T164931Z
UID:10001450-1835294400-1835296200@www.a2blue.org
SUMMARY:Sunday Evening Prayer Group
DESCRIPTION:Join via Zoom for a half hour of readings\, music\, and shared silence. Email nancyogilvie@gmail.com for the Zoom link.
URL:https://www.a2blue.org/event/sunday-evening-prayer-group/2028-02-27/
LOCATION:Virtual Zoom Meeting
CATEGORIES:Zoom
END:VEVENT
BEGIN:VEVENT
DTSTART;TZID=America/New_York:20280305T200000
DTEND;TZID=America/New_York:20280305T203000
DTSTAMP:20260425T094200
CREATED:20230929T164931Z
LAST-MODIFIED:20230929T164931Z
UID:10001451-1835899200-1835901000@www.a2blue.org
SUMMARY:Sunday Evening Prayer Group
DESCRIPTION:Join via Zoom for a half hour of readings\, music\, and shared silence. Email nancyogilvie@gmail.com for the Zoom link.
URL:https://www.a2blue.org/event/sunday-evening-prayer-group/2028-03-05/
LOCATION:Virtual Zoom Meeting
CATEGORIES:Zoom
END:VEVENT
BEGIN:VEVENT
DTSTART;TZID=America/New_York:20280312T200000
DTEND;TZID=America/New_York:20280312T203000
DTSTAMP:20260425T094200
CREATED:20230929T164931Z
LAST-MODIFIED:20230929T164931Z
UID:10001452-1836504000-1836505800@www.a2blue.org
SUMMARY:Sunday Evening Prayer Group
DESCRIPTION:Join via Zoom for a half hour of readings\, music\, and shared silence. Email nancyogilvie@gmail.com for the Zoom link.
URL:https://www.a2blue.org/event/sunday-evening-prayer-group/2028-03-12/
LOCATION:Virtual Zoom Meeting
CATEGORIES:Zoom
END:VEVENT
BEGIN:VEVENT
DTSTART;TZID=America/New_York:20280319T200000
DTEND;TZID=America/New_York:20280319T203000
DTSTAMP:20260425T094200
CREATED:20230929T164931Z
LAST-MODIFIED:20230929T164931Z
UID:10001453-1837108800-1837110600@www.a2blue.org
SUMMARY:Sunday Evening Prayer Group
DESCRIPTION:Join via Zoom for a half hour of readings\, music\, and shared silence. Email nancyogilvie@gmail.com for the Zoom link.
URL:https://www.a2blue.org/event/sunday-evening-prayer-group/2028-03-19/
LOCATION:Virtual Zoom Meeting
CATEGORIES:Zoom
END:VEVENT
BEGIN:VEVENT
DTSTART;TZID=America/New_York:20280326T200000
DTEND;TZID=America/New_York:20280326T203000
DTSTAMP:20260425T094200
CREATED:20230929T164931Z
LAST-MODIFIED:20230929T164931Z
UID:10001454-1837713600-1837715400@www.a2blue.org
SUMMARY:Sunday Evening Prayer Group
DESCRIPTION:Join via Zoom for a half hour of readings\, music\, and shared silence. Email nancyogilvie@gmail.com for the Zoom link.
URL:https://www.a2blue.org/event/sunday-evening-prayer-group/2028-03-26/
LOCATION:Virtual Zoom Meeting
CATEGORIES:Zoom
END:VEVENT
BEGIN:VEVENT
DTSTART;TZID=America/New_York:20280402T200000
DTEND;TZID=America/New_York:20280402T203000
DTSTAMP:20260425T094200
CREATED:20230929T164931Z
LAST-MODIFIED:20230929T164931Z
UID:10001455-1838318400-1838320200@www.a2blue.org
SUMMARY:Sunday Evening Prayer Group
DESCRIPTION:Join via Zoom for a half hour of readings\, music\, and shared silence. Email nancyogilvie@gmail.com for the Zoom link.
URL:https://www.a2blue.org/event/sunday-evening-prayer-group/2028-04-02/
LOCATION:Virtual Zoom Meeting
CATEGORIES:Zoom
END:VEVENT
BEGIN:VEVENT
DTSTART;TZID=America/New_York:20280409T200000
DTEND;TZID=America/New_York:20280409T203000
DTSTAMP:20260425T094200
CREATED:20230929T164931Z
LAST-MODIFIED:20230929T164931Z
UID:10001456-1838923200-1838925000@www.a2blue.org
SUMMARY:Sunday Evening Prayer Group
DESCRIPTION:Join via Zoom for a half hour of readings\, music\, and shared silence. Email nancyogilvie@gmail.com for the Zoom link.
URL:https://www.a2blue.org/event/sunday-evening-prayer-group/2028-04-09/
LOCATION:Virtual Zoom Meeting
CATEGORIES:Zoom
END:VEVENT
BEGIN:VEVENT
DTSTART;TZID=America/New_York:20280416T200000
DTEND;TZID=America/New_York:20280416T203000
DTSTAMP:20260425T094200
CREATED:20230929T164931Z
LAST-MODIFIED:20230929T164931Z
UID:10001457-1839528000-1839529800@www.a2blue.org
SUMMARY:Sunday Evening Prayer Group
DESCRIPTION:Join via Zoom for a half hour of readings\, music\, and shared silence. Email nancyogilvie@gmail.com for the Zoom link.
URL:https://www.a2blue.org/event/sunday-evening-prayer-group/2028-04-16/
LOCATION:Virtual Zoom Meeting
CATEGORIES:Zoom
END:VEVENT
BEGIN:VEVENT
DTSTART;TZID=America/New_York:20280423T200000
DTEND;TZID=America/New_York:20280423T203000
DTSTAMP:20260425T094200
CREATED:20230929T164931Z
LAST-MODIFIED:20230929T164931Z
UID:10001458-1840132800-1840134600@www.a2blue.org
SUMMARY:Sunday Evening Prayer Group
DESCRIPTION:Join via Zoom for a half hour of readings\, music\, and shared silence. Email nancyogilvie@gmail.com for the Zoom link.
URL:https://www.a2blue.org/event/sunday-evening-prayer-group/2028-04-23/
LOCATION:Virtual Zoom Meeting
CATEGORIES:Zoom
END:VEVENT
BEGIN:VEVENT
DTSTART;TZID=America/New_York:20280430T200000
DTEND;TZID=America/New_York:20280430T203000
DTSTAMP:20260425T094200
CREATED:20230929T164931Z
LAST-MODIFIED:20230929T164931Z
UID:10001459-1840737600-1840739400@www.a2blue.org
SUMMARY:Sunday Evening Prayer Group
DESCRIPTION:Join via Zoom for a half hour of readings\, music\, and shared silence. Email nancyogilvie@gmail.com for the Zoom link.
URL:https://www.a2blue.org/event/sunday-evening-prayer-group/2028-04-30/
LOCATION:Virtual Zoom Meeting
CATEGORIES:Zoom
END:VEVENT
BEGIN:VEVENT
DTSTART;TZID=America/New_York:20280507T200000
DTEND;TZID=America/New_York:20280507T203000
DTSTAMP:20260425T094200
CREATED:20230929T164931Z
LAST-MODIFIED:20230929T164931Z
UID:10001460-1841342400-1841344200@www.a2blue.org
SUMMARY:Sunday Evening Prayer Group
DESCRIPTION:Join via Zoom for a half hour of readings\, music\, and shared silence. Email nancyogilvie@gmail.com for the Zoom link.
URL:https://www.a2blue.org/event/sunday-evening-prayer-group/2028-05-07/
LOCATION:Virtual Zoom Meeting
CATEGORIES:Zoom
END:VEVENT
BEGIN:VEVENT
DTSTART;TZID=America/New_York:20280514T200000
DTEND;TZID=America/New_York:20280514T203000
DTSTAMP:20260425T094200
CREATED:20230929T164931Z
LAST-MODIFIED:20230929T164931Z
UID:10001461-1841947200-1841949000@www.a2blue.org
SUMMARY:Sunday Evening Prayer Group
DESCRIPTION:Join via Zoom for a half hour of readings\, music\, and shared silence. Email nancyogilvie@gmail.com for the Zoom link.
URL:https://www.a2blue.org/event/sunday-evening-prayer-group/2028-05-14/
LOCATION:Virtual Zoom Meeting
CATEGORIES:Zoom
END:VEVENT
BEGIN:VEVENT
DTSTART;TZID=America/New_York:20280521T200000
DTEND;TZID=America/New_York:20280521T203000
DTSTAMP:20260425T094200
CREATED:20230929T164931Z
LAST-MODIFIED:20230929T164931Z
UID:10001462-1842552000-1842553800@www.a2blue.org
SUMMARY:Sunday Evening Prayer Group
DESCRIPTION:Join via Zoom for a half hour of readings\, music\, and shared silence. Email nancyogilvie@gmail.com for the Zoom link.
URL:https://www.a2blue.org/event/sunday-evening-prayer-group/2028-05-21/
LOCATION:Virtual Zoom Meeting
CATEGORIES:Zoom
END:VEVENT
BEGIN:VEVENT
DTSTART;TZID=America/New_York:20280528T200000
DTEND;TZID=America/New_York:20280528T203000
DTSTAMP:20260425T094200
CREATED:20230929T164931Z
LAST-MODIFIED:20230929T164931Z
UID:10001463-1843156800-1843158600@www.a2blue.org
SUMMARY:Sunday Evening Prayer Group
DESCRIPTION:Join via Zoom for a half hour of readings\, music\, and shared silence. Email nancyogilvie@gmail.com for the Zoom link.
URL:https://www.a2blue.org/event/sunday-evening-prayer-group/2028-05-28/
LOCATION:Virtual Zoom Meeting
CATEGORIES:Zoom
END:VEVENT
BEGIN:VEVENT
DTSTART;TZID=America/New_York:20280604T200000
DTEND;TZID=America/New_York:20280604T203000
DTSTAMP:20260425T094200
CREATED:20230929T164931Z
LAST-MODIFIED:20230929T164931Z
UID:10001464-1843761600-1843763400@www.a2blue.org
SUMMARY:Sunday Evening Prayer Group
DESCRIPTION:Join via Zoom for a half hour of readings\, music\, and shared silence. Email nancyogilvie@gmail.com for the Zoom link.
URL:https://www.a2blue.org/event/sunday-evening-prayer-group/2028-06-04/
LOCATION:Virtual Zoom Meeting
CATEGORIES:Zoom
END:VEVENT
BEGIN:VEVENT
DTSTART;TZID=America/New_York:20280611T200000
DTEND;TZID=America/New_York:20280611T203000
DTSTAMP:20260425T094200
CREATED:20230929T164931Z
LAST-MODIFIED:20230929T164931Z
UID:10001465-1844366400-1844368200@www.a2blue.org
SUMMARY:Sunday Evening Prayer Group
DESCRIPTION:Join via Zoom for a half hour of readings\, music\, and shared silence. Email nancyogilvie@gmail.com for the Zoom link.
URL:https://www.a2blue.org/event/sunday-evening-prayer-group/2028-06-11/
LOCATION:Virtual Zoom Meeting
CATEGORIES:Zoom
END:VEVENT
BEGIN:VEVENT
DTSTART;TZID=America/New_York:20280618T200000
DTEND;TZID=America/New_York:20280618T203000
DTSTAMP:20260425T094200
CREATED:20230929T164931Z
LAST-MODIFIED:20230929T164931Z
UID:10001466-1844971200-1844973000@www.a2blue.org
SUMMARY:Sunday Evening Prayer Group
DESCRIPTION:Join via Zoom for a half hour of readings\, music\, and shared silence. Email nancyogilvie@gmail.com for the Zoom link.
URL:https://www.a2blue.org/event/sunday-evening-prayer-group/2028-06-18/
LOCATION:Virtual Zoom Meeting
CATEGORIES:Zoom
END:VEVENT
BEGIN:VEVENT
DTSTART;TZID=America/New_York:20280625T200000
DTEND;TZID=America/New_York:20280625T203000
DTSTAMP:20260425T094200
CREATED:20230929T164931Z
LAST-MODIFIED:20230929T164931Z
UID:10001467-1845576000-1845577800@www.a2blue.org
SUMMARY:Sunday Evening Prayer Group
DESCRIPTION:Join via Zoom for a half hour of readings\, music\, and shared silence. Email nancyogilvie@gmail.com for the Zoom link.
URL:https://www.a2blue.org/event/sunday-evening-prayer-group/2028-06-25/
LOCATION:Virtual Zoom Meeting
CATEGORIES:Zoom
END:VEVENT
END:VCALENDAR