BEGIN:VCALENDAR
VERSION:2.0
PRODID:-//Blue Ocean Church Ann Arbor - ECPv6.15.20//NONSGML v1.0//EN
CALSCALE:GREGORIAN
METHOD:PUBLISH
X-WR-CALNAME:Blue Ocean Church Ann Arbor
X-ORIGINAL-URL:https://www.a2blue.org
X-WR-CALDESC:Events for Blue Ocean Church Ann Arbor
REFRESH-INTERVAL;VALUE=DURATION:PT1H
X-Robots-Tag:noindex
X-PUBLISHED-TTL:PT1H
BEGIN:VTIMEZONE
TZID:America/New_York
BEGIN:DAYLIGHT
TZOFFSETFROM:-0500
TZOFFSETTO:-0400
TZNAME:EDT
DTSTART:20240310T070000
END:DAYLIGHT
BEGIN:STANDARD
TZOFFSETFROM:-0400
TZOFFSETTO:-0500
TZNAME:EST
DTSTART:20241103T060000
END:STANDARD
BEGIN:DAYLIGHT
TZOFFSETFROM:-0500
TZOFFSETTO:-0400
TZNAME:EDT
DTSTART:20250309T070000
END:DAYLIGHT
BEGIN:STANDARD
TZOFFSETFROM:-0400
TZOFFSETTO:-0500
TZNAME:EST
DTSTART:20251102T060000
END:STANDARD
BEGIN:DAYLIGHT
TZOFFSETFROM:-0500
TZOFFSETTO:-0400
TZNAME:EDT
DTSTART:20260308T070000
END:DAYLIGHT
BEGIN:STANDARD
TZOFFSETFROM:-0400
TZOFFSETTO:-0500
TZNAME:EST
DTSTART:20261101T060000
END:STANDARD
END:VTIMEZONE
BEGIN:VEVENT
DTSTART;TZID=America/New_York:20250612T180000
DTEND;TZID=America/New_York:20250612T200000
DTSTAMP:20260425T125104
CREATED:20230713T150111Z
LAST-MODIFIED:20230812T144128Z
UID:10000939-1749751200-1749758400@www.a2blue.org
SUMMARY:Blue Ocean Church board meeting
DESCRIPTION:The church board meets monthly.
URL:https://www.a2blue.org/event/blue-ocean-church-board-meeting/2025-06-12/
CATEGORIES:board meeting
END:VEVENT
BEGIN:VEVENT
DTSTART;TZID=America/New_York:20250610T190000
DTEND;TZID=America/New_York:20250610T210000
DTSTAMP:20260425T125104
CREATED:20250228T220239Z
LAST-MODIFIED:20250401T203039Z
UID:10002548-1749582000-1749589200@www.a2blue.org
SUMMARY:Zoom Bible Study
DESCRIPTION:Online Bible study on Tuesday at 7pm\, focusing on the gospels as translated by Dr. Sarah Ruden. If you’re interested please contact Magda Zarin at  magda.pecsenye@gmail.com
URL:https://www.a2blue.org/event/zoom-bible-study/2025-06-10/
LOCATION:Zoom
CATEGORIES:Bible study,Zoom
END:VEVENT
BEGIN:VEVENT
DTSTART;TZID=America/New_York:20250608T200000
DTEND;TZID=America/New_York:20250608T203000
DTSTAMP:20260425T125104
CREATED:20230929T164931Z
LAST-MODIFIED:20230929T164931Z
UID:10001308-1749412800-1749414600@www.a2blue.org
SUMMARY:Sunday Evening Prayer Group
DESCRIPTION:Join via Zoom for a half hour of readings\, music\, and shared silence. Email nancyogilvie@gmail.com for the Zoom link.
URL:https://www.a2blue.org/event/sunday-evening-prayer-group/2025-06-08/
LOCATION:Virtual Zoom Meeting
CATEGORIES:Zoom
END:VEVENT
BEGIN:VEVENT
DTSTART;TZID=America/New_York:20250608T120000
DTEND;TZID=America/New_York:20250608T130000
DTSTAMP:20260425T125104
CREATED:20240822T194825Z
LAST-MODIFIED:20240822T194848Z
UID:10002248-1749384000-1749387600@www.a2blue.org
SUMMARY:Donuts After Church
DESCRIPTION:Join us immediately after church for donuts and coffee from Washtenaw Dairy.
URL:https://www.a2blue.org/event/donuts-after-church-2-3/2025-06-08/
LOCATION:St. Clare/Temple Beth Emeth Social Hall\, 2309 Packard Street\, Ann Arbor\, MI\, 48104\, United States
CATEGORIES:connection
END:VEVENT
BEGIN:VEVENT
DTSTART;TZID=America/New_York:20250608T110000
DTEND;TZID=America/New_York:20250608T121500
DTSTAMP:20260425T125104
CREATED:20231109T151623Z
LAST-MODIFIED:20231109T151626Z
UID:10000117-1749380400-1749384900@www.a2blue.org
SUMMARY:Sunday Hybrid Service
DESCRIPTION:We hold in-person/Zoom hybrid services every Sunday at 11am ET. We meet in the social hall of St. Clare’s Episcopal Church/Temple Beth Emeth. More information can be found on our Sunday Services page. If this is your first time visiting us in person\, detailed directions for getting here are available on our Where & When page.
URL:https://www.a2blue.org/event/sunday-hybrid-service-4/2025-06-08/
LOCATION:St. Clare/Temple Beth Emeth Social Hall\, 2309 Packard Street\, Ann Arbor\, MI\, 48104\, United States
CATEGORIES:services
END:VEVENT
BEGIN:VEVENT
DTSTART;TZID=America/New_York:20250607T190000
DTEND;TZID=America/New_York:20250607T213000
DTSTAMP:20260425T125104
CREATED:20250423T180321Z
LAST-MODIFIED:20250602T174024Z
UID:10002551-1749322800-1749331800@www.a2blue.org
SUMMARY:Film Club
DESCRIPTION:The Blue Ocean Film Club\, led by Dave Nelson and Tim Vaduva\, will be watching a film together at 7pm at Dave & Jenn Nelson’s house (in a neighborhood near the church). This month’s movie is Breakfast at Tiffany’s. Contact the office or reply to the weekly email to be connected to Dave and Tim for more information.
URL:https://www.a2blue.org/event/film-club-8/
LOCATION:Dave & Jenn Nelson’s
CATEGORIES:connection
END:VEVENT
BEGIN:VEVENT
DTSTART;VALUE=DATE:20250607
DTEND;VALUE=DATE:20250608
DTSTAMP:20260425T125104
CREATED:20250516T202312Z
LAST-MODIFIED:20250516T202312Z
UID:10002577-1749254400-1749340799@www.a2blue.org
SUMMARY:Youth Group End of School Party
DESCRIPTION:Join the youth group as they tube down the Cascades at Argo park and picnic together. Time TBD. See Daniel Reaume for details: daniel@a2blue.org.
URL:https://www.a2blue.org/event/youth-group-end-of-school-party/
LOCATION:Argo Park\, 1055 Longshore Dr\, Ann Arbor\, MI\, 48105\, United States
CATEGORIES:connection,youth
ORGANIZER;CN="Daniel Reaume":MAILTO:daniel@a2blue.org
END:VEVENT
BEGIN:VEVENT
DTSTART;TZID=America/New_York:20250603T190000
DTEND;TZID=America/New_York:20250603T210000
DTSTAMP:20260425T125104
CREATED:20250228T220239Z
LAST-MODIFIED:20250401T203039Z
UID:10002547-1748977200-1748984400@www.a2blue.org
SUMMARY:Zoom Bible Study
DESCRIPTION:Online Bible study on Tuesday at 7pm\, focusing on the gospels as translated by Dr. Sarah Ruden. If you’re interested please contact Magda Zarin at  magda.pecsenye@gmail.com
URL:https://www.a2blue.org/event/zoom-bible-study/2025-06-03/
LOCATION:Zoom
CATEGORIES:Bible study,Zoom
END:VEVENT
BEGIN:VEVENT
DTSTART;TZID=America/New_York:20250601T200000
DTEND;TZID=America/New_York:20250601T203000
DTSTAMP:20260425T125104
CREATED:20230929T164931Z
LAST-MODIFIED:20230929T164931Z
UID:10001307-1748808000-1748809800@www.a2blue.org
SUMMARY:Sunday Evening Prayer Group
DESCRIPTION:Join via Zoom for a half hour of readings\, music\, and shared silence. Email nancyogilvie@gmail.com for the Zoom link.
URL:https://www.a2blue.org/event/sunday-evening-prayer-group/2025-06-01/
LOCATION:Virtual Zoom Meeting
CATEGORIES:Zoom
END:VEVENT
BEGIN:VEVENT
DTSTART;TZID=America/New_York:20250601T120000
DTEND;TZID=America/New_York:20250601T130000
DTSTAMP:20260425T125104
CREATED:20240822T194825Z
LAST-MODIFIED:20240822T194848Z
UID:10000696-1748779200-1748782800@www.a2blue.org
SUMMARY:Donuts After Church
DESCRIPTION:Join us immediately after church for donuts and coffee from Washtenaw Dairy.
URL:https://www.a2blue.org/event/donuts-after-church-2-3/2025-06-01/
LOCATION:St. Clare/Temple Beth Emeth Social Hall\, 2309 Packard Street\, Ann Arbor\, MI\, 48104\, United States
CATEGORIES:connection
END:VEVENT
BEGIN:VEVENT
DTSTART;TZID=America/New_York:20250601T110000
DTEND;TZID=America/New_York:20250601T121500
DTSTAMP:20260425T125104
CREATED:20231109T151623Z
LAST-MODIFIED:20231109T151626Z
UID:10000116-1748775600-1748780100@www.a2blue.org
SUMMARY:Sunday Hybrid Service
DESCRIPTION:We hold in-person/Zoom hybrid services every Sunday at 11am ET. We meet in the social hall of St. Clare’s Episcopal Church/Temple Beth Emeth. More information can be found on our Sunday Services page. If this is your first time visiting us in person\, detailed directions for getting here are available on our Where & When page.
URL:https://www.a2blue.org/event/sunday-hybrid-service-4/2025-06-01/
LOCATION:St. Clare/Temple Beth Emeth Social Hall\, 2309 Packard Street\, Ann Arbor\, MI\, 48104\, United States
CATEGORIES:services
END:VEVENT
BEGIN:VEVENT
DTSTART;TZID=America/New_York:20250527T190000
DTEND;TZID=America/New_York:20250527T210000
DTSTAMP:20260425T125104
CREATED:20250228T220239Z
LAST-MODIFIED:20250401T203039Z
UID:10002546-1748372400-1748379600@www.a2blue.org
SUMMARY:Zoom Bible Study
DESCRIPTION:Online Bible study on Tuesday at 7pm\, focusing on the gospels as translated by Dr. Sarah Ruden. If you’re interested please contact Magda Zarin at  magda.pecsenye@gmail.com
URL:https://www.a2blue.org/event/zoom-bible-study/2025-05-27/
LOCATION:Zoom
CATEGORIES:Bible study,Zoom
END:VEVENT
BEGIN:VEVENT
DTSTART;TZID=America/New_York:20250525T200000
DTEND;TZID=America/New_York:20250525T203000
DTSTAMP:20260425T125104
CREATED:20230929T164931Z
LAST-MODIFIED:20230929T164931Z
UID:10001306-1748203200-1748205000@www.a2blue.org
SUMMARY:Sunday Evening Prayer Group
DESCRIPTION:Join via Zoom for a half hour of readings\, music\, and shared silence. Email nancyogilvie@gmail.com for the Zoom link.
URL:https://www.a2blue.org/event/sunday-evening-prayer-group/2025-05-25/
LOCATION:Virtual Zoom Meeting
CATEGORIES:Zoom
END:VEVENT
BEGIN:VEVENT
DTSTART;TZID=America/New_York:20250525T120000
DTEND;TZID=America/New_York:20250525T140000
DTSTAMP:20260425T125104
CREATED:20250514T023352Z
LAST-MODIFIED:20250514T023352Z
UID:10002566-1748174400-1748181600@www.a2blue.org
SUMMARY:Blue Ocean Gardening Day
DESCRIPTION:Immediately following the service the gardening team will work on preparing our Blue Ocean garden bed. Bring some gloves and any gardening tools you’d find helpful for weeding and trimming. Pizza will be provided. 
URL:https://www.a2blue.org/event/blue-ocean-gardening-day/
LOCATION:Genesis of Ann Arbor\, 2309 Packard St\, Ann Arbor\, MI\, 48104\, United States
END:VEVENT
BEGIN:VEVENT
DTSTART;TZID=America/New_York:20250525T120000
DTEND;TZID=America/New_York:20250525T130000
DTSTAMP:20260425T125104
CREATED:20240822T194825Z
LAST-MODIFIED:20240822T194848Z
UID:10002247-1748174400-1748178000@www.a2blue.org
SUMMARY:Donuts After Church
DESCRIPTION:Join us immediately after church for donuts and coffee from Washtenaw Dairy.
URL:https://www.a2blue.org/event/donuts-after-church-2-3/2025-05-25/
LOCATION:St. Clare/Temple Beth Emeth Social Hall\, 2309 Packard Street\, Ann Arbor\, MI\, 48104\, United States
CATEGORIES:connection
END:VEVENT
BEGIN:VEVENT
DTSTART;TZID=America/New_York:20250525T110000
DTEND;TZID=America/New_York:20250525T121500
DTSTAMP:20260425T125104
CREATED:20231109T151623Z
LAST-MODIFIED:20231109T151626Z
UID:10000115-1748170800-1748175300@www.a2blue.org
SUMMARY:Sunday Hybrid Service
DESCRIPTION:We hold in-person/Zoom hybrid services every Sunday at 11am ET. We meet in the social hall of St. Clare’s Episcopal Church/Temple Beth Emeth. More information can be found on our Sunday Services page. If this is your first time visiting us in person\, detailed directions for getting here are available on our Where & When page.
URL:https://www.a2blue.org/event/sunday-hybrid-service-4/2025-05-25/
LOCATION:St. Clare/Temple Beth Emeth Social Hall\, 2309 Packard Street\, Ann Arbor\, MI\, 48104\, United States
CATEGORIES:services
END:VEVENT
BEGIN:VEVENT
DTSTART;TZID=America/New_York:20250522T200000
DTEND;TZID=America/New_York:20250522T210000
DTSTAMP:20260425T125104
CREATED:20250401T202923Z
LAST-MODIFIED:20250401T202923Z
UID:10002544-1747944000-1747947600@www.a2blue.org
SUMMARY:Translocal Connection (TLC)
DESCRIPTION:The TLC small group will meet between 8-9pm EST via Zoom for online games and connection. All are welcome.
URL:https://www.a2blue.org/event/translocal-connection-tlc-6/
LOCATION:Virtual Zoom Meeting
CATEGORIES:connection,Zoom
END:VEVENT
BEGIN:VEVENT
DTSTART;TZID=America/New_York:20250522T183000
DTEND;TZID=America/New_York:20250522T200000
DTSTAMP:20260425T125104
CREATED:20250516T201526Z
LAST-MODIFIED:20250516T201526Z
UID:10002576-1747938600-1747944000@www.a2blue.org
SUMMARY:In-Person Queer Meetup
DESCRIPTION:Our next in-person Queer Meetup will be  at the Corner Brewery in Ypsilanti. We’ll be outside in the beer garden; if it’s raining we’ll go inside. If you have any questions\, please reach out to El at el@a2blue.org. This gathering is for 18 and up.
URL:https://www.a2blue.org/event/in-person-queer-meetup-2/
LOCATION:Corner Brewery\, 720 Norris Street\, Ypsilanti\, MI\, 48198
CATEGORIES:connection
ORGANIZER;CN="El Costanzo":MAILTO:be.still.costanzo@gmail.com
END:VEVENT
BEGIN:VEVENT
DTSTART;TZID=America/New_York:20250520T190000
DTEND;TZID=America/New_York:20250520T210000
DTSTAMP:20260425T125104
CREATED:20250228T220239Z
LAST-MODIFIED:20250401T203039Z
UID:10002533-1747767600-1747774800@www.a2blue.org
SUMMARY:Zoom Bible Study
DESCRIPTION:Online Bible study on Tuesday at 7pm\, focusing on the gospels as translated by Dr. Sarah Ruden. If you’re interested please contact Magda Zarin at  magda.pecsenye@gmail.com
URL:https://www.a2blue.org/event/zoom-bible-study/2025-05-20/
LOCATION:Zoom
CATEGORIES:Bible study,Zoom
END:VEVENT
BEGIN:VEVENT
DTSTART;TZID=America/New_York:20250518T200000
DTEND;TZID=America/New_York:20250518T203000
DTSTAMP:20260425T125104
CREATED:20230929T164931Z
LAST-MODIFIED:20230929T164931Z
UID:10001305-1747598400-1747600200@www.a2blue.org
SUMMARY:Sunday Evening Prayer Group
DESCRIPTION:Join via Zoom for a half hour of readings\, music\, and shared silence. Email nancyogilvie@gmail.com for the Zoom link.
URL:https://www.a2blue.org/event/sunday-evening-prayer-group/2025-05-18/
LOCATION:Virtual Zoom Meeting
CATEGORIES:Zoom
END:VEVENT
BEGIN:VEVENT
DTSTART;TZID=America/New_York:20250518T150000
DTEND;TZID=America/New_York:20250518T183000
DTSTAMP:20260425T125104
CREATED:20250516T202947Z
LAST-MODIFIED:20250516T202947Z
UID:10000609-1747580400-1747593000@www.a2blue.org
SUMMARY:Sunday Dinner at the Hope Center
DESCRIPTION:Join our team from 3-6:30 pm as we prepare and serve a warm meal to people in the community in need of extra food. Let Tim Davis know if you’re interested in volunteering. He can be reached at chaplaintimdavis@gmail.com. \n  \n 
URL:https://www.a2blue.org/event/sunday-dinner-at-the-hope-center-2/2025-05-18/
LOCATION:Hope Center\, Ypsilanti\, 518 Harriet Street\, Ypsilanti\, MI\, 48197
CATEGORIES:outreach
ORGANIZER;CN="Tim Davis":MAILTO:chaplaintimdavis@gmail.com
END:VEVENT
BEGIN:VEVENT
DTSTART;TZID=America/New_York:20250518T120000
DTEND;TZID=America/New_York:20250518T130000
DTSTAMP:20260425T125104
CREATED:20240822T194825Z
LAST-MODIFIED:20240822T194848Z
UID:10000695-1747569600-1747573200@www.a2blue.org
SUMMARY:Donuts After Church
DESCRIPTION:Join us immediately after church for donuts and coffee from Washtenaw Dairy.
URL:https://www.a2blue.org/event/donuts-after-church-2-3/2025-05-18/
LOCATION:St. Clare/Temple Beth Emeth Social Hall\, 2309 Packard Street\, Ann Arbor\, MI\, 48104\, United States
CATEGORIES:connection
END:VEVENT
BEGIN:VEVENT
DTSTART;TZID=America/New_York:20250518T110000
DTEND;TZID=America/New_York:20250518T121500
DTSTAMP:20260425T125104
CREATED:20231109T151623Z
LAST-MODIFIED:20231109T151626Z
UID:10000114-1747566000-1747570500@www.a2blue.org
SUMMARY:Sunday Hybrid Service
DESCRIPTION:We hold in-person/Zoom hybrid services every Sunday at 11am ET. We meet in the social hall of St. Clare’s Episcopal Church/Temple Beth Emeth. More information can be found on our Sunday Services page. If this is your first time visiting us in person\, detailed directions for getting here are available on our Where & When page.
URL:https://www.a2blue.org/event/sunday-hybrid-service-4/2025-05-18/
LOCATION:St. Clare/Temple Beth Emeth Social Hall\, 2309 Packard Street\, Ann Arbor\, MI\, 48104\, United States
CATEGORIES:services
END:VEVENT
BEGIN:VEVENT
DTSTART;TZID=America/New_York:20250517T190000
DTEND;TZID=America/New_York:20250517T213000
DTSTAMP:20260425T125104
CREATED:20250316T013549Z
LAST-MODIFIED:20250316T013549Z
UID:10002540-1747508400-1747517400@www.a2blue.org
SUMMARY:Film Club
DESCRIPTION:The Blue Ocean Film Club\, led by Dave Nelson and Tim Vaduva\, will be watching a film together at Dave & Jenn Nelson’s house (in a neighborhood near the church). This month’s movie is TBD. If you’d like to join them\, reply to the weekly email to get connected.
URL:https://www.a2blue.org/event/film-club-7/
LOCATION:Dave & Jenn Nelson’s
CATEGORIES:connection
END:VEVENT
BEGIN:VEVENT
DTSTART;TZID=America/New_York:20250513T190000
DTEND;TZID=America/New_York:20250513T210000
DTSTAMP:20260425T125104
CREATED:20250228T220239Z
LAST-MODIFIED:20250401T203039Z
UID:10002532-1747162800-1747170000@www.a2blue.org
SUMMARY:Zoom Bible Study
DESCRIPTION:Online Bible study on Tuesday at 7pm\, focusing on the gospels as translated by Dr. Sarah Ruden. If you’re interested please contact Magda Zarin at  magda.pecsenye@gmail.com
URL:https://www.a2blue.org/event/zoom-bible-study/2025-05-13/
LOCATION:Zoom
CATEGORIES:Bible study,Zoom
END:VEVENT
BEGIN:VEVENT
DTSTART;TZID=America/New_York:20250511T200000
DTEND;TZID=America/New_York:20250511T203000
DTSTAMP:20260425T125104
CREATED:20230929T164931Z
LAST-MODIFIED:20230929T164931Z
UID:10001304-1746993600-1746995400@www.a2blue.org
SUMMARY:Sunday Evening Prayer Group
DESCRIPTION:Join via Zoom for a half hour of readings\, music\, and shared silence. Email nancyogilvie@gmail.com for the Zoom link.
URL:https://www.a2blue.org/event/sunday-evening-prayer-group/2025-05-11/
LOCATION:Virtual Zoom Meeting
CATEGORIES:Zoom
END:VEVENT
BEGIN:VEVENT
DTSTART;TZID=America/New_York:20250511T120000
DTEND;TZID=America/New_York:20250511T130000
DTSTAMP:20260425T125104
CREATED:20250316T013243Z
LAST-MODIFIED:20250316T013243Z
UID:10002539-1746964800-1746968400@www.a2blue.org
SUMMARY:Translocal Connection (TLC)
DESCRIPTION:The TLC small group will meet immediately after church via Zoom for connection and guided discussion. All are welcome.
URL:https://www.a2blue.org/event/translocal-connection-tlc-5/
LOCATION:Zoom
CATEGORIES:connection,Zoom
END:VEVENT
BEGIN:VEVENT
DTSTART;TZID=America/New_York:20250511T120000
DTEND;TZID=America/New_York:20250511T130000
DTSTAMP:20260425T125104
CREATED:20240822T194825Z
LAST-MODIFIED:20240822T194848Z
UID:10002246-1746964800-1746968400@www.a2blue.org
SUMMARY:Donuts After Church
DESCRIPTION:Join us immediately after church for donuts and coffee from Washtenaw Dairy.
URL:https://www.a2blue.org/event/donuts-after-church-2-3/2025-05-11/
LOCATION:St. Clare/Temple Beth Emeth Social Hall\, 2309 Packard Street\, Ann Arbor\, MI\, 48104\, United States
CATEGORIES:connection
END:VEVENT
BEGIN:VEVENT
DTSTART;TZID=America/New_York:20250511T110000
DTEND;TZID=America/New_York:20250511T121500
DTSTAMP:20260425T125104
CREATED:20231109T151623Z
LAST-MODIFIED:20231109T151626Z
UID:10000113-1746961200-1746965700@www.a2blue.org
SUMMARY:Sunday Hybrid Service
DESCRIPTION:We hold in-person/Zoom hybrid services every Sunday at 11am ET. We meet in the social hall of St. Clare’s Episcopal Church/Temple Beth Emeth. More information can be found on our Sunday Services page. If this is your first time visiting us in person\, detailed directions for getting here are available on our Where & When page.
URL:https://www.a2blue.org/event/sunday-hybrid-service-4/2025-05-11/
LOCATION:St. Clare/Temple Beth Emeth Social Hall\, 2309 Packard Street\, Ann Arbor\, MI\, 48104\, United States
CATEGORIES:services
END:VEVENT
BEGIN:VEVENT
DTSTART;TZID=America/New_York:20250508T180000
DTEND;TZID=America/New_York:20250508T200000
DTSTAMP:20260425T125104
CREATED:20230713T150111Z
LAST-MODIFIED:20230812T144128Z
UID:10000938-1746727200-1746734400@www.a2blue.org
SUMMARY:Blue Ocean Church board meeting
DESCRIPTION:The church board meets monthly.
URL:https://www.a2blue.org/event/blue-ocean-church-board-meeting/2025-05-08/
CATEGORIES:board meeting
END:VEVENT
END:VCALENDAR