BEGIN:VCALENDAR
VERSION:2.0
PRODID:-//Blue Ocean Church Ann Arbor - ECPv6.15.20//NONSGML v1.0//EN
CALSCALE:GREGORIAN
METHOD:PUBLISH
X-WR-CALNAME:Blue Ocean Church Ann Arbor
X-ORIGINAL-URL:https://www.a2blue.org
X-WR-CALDESC:Events for Blue Ocean Church Ann Arbor
REFRESH-INTERVAL;VALUE=DURATION:PT1H
X-Robots-Tag:noindex
X-PUBLISHED-TTL:PT1H
BEGIN:VTIMEZONE
TZID:America/New_York
BEGIN:DAYLIGHT
TZOFFSETFROM:-0500
TZOFFSETTO:-0400
TZNAME:EDT
DTSTART:20250309T070000
END:DAYLIGHT
BEGIN:STANDARD
TZOFFSETFROM:-0400
TZOFFSETTO:-0500
TZNAME:EST
DTSTART:20251102T060000
END:STANDARD
BEGIN:DAYLIGHT
TZOFFSETFROM:-0500
TZOFFSETTO:-0400
TZNAME:EDT
DTSTART:20260308T070000
END:DAYLIGHT
BEGIN:STANDARD
TZOFFSETFROM:-0400
TZOFFSETTO:-0500
TZNAME:EST
DTSTART:20261101T060000
END:STANDARD
BEGIN:DAYLIGHT
TZOFFSETFROM:-0500
TZOFFSETTO:-0400
TZNAME:EDT
DTSTART:20270314T070000
END:DAYLIGHT
BEGIN:STANDARD
TZOFFSETFROM:-0400
TZOFFSETTO:-0500
TZNAME:EST
DTSTART:20271107T060000
END:STANDARD
END:VTIMEZONE
BEGIN:VEVENT
DTSTART;TZID=America/New_York:20260621T120000
DTEND;TZID=America/New_York:20260621T130000
DTSTAMP:20260425T115407
CREATED:20240822T194825Z
LAST-MODIFIED:20240822T194848Z
UID:10002275-1782043200-1782046800@www.a2blue.org
SUMMARY:Donuts After Church
DESCRIPTION:Join us immediately after church for donuts and coffee from Washtenaw Dairy.
URL:https://www.a2blue.org/event/donuts-after-church-2-3/2026-06-21/
LOCATION:St. Clare/Temple Beth Emeth Social Hall\, 2309 Packard Street\, Ann Arbor\, MI\, 48104\, United States
CATEGORIES:connection
END:VEVENT
BEGIN:VEVENT
DTSTART;TZID=America/New_York:20260621T110000
DTEND;TZID=America/New_York:20260621T121500
DTSTAMP:20260425T115407
CREATED:20231109T151623Z
LAST-MODIFIED:20231109T151626Z
UID:10000171-1782039600-1782044100@www.a2blue.org
SUMMARY:Sunday Hybrid Service
DESCRIPTION:We hold in-person/Zoom hybrid services every Sunday at 11am ET. We meet in the social hall of St. Clare’s Episcopal Church/Temple Beth Emeth. More information can be found on our Sunday Services page. If this is your first time visiting us in person\, detailed directions for getting here are available on our Where & When page.
URL:https://www.a2blue.org/event/sunday-hybrid-service-4/2026-06-21/
LOCATION:St. Clare/Temple Beth Emeth Social Hall\, 2309 Packard Street\, Ann Arbor\, MI\, 48104\, United States
CATEGORIES:services
END:VEVENT
BEGIN:VEVENT
DTSTART;TZID=America/New_York:20260614T200000
DTEND;TZID=America/New_York:20260614T203000
DTSTAMP:20260425T115407
CREATED:20230929T164931Z
LAST-MODIFIED:20230929T164931Z
UID:10001361-1781467200-1781469000@www.a2blue.org
SUMMARY:Sunday Evening Prayer Group
DESCRIPTION:Join via Zoom for a half hour of readings\, music\, and shared silence. Email nancyogilvie@gmail.com for the Zoom link.
URL:https://www.a2blue.org/event/sunday-evening-prayer-group/2026-06-14/
LOCATION:Virtual Zoom Meeting
CATEGORIES:Zoom
END:VEVENT
BEGIN:VEVENT
DTSTART;TZID=America/New_York:20260614T120000
DTEND;TZID=America/New_York:20260614T130000
DTSTAMP:20260425T115407
CREATED:20240822T194825Z
LAST-MODIFIED:20240822T194848Z
UID:10000723-1781438400-1781442000@www.a2blue.org
SUMMARY:Donuts After Church
DESCRIPTION:Join us immediately after church for donuts and coffee from Washtenaw Dairy.
URL:https://www.a2blue.org/event/donuts-after-church-2-3/2026-06-14/
LOCATION:St. Clare/Temple Beth Emeth Social Hall\, 2309 Packard Street\, Ann Arbor\, MI\, 48104\, United States
CATEGORIES:connection
END:VEVENT
BEGIN:VEVENT
DTSTART;TZID=America/New_York:20260614T110000
DTEND;TZID=America/New_York:20260614T121500
DTSTAMP:20260425T115407
CREATED:20231109T151623Z
LAST-MODIFIED:20231109T151626Z
UID:10000170-1781434800-1781439300@www.a2blue.org
SUMMARY:Sunday Hybrid Service
DESCRIPTION:We hold in-person/Zoom hybrid services every Sunday at 11am ET. We meet in the social hall of St. Clare’s Episcopal Church/Temple Beth Emeth. More information can be found on our Sunday Services page. If this is your first time visiting us in person\, detailed directions for getting here are available on our Where & When page.
URL:https://www.a2blue.org/event/sunday-hybrid-service-4/2026-06-14/
LOCATION:St. Clare/Temple Beth Emeth Social Hall\, 2309 Packard Street\, Ann Arbor\, MI\, 48104\, United States
CATEGORIES:services
END:VEVENT
BEGIN:VEVENT
DTSTART;TZID=America/New_York:20260611T180000
DTEND;TZID=America/New_York:20260611T200000
DTSTAMP:20260425T115407
CREATED:20230713T150111Z
LAST-MODIFIED:20230812T144128Z
UID:10000951-1781200800-1781208000@www.a2blue.org
SUMMARY:Blue Ocean Church board meeting
DESCRIPTION:The church board meets monthly.
URL:https://www.a2blue.org/event/blue-ocean-church-board-meeting/2026-06-11/
CATEGORIES:board meeting
END:VEVENT
BEGIN:VEVENT
DTSTART;TZID=America/New_York:20260607T200000
DTEND;TZID=America/New_York:20260607T203000
DTSTAMP:20260425T115407
CREATED:20230929T164931Z
LAST-MODIFIED:20230929T164931Z
UID:10001360-1780862400-1780864200@www.a2blue.org
SUMMARY:Sunday Evening Prayer Group
DESCRIPTION:Join via Zoom for a half hour of readings\, music\, and shared silence. Email nancyogilvie@gmail.com for the Zoom link.
URL:https://www.a2blue.org/event/sunday-evening-prayer-group/2026-06-07/
LOCATION:Virtual Zoom Meeting
CATEGORIES:Zoom
END:VEVENT
BEGIN:VEVENT
DTSTART;TZID=America/New_York:20260607T120000
DTEND;TZID=America/New_York:20260607T130000
DTSTAMP:20260425T115407
CREATED:20240822T194825Z
LAST-MODIFIED:20240822T194848Z
UID:10002274-1780833600-1780837200@www.a2blue.org
SUMMARY:Donuts After Church
DESCRIPTION:Join us immediately after church for donuts and coffee from Washtenaw Dairy.
URL:https://www.a2blue.org/event/donuts-after-church-2-3/2026-06-07/
LOCATION:St. Clare/Temple Beth Emeth Social Hall\, 2309 Packard Street\, Ann Arbor\, MI\, 48104\, United States
CATEGORIES:connection
END:VEVENT
BEGIN:VEVENT
DTSTART;TZID=America/New_York:20260607T110000
DTEND;TZID=America/New_York:20260607T121500
DTSTAMP:20260425T115407
CREATED:20231109T151623Z
LAST-MODIFIED:20231109T151626Z
UID:10000169-1780830000-1780834500@www.a2blue.org
SUMMARY:Sunday Hybrid Service
DESCRIPTION:We hold in-person/Zoom hybrid services every Sunday at 11am ET. We meet in the social hall of St. Clare’s Episcopal Church/Temple Beth Emeth. More information can be found on our Sunday Services page. If this is your first time visiting us in person\, detailed directions for getting here are available on our Where & When page.
URL:https://www.a2blue.org/event/sunday-hybrid-service-4/2026-06-07/
LOCATION:St. Clare/Temple Beth Emeth Social Hall\, 2309 Packard Street\, Ann Arbor\, MI\, 48104\, United States
CATEGORIES:services
END:VEVENT
BEGIN:VEVENT
DTSTART;TZID=America/New_York:20260531T200000
DTEND;TZID=America/New_York:20260531T203000
DTSTAMP:20260425T115407
CREATED:20230929T164931Z
LAST-MODIFIED:20230929T164931Z
UID:10001359-1780257600-1780259400@www.a2blue.org
SUMMARY:Sunday Evening Prayer Group
DESCRIPTION:Join via Zoom for a half hour of readings\, music\, and shared silence. Email nancyogilvie@gmail.com for the Zoom link.
URL:https://www.a2blue.org/event/sunday-evening-prayer-group/2026-05-31/
LOCATION:Virtual Zoom Meeting
CATEGORIES:Zoom
END:VEVENT
BEGIN:VEVENT
DTSTART;TZID=America/New_York:20260531T120000
DTEND;TZID=America/New_York:20260531T130000
DTSTAMP:20260425T115407
CREATED:20240822T194825Z
LAST-MODIFIED:20240822T194848Z
UID:10000722-1780228800-1780232400@www.a2blue.org
SUMMARY:Donuts After Church
DESCRIPTION:Join us immediately after church for donuts and coffee from Washtenaw Dairy.
URL:https://www.a2blue.org/event/donuts-after-church-2-3/2026-05-31/
LOCATION:St. Clare/Temple Beth Emeth Social Hall\, 2309 Packard Street\, Ann Arbor\, MI\, 48104\, United States
CATEGORIES:connection
END:VEVENT
BEGIN:VEVENT
DTSTART;TZID=America/New_York:20260531T110000
DTEND;TZID=America/New_York:20260531T121500
DTSTAMP:20260425T115407
CREATED:20231109T151623Z
LAST-MODIFIED:20231109T151626Z
UID:10000168-1780225200-1780229700@www.a2blue.org
SUMMARY:Sunday Hybrid Service
DESCRIPTION:We hold in-person/Zoom hybrid services every Sunday at 11am ET. We meet in the social hall of St. Clare’s Episcopal Church/Temple Beth Emeth. More information can be found on our Sunday Services page. If this is your first time visiting us in person\, detailed directions for getting here are available on our Where & When page.
URL:https://www.a2blue.org/event/sunday-hybrid-service-4/2026-05-31/
LOCATION:St. Clare/Temple Beth Emeth Social Hall\, 2309 Packard Street\, Ann Arbor\, MI\, 48104\, United States
CATEGORIES:services
END:VEVENT
BEGIN:VEVENT
DTSTART;TZID=America/New_York:20260524T200000
DTEND;TZID=America/New_York:20260524T203000
DTSTAMP:20260425T115407
CREATED:20230929T164931Z
LAST-MODIFIED:20230929T164931Z
UID:10001358-1779652800-1779654600@www.a2blue.org
SUMMARY:Sunday Evening Prayer Group
DESCRIPTION:Join via Zoom for a half hour of readings\, music\, and shared silence. Email nancyogilvie@gmail.com for the Zoom link.
URL:https://www.a2blue.org/event/sunday-evening-prayer-group/2026-05-24/
LOCATION:Virtual Zoom Meeting
CATEGORIES:Zoom
END:VEVENT
BEGIN:VEVENT
DTSTART;TZID=America/New_York:20260524T120000
DTEND;TZID=America/New_York:20260524T130000
DTSTAMP:20260425T115407
CREATED:20240822T194825Z
LAST-MODIFIED:20240822T194848Z
UID:10002273-1779624000-1779627600@www.a2blue.org
SUMMARY:Donuts After Church
DESCRIPTION:Join us immediately after church for donuts and coffee from Washtenaw Dairy.
URL:https://www.a2blue.org/event/donuts-after-church-2-3/2026-05-24/
LOCATION:St. Clare/Temple Beth Emeth Social Hall\, 2309 Packard Street\, Ann Arbor\, MI\, 48104\, United States
CATEGORIES:connection
END:VEVENT
BEGIN:VEVENT
DTSTART;TZID=America/New_York:20260524T110000
DTEND;TZID=America/New_York:20260524T121500
DTSTAMP:20260425T115407
CREATED:20231109T151623Z
LAST-MODIFIED:20231109T151626Z
UID:10000167-1779620400-1779624900@www.a2blue.org
SUMMARY:Sunday Hybrid Service
DESCRIPTION:We hold in-person/Zoom hybrid services every Sunday at 11am ET. We meet in the social hall of St. Clare’s Episcopal Church/Temple Beth Emeth. More information can be found on our Sunday Services page. If this is your first time visiting us in person\, detailed directions for getting here are available on our Where & When page.
URL:https://www.a2blue.org/event/sunday-hybrid-service-4/2026-05-24/
LOCATION:St. Clare/Temple Beth Emeth Social Hall\, 2309 Packard Street\, Ann Arbor\, MI\, 48104\, United States
CATEGORIES:services
END:VEVENT
BEGIN:VEVENT
DTSTART;TZID=America/New_York:20260517T200000
DTEND;TZID=America/New_York:20260517T203000
DTSTAMP:20260425T115407
CREATED:20230929T164931Z
LAST-MODIFIED:20230929T164931Z
UID:10001357-1779048000-1779049800@www.a2blue.org
SUMMARY:Sunday Evening Prayer Group
DESCRIPTION:Join via Zoom for a half hour of readings\, music\, and shared silence. Email nancyogilvie@gmail.com for the Zoom link.
URL:https://www.a2blue.org/event/sunday-evening-prayer-group/2026-05-17/
LOCATION:Virtual Zoom Meeting
CATEGORIES:Zoom
END:VEVENT
BEGIN:VEVENT
DTSTART;TZID=America/New_York:20260517T150000
DTEND;TZID=America/New_York:20260517T183000
DTSTAMP:20260425T115407
CREATED:20250516T202947Z
LAST-MODIFIED:20250516T202947Z
UID:10002589-1779030000-1779042600@www.a2blue.org
SUMMARY:Sunday Dinner at the Hope Center
DESCRIPTION:Join our team from 3-6:30 pm as we prepare and serve a warm meal to people in the community in need of extra food. Let Tim Davis know if you’re interested in volunteering. He can be reached at chaplaintimdavis@gmail.com. \n  \n 
URL:https://www.a2blue.org/event/sunday-dinner-at-the-hope-center-2/2026-05-17/
LOCATION:Hope Center\, Ypsilanti\, 518 Harriet Street\, Ypsilanti\, MI\, 48197
CATEGORIES:outreach
ORGANIZER;CN="Tim Davis":MAILTO:chaplaintimdavis@gmail.com
END:VEVENT
BEGIN:VEVENT
DTSTART;TZID=America/New_York:20260517T133000
DTEND;TZID=America/New_York:20260517T143000
DTSTAMP:20260425T115407
CREATED:20260410T183236Z
LAST-MODIFIED:20260410T183236Z
UID:10002768-1779024600-1779028200@www.a2blue.org
SUMMARY:Stations of Creation
DESCRIPTION:All of the critters and plants that have been hibernating are emerging\, and we are invited to pay attention and celebrate it! Blue Ocean community member and spiritual director\, Jennifer Andersson\, will lead a Stations of Creation on Sunday\, May 17th in the Arb in Ann Arbor from 1:30 – 2: 30 pm. A Stations of Creation is simply a time to gather and observe our Creator’s natural world –  enlarge our awareness of it – build our gratitude – and strengthen our stewardship through the creation story. Everyone is welcome! It will be an interactive time for adults and children. Email Jennifer at jennifer@journeycentergreatlakes.org for details if you would like to join.
URL:https://www.a2blue.org/event/stations-of-creation/
LOCATION:Nichols Arboretum\, 1610 Washington Heights\, Anna Arbor\, MI\, 48104\, United States
CATEGORIES:prayer and meditation
ORGANIZER;CN="Jennifer Andersson":MAILTO:jennifer@journeycentergreatlakes.org
END:VEVENT
BEGIN:VEVENT
DTSTART;TZID=America/New_York:20260517T120000
DTEND;TZID=America/New_York:20260517T130000
DTSTAMP:20260425T115407
CREATED:20240822T194825Z
LAST-MODIFIED:20240822T194848Z
UID:10000721-1779019200-1779022800@www.a2blue.org
SUMMARY:Donuts After Church
DESCRIPTION:Join us immediately after church for donuts and coffee from Washtenaw Dairy.
URL:https://www.a2blue.org/event/donuts-after-church-2-3/2026-05-17/
LOCATION:St. Clare/Temple Beth Emeth Social Hall\, 2309 Packard Street\, Ann Arbor\, MI\, 48104\, United States
CATEGORIES:connection
END:VEVENT
BEGIN:VEVENT
DTSTART;TZID=America/New_York:20260517T110000
DTEND;TZID=America/New_York:20260517T121500
DTSTAMP:20260425T115407
CREATED:20231109T151623Z
LAST-MODIFIED:20231109T151626Z
UID:10000166-1779015600-1779020100@www.a2blue.org
SUMMARY:Sunday Hybrid Service
DESCRIPTION:We hold in-person/Zoom hybrid services every Sunday at 11am ET. We meet in the social hall of St. Clare’s Episcopal Church/Temple Beth Emeth. More information can be found on our Sunday Services page. If this is your first time visiting us in person\, detailed directions for getting here are available on our Where & When page.
URL:https://www.a2blue.org/event/sunday-hybrid-service-4/2026-05-17/
LOCATION:St. Clare/Temple Beth Emeth Social Hall\, 2309 Packard Street\, Ann Arbor\, MI\, 48104\, United States
CATEGORIES:services
END:VEVENT
BEGIN:VEVENT
DTSTART;TZID=America/New_York:20260514T180000
DTEND;TZID=America/New_York:20260514T200000
DTSTAMP:20260425T115407
CREATED:20230713T150111Z
LAST-MODIFIED:20230812T144128Z
UID:10000950-1778781600-1778788800@www.a2blue.org
SUMMARY:Blue Ocean Church board meeting
DESCRIPTION:The church board meets monthly.
URL:https://www.a2blue.org/event/blue-ocean-church-board-meeting/2026-05-14/
CATEGORIES:board meeting
END:VEVENT
BEGIN:VEVENT
DTSTART;TZID=America/New_York:20260510T200000
DTEND;TZID=America/New_York:20260510T203000
DTSTAMP:20260425T115407
CREATED:20230929T164931Z
LAST-MODIFIED:20230929T164931Z
UID:10001356-1778443200-1778445000@www.a2blue.org
SUMMARY:Sunday Evening Prayer Group
DESCRIPTION:Join via Zoom for a half hour of readings\, music\, and shared silence. Email nancyogilvie@gmail.com for the Zoom link.
URL:https://www.a2blue.org/event/sunday-evening-prayer-group/2026-05-10/
LOCATION:Virtual Zoom Meeting
CATEGORIES:Zoom
END:VEVENT
BEGIN:VEVENT
DTSTART;TZID=America/New_York:20260510T120000
DTEND;TZID=America/New_York:20260510T130000
DTSTAMP:20260425T115407
CREATED:20240822T194825Z
LAST-MODIFIED:20240822T194848Z
UID:10002272-1778414400-1778418000@www.a2blue.org
SUMMARY:Donuts After Church
DESCRIPTION:Join us immediately after church for donuts and coffee from Washtenaw Dairy.
URL:https://www.a2blue.org/event/donuts-after-church-2-3/2026-05-10/
LOCATION:St. Clare/Temple Beth Emeth Social Hall\, 2309 Packard Street\, Ann Arbor\, MI\, 48104\, United States
CATEGORIES:connection
END:VEVENT
BEGIN:VEVENT
DTSTART;TZID=America/New_York:20260510T110000
DTEND;TZID=America/New_York:20260510T121500
DTSTAMP:20260425T115407
CREATED:20231109T151623Z
LAST-MODIFIED:20231109T151626Z
UID:10000165-1778410800-1778415300@www.a2blue.org
SUMMARY:Sunday Hybrid Service
DESCRIPTION:We hold in-person/Zoom hybrid services every Sunday at 11am ET. We meet in the social hall of St. Clare’s Episcopal Church/Temple Beth Emeth. More information can be found on our Sunday Services page. If this is your first time visiting us in person\, detailed directions for getting here are available on our Where & When page.
URL:https://www.a2blue.org/event/sunday-hybrid-service-4/2026-05-10/
LOCATION:St. Clare/Temple Beth Emeth Social Hall\, 2309 Packard Street\, Ann Arbor\, MI\, 48104\, United States
CATEGORIES:services
END:VEVENT
BEGIN:VEVENT
DTSTART;TZID=America/New_York:20260509T190000
DTEND;TZID=America/New_York:20260509T220000
DTSTAMP:20260425T115407
CREATED:20260306T190504Z
LAST-MODIFIED:20260306T190504Z
UID:10002764-1778353200-1778364000@www.a2blue.org
SUMMARY:Film Club
DESCRIPTION:The Blue Ocean Film Club\, led by Dave Nelson and Tim Vaduva\, will be watching a film together at 7pm at Dave & Jenn Nelson’s house (in a neighborhood near the church). This month’s movie is TBD. If you’d like to join them\, reply to the weekly update email to be connected to Dave and Tim.
URL:https://www.a2blue.org/event/film-club-19/
LOCATION:Dave & Jenn Nelson’s
CATEGORIES:connection
END:VEVENT
BEGIN:VEVENT
DTSTART;TZID=America/New_York:20260503T200000
DTEND;TZID=America/New_York:20260503T203000
DTSTAMP:20260425T115407
CREATED:20230929T164931Z
LAST-MODIFIED:20230929T164931Z
UID:10001355-1777838400-1777840200@www.a2blue.org
SUMMARY:Sunday Evening Prayer Group
DESCRIPTION:Join via Zoom for a half hour of readings\, music\, and shared silence. Email nancyogilvie@gmail.com for the Zoom link.
URL:https://www.a2blue.org/event/sunday-evening-prayer-group/2026-05-03/
LOCATION:Virtual Zoom Meeting
CATEGORIES:Zoom
END:VEVENT
BEGIN:VEVENT
DTSTART;TZID=America/New_York:20260503T120000
DTEND;TZID=America/New_York:20260503T130000
DTSTAMP:20260425T115407
CREATED:20240822T194825Z
LAST-MODIFIED:20240822T194848Z
UID:10000720-1777809600-1777813200@www.a2blue.org
SUMMARY:Donuts After Church
DESCRIPTION:Join us immediately after church for donuts and coffee from Washtenaw Dairy.
URL:https://www.a2blue.org/event/donuts-after-church-2-3/2026-05-03/
LOCATION:St. Clare/Temple Beth Emeth Social Hall\, 2309 Packard Street\, Ann Arbor\, MI\, 48104\, United States
CATEGORIES:connection
END:VEVENT
BEGIN:VEVENT
DTSTART;TZID=America/New_York:20260503T110000
DTEND;TZID=America/New_York:20260503T121500
DTSTAMP:20260425T115407
CREATED:20231109T151623Z
LAST-MODIFIED:20231109T151626Z
UID:10000164-1777806000-1777810500@www.a2blue.org
SUMMARY:Sunday Hybrid Service
DESCRIPTION:We hold in-person/Zoom hybrid services every Sunday at 11am ET. We meet in the social hall of St. Clare’s Episcopal Church/Temple Beth Emeth. More information can be found on our Sunday Services page. If this is your first time visiting us in person\, detailed directions for getting here are available on our Where & When page.
URL:https://www.a2blue.org/event/sunday-hybrid-service-4/2026-05-03/
LOCATION:St. Clare/Temple Beth Emeth Social Hall\, 2309 Packard Street\, Ann Arbor\, MI\, 48104\, United States
CATEGORIES:services
END:VEVENT
BEGIN:VEVENT
DTSTART;VALUE=DATE:20260502
DTEND;VALUE=DATE:20260503
DTSTAMP:20260425T115407
CREATED:20260306T190136Z
LAST-MODIFIED:20260306T190136Z
UID:10002763-1777680000-1777766399@www.a2blue.org
SUMMARY:BBQ and Bonfire
DESCRIPTION:A BBQ and bonfire gathering at the Miner’s farm. Stay tuned for details!
URL:https://www.a2blue.org/event/bbq-and-bonfire/
LOCATION:Javan and Emily Miner’s farm (Dexter)
CATEGORIES:connection
END:VEVENT
BEGIN:VEVENT
DTSTART;TZID=America/New_York:20260426T200000
DTEND;TZID=America/New_York:20260426T203000
DTSTAMP:20260425T115407
CREATED:20230929T164931Z
LAST-MODIFIED:20230929T164931Z
UID:10001354-1777233600-1777235400@www.a2blue.org
SUMMARY:Sunday Evening Prayer Group
DESCRIPTION:Join via Zoom for a half hour of readings\, music\, and shared silence. Email nancyogilvie@gmail.com for the Zoom link.
URL:https://www.a2blue.org/event/sunday-evening-prayer-group/2026-04-26/
LOCATION:Virtual Zoom Meeting
CATEGORIES:Zoom
END:VEVENT
END:VCALENDAR