BEGIN:VCALENDAR
VERSION:2.0
PRODID:-//Blue Ocean Church Ann Arbor - ECPv6.15.20//NONSGML v1.0//EN
CALSCALE:GREGORIAN
METHOD:PUBLISH
X-ORIGINAL-URL:https://www.a2blue.org
X-WR-CALDESC:Events for Blue Ocean Church Ann Arbor
REFRESH-INTERVAL;VALUE=DURATION:PT1H
X-Robots-Tag:noindex
X-PUBLISHED-TTL:PT1H
BEGIN:VTIMEZONE
TZID:America/New_York
BEGIN:DAYLIGHT
TZOFFSETFROM:-0500
TZOFFSETTO:-0400
TZNAME:EDT
DTSTART:20260308T070000
END:DAYLIGHT
BEGIN:STANDARD
TZOFFSETFROM:-0400
TZOFFSETTO:-0500
TZNAME:EST
DTSTART:20261101T060000
END:STANDARD
BEGIN:DAYLIGHT
TZOFFSETFROM:-0500
TZOFFSETTO:-0400
TZNAME:EDT
DTSTART:20270314T070000
END:DAYLIGHT
BEGIN:STANDARD
TZOFFSETFROM:-0400
TZOFFSETTO:-0500
TZNAME:EST
DTSTART:20271107T060000
END:STANDARD
BEGIN:DAYLIGHT
TZOFFSETFROM:-0500
TZOFFSETTO:-0400
TZNAME:EDT
DTSTART:20280312T070000
END:DAYLIGHT
BEGIN:STANDARD
TZOFFSETFROM:-0400
TZOFFSETTO:-0500
TZNAME:EST
DTSTART:20281105T060000
END:STANDARD
END:VTIMEZONE
BEGIN:VEVENT
DTSTART;TZID=America/New_York:20270110T200000
DTEND;TZID=America/New_York:20270110T203000
DTSTAMP:20260425T125142
CREATED:20230929T164931Z
LAST-MODIFIED:20230929T164931Z
UID:10001391-1799611200-1799613000@www.a2blue.org
SUMMARY:Sunday Evening Prayer Group
DESCRIPTION:Join via Zoom for a half hour of readings\, music\, and shared silence. Email nancyogilvie@gmail.com for the Zoom link.
URL:https://www.a2blue.org/event/sunday-evening-prayer-group/2027-01-10/
LOCATION:Virtual Zoom Meeting
CATEGORIES:Zoom
END:VEVENT
BEGIN:VEVENT
DTSTART;TZID=America/New_York:20270114T180000
DTEND;TZID=America/New_York:20270114T200000
DTSTAMP:20260425T125142
CREATED:20230713T150111Z
LAST-MODIFIED:20230812T144128Z
UID:10000958-1799949600-1799956800@www.a2blue.org
SUMMARY:Blue Ocean Church board meeting
DESCRIPTION:The church board meets monthly.
URL:https://www.a2blue.org/event/blue-ocean-church-board-meeting/2027-01-14/
LOCATION:MI
CATEGORIES:board meeting
END:VEVENT
BEGIN:VEVENT
DTSTART;TZID=America/New_York:20270117T110000
DTEND;TZID=America/New_York:20270117T121500
DTSTAMP:20260425T125142
CREATED:20231109T151623Z
LAST-MODIFIED:20231109T151626Z
UID:10000201-1800183600-1800188100@www.a2blue.org
SUMMARY:Sunday Hybrid Service
DESCRIPTION:We hold in-person/Zoom hybrid services every Sunday at 11am ET. We meet in the social hall of St. Clare’s Episcopal Church/Temple Beth Emeth. More information can be found on our Sunday Services page. If this is your first time visiting us in person\, detailed directions for getting here are available on our Where & When page.
URL:https://www.a2blue.org/event/sunday-hybrid-service-4/2027-01-17/
LOCATION:St. Clare/Temple Beth Emeth Social Hall\, 2309 Packard Street\, Ann Arbor\, MI\, 48104\, United States
CATEGORIES:services
END:VEVENT
BEGIN:VEVENT
DTSTART;TZID=America/New_York:20270117T120000
DTEND;TZID=America/New_York:20270117T130000
DTSTAMP:20260425T125142
CREATED:20240822T194825Z
LAST-MODIFIED:20240822T194848Z
UID:10002290-1800187200-1800190800@www.a2blue.org
SUMMARY:Donuts After Church
DESCRIPTION:Join us immediately after church for donuts and coffee from Washtenaw Dairy.
URL:https://www.a2blue.org/event/donuts-after-church-2-3/2027-01-17/
LOCATION:St. Clare/Temple Beth Emeth Social Hall\, 2309 Packard Street\, Ann Arbor\, MI\, 48104\, United States
CATEGORIES:connection
END:VEVENT
BEGIN:VEVENT
DTSTART;TZID=America/New_York:20270117T150000
DTEND;TZID=America/New_York:20270117T183000
DTSTAMP:20260425T125142
CREATED:20250516T202947Z
LAST-MODIFIED:20250516T202947Z
UID:10002597-1800198000-1800210600@www.a2blue.org
SUMMARY:Sunday Dinner at the Hope Center
DESCRIPTION:Join our team from 3-6:30 pm as we prepare and serve a warm meal to people in the community in need of extra food. Let Tim Davis know if you’re interested in volunteering. He can be reached at chaplaintimdavis@gmail.com. \n  \n 
URL:https://www.a2blue.org/event/sunday-dinner-at-the-hope-center-2/2027-01-17/
LOCATION:Hope Center\, Ypsilanti\, 518 Harriet Street\, Ypsilanti\, MI\, 48197
CATEGORIES:outreach
ORGANIZER;CN="Tim Davis":MAILTO:chaplaintimdavis@gmail.com
END:VEVENT
BEGIN:VEVENT
DTSTART;TZID=America/New_York:20270117T200000
DTEND;TZID=America/New_York:20270117T203000
DTSTAMP:20260425T125142
CREATED:20230929T164931Z
LAST-MODIFIED:20230929T164931Z
UID:10001392-1800216000-1800217800@www.a2blue.org
SUMMARY:Sunday Evening Prayer Group
DESCRIPTION:Join via Zoom for a half hour of readings\, music\, and shared silence. Email nancyogilvie@gmail.com for the Zoom link.
URL:https://www.a2blue.org/event/sunday-evening-prayer-group/2027-01-17/
LOCATION:Virtual Zoom Meeting
CATEGORIES:Zoom
END:VEVENT
BEGIN:VEVENT
DTSTART;TZID=America/New_York:20270124T110000
DTEND;TZID=America/New_York:20270124T121500
DTSTAMP:20260425T125142
CREATED:20231109T151623Z
LAST-MODIFIED:20231109T151626Z
UID:10000202-1800788400-1800792900@www.a2blue.org
SUMMARY:Sunday Hybrid Service
DESCRIPTION:We hold in-person/Zoom hybrid services every Sunday at 11am ET. We meet in the social hall of St. Clare’s Episcopal Church/Temple Beth Emeth. More information can be found on our Sunday Services page. If this is your first time visiting us in person\, detailed directions for getting here are available on our Where & When page.
URL:https://www.a2blue.org/event/sunday-hybrid-service-4/2027-01-24/
LOCATION:St. Clare/Temple Beth Emeth Social Hall\, 2309 Packard Street\, Ann Arbor\, MI\, 48104\, United States
CATEGORIES:services
END:VEVENT
BEGIN:VEVENT
DTSTART;TZID=America/New_York:20270124T120000
DTEND;TZID=America/New_York:20270124T130000
DTSTAMP:20260425T125142
CREATED:20240822T194825Z
LAST-MODIFIED:20240822T194848Z
UID:10000739-1800792000-1800795600@www.a2blue.org
SUMMARY:Donuts After Church
DESCRIPTION:Join us immediately after church for donuts and coffee from Washtenaw Dairy.
URL:https://www.a2blue.org/event/donuts-after-church-2-3/2027-01-24/
LOCATION:St. Clare/Temple Beth Emeth Social Hall\, 2309 Packard Street\, Ann Arbor\, MI\, 48104\, United States
CATEGORIES:connection
END:VEVENT
BEGIN:VEVENT
DTSTART;TZID=America/New_York:20270124T200000
DTEND;TZID=America/New_York:20270124T203000
DTSTAMP:20260425T125142
CREATED:20230929T164931Z
LAST-MODIFIED:20230929T164931Z
UID:10001393-1800820800-1800822600@www.a2blue.org
SUMMARY:Sunday Evening Prayer Group
DESCRIPTION:Join via Zoom for a half hour of readings\, music\, and shared silence. Email nancyogilvie@gmail.com for the Zoom link.
URL:https://www.a2blue.org/event/sunday-evening-prayer-group/2027-01-24/
LOCATION:Virtual Zoom Meeting
CATEGORIES:Zoom
END:VEVENT
BEGIN:VEVENT
DTSTART;TZID=America/New_York:20270131T110000
DTEND;TZID=America/New_York:20270131T121500
DTSTAMP:20260425T125142
CREATED:20231109T151623Z
LAST-MODIFIED:20231109T151626Z
UID:10000203-1801393200-1801397700@www.a2blue.org
SUMMARY:Sunday Hybrid Service
DESCRIPTION:We hold in-person/Zoom hybrid services every Sunday at 11am ET. We meet in the social hall of St. Clare’s Episcopal Church/Temple Beth Emeth. More information can be found on our Sunday Services page. If this is your first time visiting us in person\, detailed directions for getting here are available on our Where & When page.
URL:https://www.a2blue.org/event/sunday-hybrid-service-4/2027-01-31/
LOCATION:St. Clare/Temple Beth Emeth Social Hall\, 2309 Packard Street\, Ann Arbor\, MI\, 48104\, United States
CATEGORIES:services
END:VEVENT
BEGIN:VEVENT
DTSTART;TZID=America/New_York:20270131T120000
DTEND;TZID=America/New_York:20270131T130000
DTSTAMP:20260425T125142
CREATED:20240822T194825Z
LAST-MODIFIED:20240822T194848Z
UID:10002291-1801396800-1801400400@www.a2blue.org
SUMMARY:Donuts After Church
DESCRIPTION:Join us immediately after church for donuts and coffee from Washtenaw Dairy.
URL:https://www.a2blue.org/event/donuts-after-church-2-3/2027-01-31/
LOCATION:St. Clare/Temple Beth Emeth Social Hall\, 2309 Packard Street\, Ann Arbor\, MI\, 48104\, United States
CATEGORIES:connection
END:VEVENT
BEGIN:VEVENT
DTSTART;TZID=America/New_York:20270131T200000
DTEND;TZID=America/New_York:20270131T203000
DTSTAMP:20260425T125142
CREATED:20230929T164931Z
LAST-MODIFIED:20230929T164931Z
UID:10001394-1801425600-1801427400@www.a2blue.org
SUMMARY:Sunday Evening Prayer Group
DESCRIPTION:Join via Zoom for a half hour of readings\, music\, and shared silence. Email nancyogilvie@gmail.com for the Zoom link.
URL:https://www.a2blue.org/event/sunday-evening-prayer-group/2027-01-31/
LOCATION:Virtual Zoom Meeting
CATEGORIES:Zoom
END:VEVENT
BEGIN:VEVENT
DTSTART;TZID=America/New_York:20270207T110000
DTEND;TZID=America/New_York:20270207T121500
DTSTAMP:20260425T125142
CREATED:20231109T151623Z
LAST-MODIFIED:20231109T151626Z
UID:10000204-1801998000-1802002500@www.a2blue.org
SUMMARY:Sunday Hybrid Service
DESCRIPTION:We hold in-person/Zoom hybrid services every Sunday at 11am ET. We meet in the social hall of St. Clare’s Episcopal Church/Temple Beth Emeth. More information can be found on our Sunday Services page. If this is your first time visiting us in person\, detailed directions for getting here are available on our Where & When page.
URL:https://www.a2blue.org/event/sunday-hybrid-service-4/2027-02-07/
LOCATION:St. Clare/Temple Beth Emeth Social Hall\, 2309 Packard Street\, Ann Arbor\, MI\, 48104\, United States
CATEGORIES:services
END:VEVENT
BEGIN:VEVENT
DTSTART;TZID=America/New_York:20270207T120000
DTEND;TZID=America/New_York:20270207T130000
DTSTAMP:20260425T125142
CREATED:20240822T194825Z
LAST-MODIFIED:20240822T194848Z
UID:10000740-1802001600-1802005200@www.a2blue.org
SUMMARY:Donuts After Church
DESCRIPTION:Join us immediately after church for donuts and coffee from Washtenaw Dairy.
URL:https://www.a2blue.org/event/donuts-after-church-2-3/2027-02-07/
LOCATION:St. Clare/Temple Beth Emeth Social Hall\, 2309 Packard Street\, Ann Arbor\, MI\, 48104\, United States
CATEGORIES:connection
END:VEVENT
BEGIN:VEVENT
DTSTART;TZID=America/New_York:20270207T200000
DTEND;TZID=America/New_York:20270207T203000
DTSTAMP:20260425T125142
CREATED:20230929T164931Z
LAST-MODIFIED:20230929T164931Z
UID:10001395-1802030400-1802032200@www.a2blue.org
SUMMARY:Sunday Evening Prayer Group
DESCRIPTION:Join via Zoom for a half hour of readings\, music\, and shared silence. Email nancyogilvie@gmail.com for the Zoom link.
URL:https://www.a2blue.org/event/sunday-evening-prayer-group/2027-02-07/
LOCATION:Virtual Zoom Meeting
CATEGORIES:Zoom
END:VEVENT
BEGIN:VEVENT
DTSTART;TZID=America/New_York:20270211T180000
DTEND;TZID=America/New_York:20270211T200000
DTSTAMP:20260425T125142
CREATED:20230713T150111Z
LAST-MODIFIED:20230812T144128Z
UID:10000959-1802368800-1802376000@www.a2blue.org
SUMMARY:Blue Ocean Church board meeting
DESCRIPTION:The church board meets monthly.
URL:https://www.a2blue.org/event/blue-ocean-church-board-meeting/2027-02-11/
LOCATION:MI
CATEGORIES:board meeting
END:VEVENT
BEGIN:VEVENT
DTSTART;TZID=America/New_York:20270214T110000
DTEND;TZID=America/New_York:20270214T121500
DTSTAMP:20260425T125142
CREATED:20231109T151623Z
LAST-MODIFIED:20231109T151626Z
UID:10000205-1802602800-1802607300@www.a2blue.org
SUMMARY:Sunday Hybrid Service
DESCRIPTION:We hold in-person/Zoom hybrid services every Sunday at 11am ET. We meet in the social hall of St. Clare’s Episcopal Church/Temple Beth Emeth. More information can be found on our Sunday Services page. If this is your first time visiting us in person\, detailed directions for getting here are available on our Where & When page.
URL:https://www.a2blue.org/event/sunday-hybrid-service-4/2027-02-14/
LOCATION:St. Clare/Temple Beth Emeth Social Hall\, 2309 Packard Street\, Ann Arbor\, MI\, 48104\, United States
CATEGORIES:services
END:VEVENT
BEGIN:VEVENT
DTSTART;TZID=America/New_York:20270214T120000
DTEND;TZID=America/New_York:20270214T130000
DTSTAMP:20260425T125142
CREATED:20240822T194825Z
LAST-MODIFIED:20240822T194848Z
UID:10002292-1802606400-1802610000@www.a2blue.org
SUMMARY:Donuts After Church
DESCRIPTION:Join us immediately after church for donuts and coffee from Washtenaw Dairy.
URL:https://www.a2blue.org/event/donuts-after-church-2-3/2027-02-14/
LOCATION:St. Clare/Temple Beth Emeth Social Hall\, 2309 Packard Street\, Ann Arbor\, MI\, 48104\, United States
CATEGORIES:connection
END:VEVENT
BEGIN:VEVENT
DTSTART;TZID=America/New_York:20270214T200000
DTEND;TZID=America/New_York:20270214T203000
DTSTAMP:20260425T125142
CREATED:20230929T164931Z
LAST-MODIFIED:20230929T164931Z
UID:10001396-1802635200-1802637000@www.a2blue.org
SUMMARY:Sunday Evening Prayer Group
DESCRIPTION:Join via Zoom for a half hour of readings\, music\, and shared silence. Email nancyogilvie@gmail.com for the Zoom link.
URL:https://www.a2blue.org/event/sunday-evening-prayer-group/2027-02-14/
LOCATION:Virtual Zoom Meeting
CATEGORIES:Zoom
END:VEVENT
BEGIN:VEVENT
DTSTART;TZID=America/New_York:20270221T110000
DTEND;TZID=America/New_York:20270221T121500
DTSTAMP:20260425T125142
CREATED:20231109T151623Z
LAST-MODIFIED:20231109T151626Z
UID:10000206-1803207600-1803212100@www.a2blue.org
SUMMARY:Sunday Hybrid Service
DESCRIPTION:We hold in-person/Zoom hybrid services every Sunday at 11am ET. We meet in the social hall of St. Clare’s Episcopal Church/Temple Beth Emeth. More information can be found on our Sunday Services page. If this is your first time visiting us in person\, detailed directions for getting here are available on our Where & When page.
URL:https://www.a2blue.org/event/sunday-hybrid-service-4/2027-02-21/
LOCATION:St. Clare/Temple Beth Emeth Social Hall\, 2309 Packard Street\, Ann Arbor\, MI\, 48104\, United States
CATEGORIES:services
END:VEVENT
BEGIN:VEVENT
DTSTART;TZID=America/New_York:20270221T120000
DTEND;TZID=America/New_York:20270221T130000
DTSTAMP:20260425T125142
CREATED:20240822T194825Z
LAST-MODIFIED:20240822T194848Z
UID:10000741-1803211200-1803214800@www.a2blue.org
SUMMARY:Donuts After Church
DESCRIPTION:Join us immediately after church for donuts and coffee from Washtenaw Dairy.
URL:https://www.a2blue.org/event/donuts-after-church-2-3/2027-02-21/
LOCATION:St. Clare/Temple Beth Emeth Social Hall\, 2309 Packard Street\, Ann Arbor\, MI\, 48104\, United States
CATEGORIES:connection
END:VEVENT
BEGIN:VEVENT
DTSTART;TZID=America/New_York:20270221T150000
DTEND;TZID=America/New_York:20270221T183000
DTSTAMP:20260425T125142
CREATED:20250516T202947Z
LAST-MODIFIED:20250516T202947Z
UID:10002598-1803222000-1803234600@www.a2blue.org
SUMMARY:Sunday Dinner at the Hope Center
DESCRIPTION:Join our team from 3-6:30 pm as we prepare and serve a warm meal to people in the community in need of extra food. Let Tim Davis know if you’re interested in volunteering. He can be reached at chaplaintimdavis@gmail.com. \n  \n 
URL:https://www.a2blue.org/event/sunday-dinner-at-the-hope-center-2/2027-02-21/
LOCATION:Hope Center\, Ypsilanti\, 518 Harriet Street\, Ypsilanti\, MI\, 48197
CATEGORIES:outreach
ORGANIZER;CN="Tim Davis":MAILTO:chaplaintimdavis@gmail.com
END:VEVENT
BEGIN:VEVENT
DTSTART;TZID=America/New_York:20270221T200000
DTEND;TZID=America/New_York:20270221T203000
DTSTAMP:20260425T125142
CREATED:20230929T164931Z
LAST-MODIFIED:20230929T164931Z
UID:10001397-1803240000-1803241800@www.a2blue.org
SUMMARY:Sunday Evening Prayer Group
DESCRIPTION:Join via Zoom for a half hour of readings\, music\, and shared silence. Email nancyogilvie@gmail.com for the Zoom link.
URL:https://www.a2blue.org/event/sunday-evening-prayer-group/2027-02-21/
LOCATION:Virtual Zoom Meeting
CATEGORIES:Zoom
END:VEVENT
BEGIN:VEVENT
DTSTART;TZID=America/New_York:20270228T110000
DTEND;TZID=America/New_York:20270228T121500
DTSTAMP:20260425T125142
CREATED:20231109T151623Z
LAST-MODIFIED:20231109T151626Z
UID:10000207-1803812400-1803816900@www.a2blue.org
SUMMARY:Sunday Hybrid Service
DESCRIPTION:We hold in-person/Zoom hybrid services every Sunday at 11am ET. We meet in the social hall of St. Clare’s Episcopal Church/Temple Beth Emeth. More information can be found on our Sunday Services page. If this is your first time visiting us in person\, detailed directions for getting here are available on our Where & When page.
URL:https://www.a2blue.org/event/sunday-hybrid-service-4/2027-02-28/
LOCATION:St. Clare/Temple Beth Emeth Social Hall\, 2309 Packard Street\, Ann Arbor\, MI\, 48104\, United States
CATEGORIES:services
END:VEVENT
BEGIN:VEVENT
DTSTART;TZID=America/New_York:20270228T120000
DTEND;TZID=America/New_York:20270228T130000
DTSTAMP:20260425T125142
CREATED:20240822T194825Z
LAST-MODIFIED:20240822T194848Z
UID:10002293-1803816000-1803819600@www.a2blue.org
SUMMARY:Donuts After Church
DESCRIPTION:Join us immediately after church for donuts and coffee from Washtenaw Dairy.
URL:https://www.a2blue.org/event/donuts-after-church-2-3/2027-02-28/
LOCATION:St. Clare/Temple Beth Emeth Social Hall\, 2309 Packard Street\, Ann Arbor\, MI\, 48104\, United States
CATEGORIES:connection
END:VEVENT
BEGIN:VEVENT
DTSTART;TZID=America/New_York:20270228T200000
DTEND;TZID=America/New_York:20270228T203000
DTSTAMP:20260425T125142
CREATED:20230929T164931Z
LAST-MODIFIED:20230929T164931Z
UID:10001398-1803844800-1803846600@www.a2blue.org
SUMMARY:Sunday Evening Prayer Group
DESCRIPTION:Join via Zoom for a half hour of readings\, music\, and shared silence. Email nancyogilvie@gmail.com for the Zoom link.
URL:https://www.a2blue.org/event/sunday-evening-prayer-group/2027-02-28/
LOCATION:Virtual Zoom Meeting
CATEGORIES:Zoom
END:VEVENT
BEGIN:VEVENT
DTSTART;TZID=America/New_York:20270307T110000
DTEND;TZID=America/New_York:20270307T121500
DTSTAMP:20260425T125142
CREATED:20231109T151623Z
LAST-MODIFIED:20231109T151626Z
UID:10000208-1804417200-1804421700@www.a2blue.org
SUMMARY:Sunday Hybrid Service
DESCRIPTION:We hold in-person/Zoom hybrid services every Sunday at 11am ET. We meet in the social hall of St. Clare’s Episcopal Church/Temple Beth Emeth. More information can be found on our Sunday Services page. If this is your first time visiting us in person\, detailed directions for getting here are available on our Where & When page.
URL:https://www.a2blue.org/event/sunday-hybrid-service-4/2027-03-07/
LOCATION:St. Clare/Temple Beth Emeth Social Hall\, 2309 Packard Street\, Ann Arbor\, MI\, 48104\, United States
CATEGORIES:services
END:VEVENT
BEGIN:VEVENT
DTSTART;TZID=America/New_York:20270307T120000
DTEND;TZID=America/New_York:20270307T130000
DTSTAMP:20260425T125142
CREATED:20240822T194825Z
LAST-MODIFIED:20240822T194848Z
UID:10000742-1804420800-1804424400@www.a2blue.org
SUMMARY:Donuts After Church
DESCRIPTION:Join us immediately after church for donuts and coffee from Washtenaw Dairy.
URL:https://www.a2blue.org/event/donuts-after-church-2-3/2027-03-07/
LOCATION:St. Clare/Temple Beth Emeth Social Hall\, 2309 Packard Street\, Ann Arbor\, MI\, 48104\, United States
CATEGORIES:connection
END:VEVENT
BEGIN:VEVENT
DTSTART;TZID=America/New_York:20270307T200000
DTEND;TZID=America/New_York:20270307T203000
DTSTAMP:20260425T125142
CREATED:20230929T164931Z
LAST-MODIFIED:20230929T164931Z
UID:10001399-1804449600-1804451400@www.a2blue.org
SUMMARY:Sunday Evening Prayer Group
DESCRIPTION:Join via Zoom for a half hour of readings\, music\, and shared silence. Email nancyogilvie@gmail.com for the Zoom link.
URL:https://www.a2blue.org/event/sunday-evening-prayer-group/2027-03-07/
LOCATION:Virtual Zoom Meeting
CATEGORIES:Zoom
END:VEVENT
BEGIN:VEVENT
DTSTART;TZID=America/New_York:20270311T180000
DTEND;TZID=America/New_York:20270311T200000
DTSTAMP:20260425T125142
CREATED:20230713T150111Z
LAST-MODIFIED:20230812T144128Z
UID:10000960-1804788000-1804795200@www.a2blue.org
SUMMARY:Blue Ocean Church board meeting
DESCRIPTION:The church board meets monthly.
URL:https://www.a2blue.org/event/blue-ocean-church-board-meeting/2027-03-11/
LOCATION:MI
CATEGORIES:board meeting
END:VEVENT
END:VCALENDAR