BEGIN:VCALENDAR
VERSION:2.0
PRODID:-//Blue Ocean Church Ann Arbor - ECPv6.15.20//NONSGML v1.0//EN
CALSCALE:GREGORIAN
METHOD:PUBLISH
X-WR-CALNAME:Blue Ocean Church Ann Arbor
X-ORIGINAL-URL:https://www.a2blue.org
X-WR-CALDESC:Events for Blue Ocean Church Ann Arbor
REFRESH-INTERVAL;VALUE=DURATION:PT1H
X-Robots-Tag:noindex
X-PUBLISHED-TTL:PT1H
BEGIN:VTIMEZONE
TZID:America/New_York
BEGIN:DAYLIGHT
TZOFFSETFROM:-0500
TZOFFSETTO:-0400
TZNAME:EDT
DTSTART:20240310T070000
END:DAYLIGHT
BEGIN:STANDARD
TZOFFSETFROM:-0400
TZOFFSETTO:-0500
TZNAME:EST
DTSTART:20241103T060000
END:STANDARD
BEGIN:DAYLIGHT
TZOFFSETFROM:-0500
TZOFFSETTO:-0400
TZNAME:EDT
DTSTART:20250309T070000
END:DAYLIGHT
BEGIN:STANDARD
TZOFFSETFROM:-0400
TZOFFSETTO:-0500
TZNAME:EST
DTSTART:20251102T060000
END:STANDARD
BEGIN:DAYLIGHT
TZOFFSETFROM:-0500
TZOFFSETTO:-0400
TZNAME:EDT
DTSTART:20260308T070000
END:DAYLIGHT
BEGIN:STANDARD
TZOFFSETFROM:-0400
TZOFFSETTO:-0500
TZNAME:EST
DTSTART:20261101T060000
END:STANDARD
END:VTIMEZONE
BEGIN:VEVENT
DTSTART;TZID=America/New_York:20250420T153000
DTEND;TZID=America/New_York:20250420T183000
DTSTAMP:20260425T235921
CREATED:20230515T151714Z
LAST-MODIFIED:20230901T184650Z
UID:10000608-1745163000-1745173800@www.a2blue.org
SUMMARY:Sunday Dinner at the Hope Center
DESCRIPTION:On the third Sunday of every month\, Blue Ocean volunteers\, led by Nancy Broadway\, meet at the Hope Center in Ypsilanti to serve a hot meal. Volunteers are needed! Dinner is from 4–5 pm\, and volunteers should arrive at 3:30 pm and expect to stay until about 6:30 pm. Please join us as your schedule permits. For further information or to be put on the contact list\, email the office.
URL:https://www.a2blue.org/event/sunday-dinner-at-the-hope-center/2025-04-20/
LOCATION:Hope Center\, Ypsilanti\, 518 Harriet Street\, Ypsilanti\, MI\, 48197
CATEGORIES:outreach
ORGANIZER;CN="Nancy Broadway":MAILTO:office@a2blue.org
END:VEVENT
BEGIN:VEVENT
DTSTART;TZID=America/New_York:20250420T120000
DTEND;TZID=America/New_York:20250420T130000
DTSTAMP:20260425T235921
CREATED:20240822T194825Z
LAST-MODIFIED:20240822T194848Z
UID:10000693-1745150400-1745154000@www.a2blue.org
SUMMARY:Donuts After Church
DESCRIPTION:Join us immediately after church for donuts and coffee from Washtenaw Dairy.
URL:https://www.a2blue.org/event/donuts-after-church-2-3/2025-04-20/
LOCATION:St. Clare/Temple Beth Emeth Social Hall\, 2309 Packard Street\, Ann Arbor\, MI\, 48104\, United States
CATEGORIES:connection
END:VEVENT
BEGIN:VEVENT
DTSTART;TZID=America/New_York:20250420T110000
DTEND;TZID=America/New_York:20250420T121500
DTSTAMP:20260425T235921
CREATED:20250208T213720Z
LAST-MODIFIED:20250208T213721Z
UID:10000110-1745146800-1745151300@www.a2blue.org
SUMMARY:Easter Sunday Hybrid Service
DESCRIPTION:We hold in-person/Zoom hybrid services every Sunday at 11am ET. We meet in the social hall of St. Clare’s Episcopal Church/Temple Beth Emeth. More information can be found on our Sunday Services page. If this is your first time visiting us in person\, detailed directions for getting here are available on our Where & When page. \nOur Easter Sunday Service will have baptisms as part of the service. If you are interested in being baptized\, please speak with a staff member. \nThere will be an Easter Egg Hunt immediately after the service for kids 5th grade and younger.
URL:https://www.a2blue.org/event/sunday-hybrid-service-4-8/
LOCATION:St. Clare/Temple Beth Emeth Social Hall\, 2309 Packard Street\, Ann Arbor\, MI\, 48104\, United States
CATEGORIES:services
END:VEVENT
BEGIN:VEVENT
DTSTART;TZID=America/New_York:20250419T190000
DTEND;TZID=America/New_York:20250419T210000
DTSTAMP:20260425T235921
CREATED:20250208T213143Z
LAST-MODIFIED:20250208T213143Z
UID:10002507-1745089200-1745096400@www.a2blue.org
SUMMARY:Film Club
DESCRIPTION:The Blue Ocean Film Club\, led by Dave Nelson and Tim Vaduva\, will be watching a film together at 7pm at Dave & Jenn Nelson’s house (in a neighborhood near the church). This month’s movie is TBD. Reply to the Weekly Updates email for more information.
URL:https://www.a2blue.org/event/film-club-5/
LOCATION:Dave & Jenn Nelson’s
CATEGORIES:connection
END:VEVENT
BEGIN:VEVENT
DTSTART;TZID=America/New_York:20250419T130000
DTEND;TZID=America/New_York:20250419T140000
DTSTAMP:20260425T235921
CREATED:20250321T185608Z
LAST-MODIFIED:20250321T185608Z
UID:10002543-1745067600-1745071200@www.a2blue.org
SUMMARY:Good Friday Service with St. Clare's (in-person/live-streamed)
DESCRIPTION:We will join St. Clare’s Episcopal for our Good Friday service for a Taizé service inside the St. Clare sanctuary; it will be also live-streamed via Zoom. What’s Taizé\, you ask? You can listen to a sample of a Taizé service here. Taizé is mostly a singing/chanting service\, and the worship director at St. Clare’s\, John\, will lead from piano and there will be a short reflection led by Rev. Anne and Emily. The idea of Taizé is it has repetitive phrases so it’s easy to sing along with\, even if you’re newer to it. The service will be live streamed here: https://saintclareschurch.org/worship. 
URL:https://www.a2blue.org/event/good-friday-service-with-st-clares-in-person-live-streamed/
LOCATION:St. Clare/Temple Beth Emeth Sanctuary\, 2309 Packard St\, Ann Arbor\, MI\, 48104\, United States
CATEGORIES:services,Zoom
END:VEVENT
BEGIN:VEVENT
DTSTART;TZID=America/New_York:20250418T130000
DTEND;TZID=America/New_York:20250418T140000
DTSTAMP:20260425T235921
CREATED:20250208T212556Z
LAST-MODIFIED:20250208T212640Z
UID:10002506-1744981200-1744984800@www.a2blue.org
SUMMARY:Good Friday Taize Service
DESCRIPTION:We‘re invited to join St. Clare’s Episcopal for a Taize Good Friday service at 1pm EDT in their sanctuary; it will be live streamed here: https://saintclareschurch.org/worship. 
URL:https://www.a2blue.org/event/good-friday-taize-service-in-person-or-on-zoom/
LOCATION:St. Clare/Temple Beth Emeth Sanctuary\, 2309 Packard St\, Ann Arbor\, MI\, 48104\, United States
CATEGORIES:services
END:VEVENT
BEGIN:VEVENT
DTSTART;TZID=America/New_York:20250415T190000
DTEND;TZID=America/New_York:20250415T210000
DTSTAMP:20260425T235921
CREATED:20250228T220239Z
LAST-MODIFIED:20250401T203039Z
UID:10002528-1744743600-1744750800@www.a2blue.org
SUMMARY:Zoom Bible Study
DESCRIPTION:Online Bible study on Tuesday at 7pm\, focusing on the gospels as translated by Dr. Sarah Ruden. If you’re interested please contact Magda Zarin at  magda.pecsenye@gmail.com
URL:https://www.a2blue.org/event/zoom-bible-study/2025-04-15/
LOCATION:Zoom
CATEGORIES:Bible study,Zoom
END:VEVENT
BEGIN:VEVENT
DTSTART;TZID=America/New_York:20250413T200000
DTEND;TZID=America/New_York:20250413T203000
DTSTAMP:20260425T235921
CREATED:20230929T164931Z
LAST-MODIFIED:20230929T164931Z
UID:10001300-1744574400-1744576200@www.a2blue.org
SUMMARY:Sunday Evening Prayer Group
DESCRIPTION:Join via Zoom for a half hour of readings\, music\, and shared silence. Email nancyogilvie@gmail.com for the Zoom link.
URL:https://www.a2blue.org/event/sunday-evening-prayer-group/2025-04-13/
LOCATION:Virtual Zoom Meeting
CATEGORIES:Zoom
END:VEVENT
BEGIN:VEVENT
DTSTART;TZID=America/New_York:20250413T120000
DTEND;TZID=America/New_York:20250413T140000
DTSTAMP:20260425T235921
CREATED:20250321T184816Z
LAST-MODIFIED:20250321T184816Z
UID:10002542-1744545600-1744552800@www.a2blue.org
SUMMARY:Exploring Everything Happens for a Reason by Kate Bowler (Part 2)
DESCRIPTION:Are you searching for a deeper understanding of faith\, suffering\, and hope? Join us for a two-part after-church discussion on Kate Bowler’s powerful book\, Everything Happens for a Reason (And Other Lies I’ve Loved). Our second session will focus on finding meaning in the midst of uncertainty. Together\, we’ll discuss how Bowler’s story invites us to embrace a faith that makes room for both doubt and trust\, grief and joy. \nTogether\, we’ll discuss how Bowler’s story invites us to embrace a faith that makes room for both doubt and trust\, grief and joy. If you have questions or would like to participate\, email El for details: el@a2blue.org.
URL:https://www.a2blue.org/event/exploring-everything-happens-for-a-reason-by-kate-bowler-part-2/
LOCATION:Genesis of Ann Arbor\, 2309 Packard St\, Ann Arbor\, MI\, 48104\, United States
CATEGORIES:book group
ORGANIZER;CN="El Costanzo":MAILTO:be.still.costanzo@gmail.com
END:VEVENT
BEGIN:VEVENT
DTSTART;TZID=America/New_York:20250413T120000
DTEND;TZID=America/New_York:20250413T130000
DTSTAMP:20260425T235921
CREATED:20250208T211939Z
LAST-MODIFIED:20250208T211939Z
UID:10002505-1744545600-1744549200@www.a2blue.org
SUMMARY:Translocal Connection (TLC)
DESCRIPTION:The TLC small group will meet immediately after church via Zoom from for connection and guided discussion. All are welcome.
URL:https://www.a2blue.org/event/translocal-connection-tlc-4/
LOCATION:Zoom
CATEGORIES:connection,Zoom
END:VEVENT
BEGIN:VEVENT
DTSTART;TZID=America/New_York:20250413T120000
DTEND;TZID=America/New_York:20250413T130000
DTSTAMP:20260425T235921
CREATED:20240822T194825Z
LAST-MODIFIED:20240822T194848Z
UID:10002244-1744545600-1744549200@www.a2blue.org
SUMMARY:Donuts After Church
DESCRIPTION:Join us immediately after church for donuts and coffee from Washtenaw Dairy.
URL:https://www.a2blue.org/event/donuts-after-church-2-3/2025-04-13/
LOCATION:St. Clare/Temple Beth Emeth Social Hall\, 2309 Packard Street\, Ann Arbor\, MI\, 48104\, United States
CATEGORIES:connection
END:VEVENT
BEGIN:VEVENT
DTSTART;TZID=America/New_York:20250413T110000
DTEND;TZID=America/New_York:20250413T121500
DTSTAMP:20260425T235921
CREATED:20231109T151623Z
LAST-MODIFIED:20231109T151626Z
UID:10000109-1744542000-1744546500@www.a2blue.org
SUMMARY:Sunday Hybrid Service
DESCRIPTION:We hold in-person/Zoom hybrid services every Sunday at 11am ET. We meet in the social hall of St. Clare’s Episcopal Church/Temple Beth Emeth. More information can be found on our Sunday Services page. If this is your first time visiting us in person\, detailed directions for getting here are available on our Where & When page.
URL:https://www.a2blue.org/event/sunday-hybrid-service-4/2025-04-13/
LOCATION:St. Clare/Temple Beth Emeth Social Hall\, 2309 Packard Street\, Ann Arbor\, MI\, 48104\, United States
CATEGORIES:services
END:VEVENT
BEGIN:VEVENT
DTSTART;TZID=America/New_York:20250410T180000
DTEND;TZID=America/New_York:20250410T200000
DTSTAMP:20260425T235921
CREATED:20230713T150111Z
LAST-MODIFIED:20230812T144128Z
UID:10000937-1744308000-1744315200@www.a2blue.org
SUMMARY:Blue Ocean Church board meeting
DESCRIPTION:The church board meets monthly.
URL:https://www.a2blue.org/event/blue-ocean-church-board-meeting/2025-04-10/
LOCATION:MI
CATEGORIES:board meeting
END:VEVENT
BEGIN:VEVENT
DTSTART;TZID=America/New_York:20250408T190000
DTEND;TZID=America/New_York:20250408T210000
DTSTAMP:20260425T235921
CREATED:20250228T220239Z
LAST-MODIFIED:20250401T203039Z
UID:10002527-1744138800-1744146000@www.a2blue.org
SUMMARY:Zoom Bible Study
DESCRIPTION:Online Bible study on Tuesday at 7pm\, focusing on the gospels as translated by Dr. Sarah Ruden. If you’re interested please contact Magda Zarin at  magda.pecsenye@gmail.com
URL:https://www.a2blue.org/event/zoom-bible-study/2025-04-08/
LOCATION:Zoom
CATEGORIES:Bible study,Zoom
END:VEVENT
BEGIN:VEVENT
DTSTART;TZID=America/New_York:20250408T190000
DTEND;TZID=America/New_York:20250408T200000
DTSTAMP:20260425T235921
CREATED:20250316T011945Z
LAST-MODIFIED:20250316T011945Z
UID:10002537-1744138800-1744142400@www.a2blue.org
SUMMARY:Living in a Time of Information Overload
DESCRIPTION:Join us for a one-hour online session as Blue Ocean Zoomie\, David Wild\, who is a professor of informatics and computing at Indiana University\, gives a short (20 minute) overview of some thoughts about living in a time of information overload and manipulated media\, followed by a Q&A session. Feel free to bring questions about how to sort through information to get at what’s true\, about AI\, and anything else related as we share tools for navigating our times. Let Emily know if you’d like to attend (emily@a2blue.org).
URL:https://www.a2blue.org/event/living-in-a-time-of-information-overload/
LOCATION:Zoom
CATEGORIES:classes,Zoom
END:VEVENT
BEGIN:VEVENT
DTSTART;TZID=America/New_York:20250406T200000
DTEND;TZID=America/New_York:20250406T203000
DTSTAMP:20260425T235921
CREATED:20230929T164931Z
LAST-MODIFIED:20230929T164931Z
UID:10001299-1743969600-1743971400@www.a2blue.org
SUMMARY:Sunday Evening Prayer Group
DESCRIPTION:Join via Zoom for a half hour of readings\, music\, and shared silence. Email nancyogilvie@gmail.com for the Zoom link.
URL:https://www.a2blue.org/event/sunday-evening-prayer-group/2025-04-06/
LOCATION:Virtual Zoom Meeting
CATEGORIES:Zoom
END:VEVENT
BEGIN:VEVENT
DTSTART;TZID=America/New_York:20250406T120000
DTEND;TZID=America/New_York:20250406T140000
DTSTAMP:20260425T235921
CREATED:20250321T184153Z
LAST-MODIFIED:20250321T184153Z
UID:10002541-1743940800-1743948000@www.a2blue.org
SUMMARY:Exploring Everything Happens for a Reason by Kate Bowler (Part 1)
DESCRIPTION:Are you searching for a deeper understanding of faith\, suffering\, and hope? Join us for a two-part after-church discussion on Kate Bowler’s powerful book\, Everything Happens for a Reason (And Other Lies I’ve Loved). In our first session\, we’ll explore Bowler’s personal journey through illness and the ways it challenges the idea of a predictable\, fair faith. How do we reconcile hardship with a loving God? What does scripture really say about suffering and success? \nTogether\, we’ll discuss how Bowler’s story invites us to embrace a faith that makes room for both doubt and trust\, grief and joy. If you have questions or would like to participate\, email El for details: el@a2blue.org.
URL:https://www.a2blue.org/event/exploring-everything-happens-for-a-reason-by-kate-bowler-part-1/
LOCATION:Genesis of Ann Arbor\, 2309 Packard St\, Ann Arbor\, MI\, 48104\, United States
CATEGORIES:book group
ORGANIZER;CN="El Costanzo":MAILTO:be.still.costanzo@gmail.com
END:VEVENT
BEGIN:VEVENT
DTSTART;TZID=America/New_York:20250406T120000
DTEND;TZID=America/New_York:20250406T130000
DTSTAMP:20260425T235921
CREATED:20240822T194825Z
LAST-MODIFIED:20240822T194848Z
UID:10000692-1743940800-1743944400@www.a2blue.org
SUMMARY:Donuts After Church
DESCRIPTION:Join us immediately after church for donuts and coffee from Washtenaw Dairy.
URL:https://www.a2blue.org/event/donuts-after-church-2-3/2025-04-06/
LOCATION:St. Clare/Temple Beth Emeth Social Hall\, 2309 Packard Street\, Ann Arbor\, MI\, 48104\, United States
CATEGORIES:connection
END:VEVENT
BEGIN:VEVENT
DTSTART;TZID=America/New_York:20250406T110000
DTEND;TZID=America/New_York:20250406T121500
DTSTAMP:20260425T235921
CREATED:20231109T151623Z
LAST-MODIFIED:20231109T151626Z
UID:10000108-1743937200-1743941700@www.a2blue.org
SUMMARY:Sunday Hybrid Service
DESCRIPTION:We hold in-person/Zoom hybrid services every Sunday at 11am ET. We meet in the social hall of St. Clare’s Episcopal Church/Temple Beth Emeth. More information can be found on our Sunday Services page. If this is your first time visiting us in person\, detailed directions for getting here are available on our Where & When page.
URL:https://www.a2blue.org/event/sunday-hybrid-service-4/2025-04-06/
LOCATION:St. Clare/Temple Beth Emeth Social Hall\, 2309 Packard Street\, Ann Arbor\, MI\, 48104\, United States
CATEGORIES:services
END:VEVENT
BEGIN:VEVENT
DTSTART;TZID=America/New_York:20250401T190000
DTEND;TZID=America/New_York:20250401T210000
DTSTAMP:20260425T235921
CREATED:20250228T220239Z
LAST-MODIFIED:20250401T203039Z
UID:10002526-1743534000-1743541200@www.a2blue.org
SUMMARY:Zoom Bible Study
DESCRIPTION:Online Bible study on Tuesday at 7pm\, focusing on the gospels as translated by Dr. Sarah Ruden. If you’re interested please contact Magda Zarin at  magda.pecsenye@gmail.com
URL:https://www.a2blue.org/event/zoom-bible-study/2025-04-01/2/
LOCATION:Zoom
CATEGORIES:Bible study,Zoom
END:VEVENT
BEGIN:VEVENT
DTSTART;TZID=America/New_York:20250401T080000
DTEND;TZID=America/New_York:20250401T170000
DTSTAMP:20260425T235921
CREATED:20250228T220239Z
LAST-MODIFIED:20250401T203039Z
UID:10002545-1743494400-1743526800@www.a2blue.org
SUMMARY:Zoom Bible Study
DESCRIPTION:Online Bible study on Tuesday at 7pm\, focusing on the gospels as translated by Dr. Sarah Ruden. If you’re interested please contact Magda Zarin at  magda.pecsenye@gmail.com
URL:https://www.a2blue.org/event/zoom-bible-study/2025-04-01/1/
LOCATION:Zoom
CATEGORIES:Bible study,Zoom
END:VEVENT
BEGIN:VEVENT
DTSTART;TZID=America/New_York:20250330T200000
DTEND;TZID=America/New_York:20250330T203000
DTSTAMP:20260425T235921
CREATED:20230929T164931Z
LAST-MODIFIED:20230929T164931Z
UID:10001298-1743364800-1743366600@www.a2blue.org
SUMMARY:Sunday Evening Prayer Group
DESCRIPTION:Join via Zoom for a half hour of readings\, music\, and shared silence. Email nancyogilvie@gmail.com for the Zoom link.
URL:https://www.a2blue.org/event/sunday-evening-prayer-group/2025-03-30/
LOCATION:Virtual Zoom Meeting
CATEGORIES:Zoom
END:VEVENT
BEGIN:VEVENT
DTSTART;TZID=America/New_York:20250330T120000
DTEND;TZID=America/New_York:20250330T130000
DTSTAMP:20260425T235921
CREATED:20240822T194825Z
LAST-MODIFIED:20240822T194848Z
UID:10002243-1743336000-1743339600@www.a2blue.org
SUMMARY:Donuts After Church
DESCRIPTION:Join us immediately after church for donuts and coffee from Washtenaw Dairy.
URL:https://www.a2blue.org/event/donuts-after-church-2-3/2025-03-30/
LOCATION:St. Clare/Temple Beth Emeth Social Hall\, 2309 Packard Street\, Ann Arbor\, MI\, 48104\, United States
CATEGORIES:connection
END:VEVENT
BEGIN:VEVENT
DTSTART;TZID=America/New_York:20250330T110000
DTEND;TZID=America/New_York:20250330T121500
DTSTAMP:20260425T235921
CREATED:20231109T151623Z
LAST-MODIFIED:20231109T151626Z
UID:10000107-1743332400-1743336900@www.a2blue.org
SUMMARY:Sunday Hybrid Service
DESCRIPTION:We hold in-person/Zoom hybrid services every Sunday at 11am ET. We meet in the social hall of St. Clare’s Episcopal Church/Temple Beth Emeth. More information can be found on our Sunday Services page. If this is your first time visiting us in person\, detailed directions for getting here are available on our Where & When page.
URL:https://www.a2blue.org/event/sunday-hybrid-service-4/2025-03-30/
LOCATION:St. Clare/Temple Beth Emeth Social Hall\, 2309 Packard Street\, Ann Arbor\, MI\, 48104\, United States
CATEGORIES:services
END:VEVENT
BEGIN:VEVENT
DTSTART;TZID=America/New_York:20250328T183000
DTEND;TZID=America/New_York:20250328T200000
DTSTAMP:20260425T235921
CREATED:20250228T215616Z
LAST-MODIFIED:20250228T215616Z
UID:10002525-1743186600-1743192000@www.a2blue.org
SUMMARY:In-Person Queer Meetup
DESCRIPTION:Our next in-person Queer Meetup will be from 6:30-8pm at the Corner Brewery in Ypsilanti. If you have any questions\, please reach out to El at el@a2blue.org. This gathering is for 18 and up
URL:https://www.a2blue.org/event/in-person-queer-meetup/
LOCATION:Corner Brewery\, 720 Norris Street\, Ypsilanti\, MI\, 48198
CATEGORIES:connection
ORGANIZER;CN="El Costanzo":MAILTO:be.still.costanzo@gmail.com
END:VEVENT
BEGIN:VEVENT
DTSTART;TZID=America/New_York:20250325T190000
DTEND;TZID=America/New_York:20250325T203000
DTSTAMP:20260425T235921
CREATED:20250123T205406Z
LAST-MODIFIED:20250123T205406Z
UID:10002499-1742929200-1742934600@www.a2blue.org
SUMMARY:Reorienting Faith (week 4 of 4)
DESCRIPTION:Join us as we explore topics related to deconstructing and reconstructing faith. This class may be especially helpful for those coming from conservative church backgrounds\, but is open to everyone. Topics explored will include: how to relate to the Bible\, how science and faith are compatible\, how Christians relate to other faith traditions\, what progressive Christians think about hell\, and so on.  The class is four weeks long and is lead by Bruce Umpstead. Sign up/receive the Zoom link by replying to the Weekly Update email.
URL:https://www.a2blue.org/event/reorienting-faith-week-4-of-4/
LOCATION:Zoom
CATEGORIES:classes,Zoom
END:VEVENT
BEGIN:VEVENT
DTSTART;TZID=America/New_York:20250323T200000
DTEND;TZID=America/New_York:20250323T203000
DTSTAMP:20260425T235921
CREATED:20230929T164931Z
LAST-MODIFIED:20230929T164931Z
UID:10001297-1742760000-1742761800@www.a2blue.org
SUMMARY:Sunday Evening Prayer Group
DESCRIPTION:Join via Zoom for a half hour of readings\, music\, and shared silence. Email nancyogilvie@gmail.com for the Zoom link.
URL:https://www.a2blue.org/event/sunday-evening-prayer-group/2025-03-23/
LOCATION:Virtual Zoom Meeting
CATEGORIES:Zoom
END:VEVENT
BEGIN:VEVENT
DTSTART;TZID=America/New_York:20250323T120000
DTEND;TZID=America/New_York:20250323T130000
DTSTAMP:20260425T235921
CREATED:20240822T194825Z
LAST-MODIFIED:20240822T194848Z
UID:10000691-1742731200-1742734800@www.a2blue.org
SUMMARY:Donuts After Church
DESCRIPTION:Join us immediately after church for donuts and coffee from Washtenaw Dairy.
URL:https://www.a2blue.org/event/donuts-after-church-2-3/2025-03-23/
LOCATION:St. Clare/Temple Beth Emeth Social Hall\, 2309 Packard Street\, Ann Arbor\, MI\, 48104\, United States
CATEGORIES:connection
END:VEVENT
BEGIN:VEVENT
DTSTART;TZID=America/New_York:20250323T110000
DTEND;TZID=America/New_York:20250323T121500
DTSTAMP:20260425T235921
CREATED:20231109T151623Z
LAST-MODIFIED:20231109T151626Z
UID:10000106-1742727600-1742732100@www.a2blue.org
SUMMARY:Sunday Hybrid Service
DESCRIPTION:We hold in-person/Zoom hybrid services every Sunday at 11am ET. We meet in the social hall of St. Clare’s Episcopal Church/Temple Beth Emeth. More information can be found on our Sunday Services page. If this is your first time visiting us in person\, detailed directions for getting here are available on our Where & When page.
URL:https://www.a2blue.org/event/sunday-hybrid-service-4/2025-03-23/
LOCATION:St. Clare/Temple Beth Emeth Social Hall\, 2309 Packard Street\, Ann Arbor\, MI\, 48104\, United States
CATEGORIES:services
END:VEVENT
BEGIN:VEVENT
DTSTART;TZID=America/New_York:20250322T190000
DTEND;TZID=America/New_York:20250322T210000
DTSTAMP:20260425T235921
CREATED:20250228T215408Z
LAST-MODIFIED:20250228T215408Z
UID:10002524-1742670000-1742677200@www.a2blue.org
SUMMARY:Film Club
DESCRIPTION:The Blue Ocean Film Club\, led by Dave Nelson and Tim Vaduva\, will be watching a film together at 7pm at Dave & Jenn Nelson’s house (in a neighborhood near the church). This month’s movie is In Bruges (2008). Contact the church to be connected to Dave and Tim if you’re interested in attending.
URL:https://www.a2blue.org/event/film-club-6/
LOCATION:Dave & Jenn Nelson’s
CATEGORIES:connection
END:VEVENT
END:VCALENDAR