BEGIN:VCALENDAR
VERSION:2.0
PRODID:-//Blue Ocean Church Ann Arbor - ECPv6.15.20//NONSGML v1.0//EN
CALSCALE:GREGORIAN
METHOD:PUBLISH
X-WR-CALNAME:Blue Ocean Church Ann Arbor
X-ORIGINAL-URL:https://www.a2blue.org
X-WR-CALDESC:Events for Blue Ocean Church Ann Arbor
REFRESH-INTERVAL;VALUE=DURATION:PT1H
X-Robots-Tag:noindex
X-PUBLISHED-TTL:PT1H
BEGIN:VTIMEZONE
TZID:America/New_York
BEGIN:DAYLIGHT
TZOFFSETFROM:-0500
TZOFFSETTO:-0400
TZNAME:EDT
DTSTART:20240310T070000
END:DAYLIGHT
BEGIN:STANDARD
TZOFFSETFROM:-0400
TZOFFSETTO:-0500
TZNAME:EST
DTSTART:20241103T060000
END:STANDARD
BEGIN:DAYLIGHT
TZOFFSETFROM:-0500
TZOFFSETTO:-0400
TZNAME:EDT
DTSTART:20250309T070000
END:DAYLIGHT
BEGIN:STANDARD
TZOFFSETFROM:-0400
TZOFFSETTO:-0500
TZNAME:EST
DTSTART:20251102T060000
END:STANDARD
BEGIN:DAYLIGHT
TZOFFSETFROM:-0500
TZOFFSETTO:-0400
TZNAME:EDT
DTSTART:20260308T070000
END:DAYLIGHT
BEGIN:STANDARD
TZOFFSETFROM:-0400
TZOFFSETTO:-0500
TZNAME:EST
DTSTART:20261101T060000
END:STANDARD
END:VTIMEZONE
BEGIN:VEVENT
DTSTART;TZID=America/New_York:20250710T180000
DTEND;TZID=America/New_York:20250710T200000
DTSTAMP:20260425T124323
CREATED:20230713T150111Z
LAST-MODIFIED:20230812T144128Z
UID:10000940-1752170400-1752177600@www.a2blue.org
SUMMARY:Blue Ocean Church board meeting
DESCRIPTION:The church board meets monthly.
URL:https://www.a2blue.org/event/blue-ocean-church-board-meeting/2025-07-10/
LOCATION:MI
CATEGORIES:board meeting
END:VEVENT
BEGIN:VEVENT
DTSTART;TZID=America/New_York:20250711T180000
DTEND;TZID=America/New_York:20250711T210000
DTSTAMP:20260425T124323
CREATED:20250702T214237Z
LAST-MODIFIED:20250711T193203Z
UID:10002682-1752256800-1752267600@www.a2blue.org
SUMMARY:CANCELED. Game Night at the Corner
DESCRIPTION:THIS EVENT HAS BEEN CANCELED BY THE VENUE DUE TO UNCERTAIN WEATHER. We’ll reschedule and find a time to get together again soon \nWe’ll host Friday game night at the Corner Brewery from 6-9pm (an hour earlier than in the past).  We’ve reserved space outside. All ages welcome. Bring your favorite games and come connect.
URL:https://www.a2blue.org/event/game-night-at-the-corner-9/
LOCATION:Corner Brewery\, 720 Norris Street\, Ypsilanti\, MI\, 48198
CATEGORIES:connection
ORGANIZER;CN="Molly Morton":MAILTO:molly@a2blue.org
END:VEVENT
BEGIN:VEVENT
DTSTART;TZID=America/New_York:20250713T110000
DTEND;TZID=America/New_York:20250713T121500
DTSTAMP:20260425T124323
CREATED:20231109T151623Z
LAST-MODIFIED:20231109T151626Z
UID:10000122-1752404400-1752408900@www.a2blue.org
SUMMARY:Sunday Hybrid Service
DESCRIPTION:We hold in-person/Zoom hybrid services every Sunday at 11am ET. We meet in the social hall of St. Clare’s Episcopal Church/Temple Beth Emeth. More information can be found on our Sunday Services page. If this is your first time visiting us in person\, detailed directions for getting here are available on our Where & When page.
URL:https://www.a2blue.org/event/sunday-hybrid-service-4/2025-07-13/
LOCATION:St. Clare/Temple Beth Emeth Social Hall\, 2309 Packard Street\, Ann Arbor\, MI\, 48104\, United States
CATEGORIES:services
END:VEVENT
BEGIN:VEVENT
DTSTART;TZID=America/New_York:20250713T120000
DTEND;TZID=America/New_York:20250713T130000
DTSTAMP:20260425T124323
CREATED:20240822T194825Z
LAST-MODIFIED:20240822T194848Z
UID:10000699-1752408000-1752411600@www.a2blue.org
SUMMARY:Donuts After Church
DESCRIPTION:Join us immediately after church for donuts and coffee from Washtenaw Dairy.
URL:https://www.a2blue.org/event/donuts-after-church-2-3/2025-07-13/
LOCATION:St. Clare/Temple Beth Emeth Social Hall\, 2309 Packard Street\, Ann Arbor\, MI\, 48104\, United States
CATEGORIES:connection
END:VEVENT
BEGIN:VEVENT
DTSTART;TZID=America/New_York:20250713T200000
DTEND;TZID=America/New_York:20250713T203000
DTSTAMP:20260425T124323
CREATED:20230929T164931Z
LAST-MODIFIED:20230929T164931Z
UID:10001313-1752436800-1752438600@www.a2blue.org
SUMMARY:Sunday Evening Prayer Group
DESCRIPTION:Join via Zoom for a half hour of readings\, music\, and shared silence. Email nancyogilvie@gmail.com for the Zoom link.
URL:https://www.a2blue.org/event/sunday-evening-prayer-group/2025-07-13/
LOCATION:Virtual Zoom Meeting
CATEGORIES:Zoom
END:VEVENT
END:VCALENDAR