BEGIN:VCALENDAR
VERSION:2.0
PRODID:-//Blue Ocean Church Ann Arbor - ECPv6.15.20//NONSGML v1.0//EN
CALSCALE:GREGORIAN
METHOD:PUBLISH
X-WR-CALNAME:Blue Ocean Church Ann Arbor
X-ORIGINAL-URL:https://www.a2blue.org
X-WR-CALDESC:Events for Blue Ocean Church Ann Arbor
REFRESH-INTERVAL;VALUE=DURATION:PT1H
X-Robots-Tag:noindex
X-PUBLISHED-TTL:PT1H
BEGIN:VTIMEZONE
TZID:America/New_York
BEGIN:DAYLIGHT
TZOFFSETFROM:-0500
TZOFFSETTO:-0400
TZNAME:EDT
DTSTART:20240310T070000
END:DAYLIGHT
BEGIN:STANDARD
TZOFFSETFROM:-0400
TZOFFSETTO:-0500
TZNAME:EST
DTSTART:20241103T060000
END:STANDARD
BEGIN:DAYLIGHT
TZOFFSETFROM:-0500
TZOFFSETTO:-0400
TZNAME:EDT
DTSTART:20250309T070000
END:DAYLIGHT
BEGIN:STANDARD
TZOFFSETFROM:-0400
TZOFFSETTO:-0500
TZNAME:EST
DTSTART:20251102T060000
END:STANDARD
BEGIN:DAYLIGHT
TZOFFSETFROM:-0500
TZOFFSETTO:-0400
TZNAME:EDT
DTSTART:20260308T070000
END:DAYLIGHT
BEGIN:STANDARD
TZOFFSETFROM:-0400
TZOFFSETTO:-0500
TZNAME:EST
DTSTART:20261101T060000
END:STANDARD
END:VTIMEZONE
BEGIN:VEVENT
DTSTART;TZID=America/New_York:20251113T180000
DTEND;TZID=America/New_York:20251113T200000
DTSTAMP:20260425T065226
CREATED:20230713T150111Z
LAST-MODIFIED:20230812T144128Z
UID:10000944-1763056800-1763064000@www.a2blue.org
SUMMARY:Blue Ocean Church board meeting
DESCRIPTION:The church board meets monthly.
URL:https://www.a2blue.org/event/blue-ocean-church-board-meeting/2025-11-13/
LOCATION:MI
CATEGORIES:board meeting
END:VEVENT
BEGIN:VEVENT
DTSTART;TZID=America/New_York:20251116T102000
DTEND;TZID=America/New_York:20251116T110000
DTSTAMP:20260425T065226
CREATED:20251107T171332Z
LAST-MODIFIED:20251107T201248Z
UID:10002722-1763288400-1763290800@www.a2blue.org
SUMMARY:Intro to Praying the Hours
DESCRIPTION:Join Emily and Daniel from 10:20-11am before church for a brief introduction to praying the liturgy of the hours. We invite you to get a copy of either Christmastide: Prayers From Advent Through Epiphany or The Divine Hours: Prayers for Autumn and Wintertime and join us in using this prayer tool during Advent (starts Nov. 30 this year) and ending at Epiphany (Jan. 6). During this intro session we’ll talk about a brief history of the hours\, the purpose of praying this way\, and how to use the prayer book. Questions\, email Emily (emily@a2blue.org) or Daniel (daniel@a2blue.org). \n 
URL:https://www.a2blue.org/event/intro-to-praying-the-hours/
LOCATION:Youth Lounge\, 2309 Packard St\, Ann Arbor\, MI\, 48104\, United States
CATEGORIES:classes
END:VEVENT
BEGIN:VEVENT
DTSTART;TZID=America/New_York:20251116T110000
DTEND;TZID=America/New_York:20251116T120000
DTSTAMP:20260425T065226
CREATED:20251107T171540Z
LAST-MODIFIED:20251107T171540Z
UID:10002723-1763290800-1763294400@www.a2blue.org
SUMMARY:Youth Group Lounge in the Lounge
DESCRIPTION:Youth grades 6-12 are invited to hangout and play games in the youth room after Youth Group from 11am-noon.
URL:https://www.a2blue.org/event/youth-group-lounge-in-the-lounge/
LOCATION:Youth Lounge\, 2309 Packard St\, Ann Arbor\, MI\, 48104\, United States
CATEGORIES:connection,youth
ORGANIZER;CN="Daniel Reaume":MAILTO:daniel@a2blue.org
END:VEVENT
BEGIN:VEVENT
DTSTART;TZID=America/New_York:20251116T110000
DTEND;TZID=America/New_York:20251116T121500
DTSTAMP:20260425T065226
CREATED:20231109T151623Z
LAST-MODIFIED:20231109T151626Z
UID:10000140-1763290800-1763295300@www.a2blue.org
SUMMARY:Sunday Hybrid Service
DESCRIPTION:We hold in-person/Zoom hybrid services every Sunday at 11am ET. We meet in the social hall of St. Clare’s Episcopal Church/Temple Beth Emeth. More information can be found on our Sunday Services page. If this is your first time visiting us in person\, detailed directions for getting here are available on our Where & When page.
URL:https://www.a2blue.org/event/sunday-hybrid-service-4/2025-11-16/
LOCATION:St. Clare/Temple Beth Emeth Social Hall\, 2309 Packard Street\, Ann Arbor\, MI\, 48104\, United States
CATEGORIES:services
END:VEVENT
BEGIN:VEVENT
DTSTART;TZID=America/New_York:20251116T120000
DTEND;TZID=America/New_York:20251116T130000
DTSTAMP:20260425T065226
CREATED:20240822T194825Z
LAST-MODIFIED:20240822T194848Z
UID:10000708-1763294400-1763298000@www.a2blue.org
SUMMARY:Donuts After Church
DESCRIPTION:Join us immediately after church for donuts and coffee from Washtenaw Dairy.
URL:https://www.a2blue.org/event/donuts-after-church-2-3/2025-11-16/
LOCATION:St. Clare/Temple Beth Emeth Social Hall\, 2309 Packard Street\, Ann Arbor\, MI\, 48104\, United States
CATEGORIES:connection
END:VEVENT
BEGIN:VEVENT
DTSTART;TZID=America/New_York:20251116T150000
DTEND;TZID=America/New_York:20251116T183000
DTSTAMP:20260425T065226
CREATED:20250516T202947Z
LAST-MODIFIED:20250516T202947Z
UID:10002583-1763305200-1763317800@www.a2blue.org
SUMMARY:Sunday Dinner at the Hope Center
DESCRIPTION:Join our team from 3-6:30 pm as we prepare and serve a warm meal to people in the community in need of extra food. Let Tim Davis know if you’re interested in volunteering. He can be reached at chaplaintimdavis@gmail.com. \n  \n 
URL:https://www.a2blue.org/event/sunday-dinner-at-the-hope-center-2/2025-11-16/
LOCATION:Hope Center\, Ypsilanti\, 518 Harriet Street\, Ypsilanti\, MI\, 48197
CATEGORIES:outreach
ORGANIZER;CN="Tim Davis":MAILTO:chaplaintimdavis@gmail.com
END:VEVENT
BEGIN:VEVENT
DTSTART;TZID=America/New_York:20251116T200000
DTEND;TZID=America/New_York:20251116T203000
DTSTAMP:20260425T065226
CREATED:20230929T164931Z
LAST-MODIFIED:20230929T164931Z
UID:10001331-1763323200-1763325000@www.a2blue.org
SUMMARY:Sunday Evening Prayer Group
DESCRIPTION:Join via Zoom for a half hour of readings\, music\, and shared silence. Email nancyogilvie@gmail.com for the Zoom link.
URL:https://www.a2blue.org/event/sunday-evening-prayer-group/2025-11-16/
LOCATION:Virtual Zoom Meeting
CATEGORIES:Zoom
END:VEVENT
END:VCALENDAR