BEGIN:VCALENDAR
VERSION:2.0
PRODID:-//Blue Ocean Church Ann Arbor - ECPv6.15.20//NONSGML v1.0//EN
CALSCALE:GREGORIAN
METHOD:PUBLISH
X-ORIGINAL-URL:https://www.a2blue.org
X-WR-CALDESC:Events for Blue Ocean Church Ann Arbor
REFRESH-INTERVAL;VALUE=DURATION:PT1H
X-Robots-Tag:noindex
X-PUBLISHED-TTL:PT1H
BEGIN:VTIMEZONE
TZID:America/New_York
BEGIN:DAYLIGHT
TZOFFSETFROM:-0500
TZOFFSETTO:-0400
TZNAME:EDT
DTSTART:20240310T070000
END:DAYLIGHT
BEGIN:STANDARD
TZOFFSETFROM:-0400
TZOFFSETTO:-0500
TZNAME:EST
DTSTART:20241103T060000
END:STANDARD
BEGIN:DAYLIGHT
TZOFFSETFROM:-0500
TZOFFSETTO:-0400
TZNAME:EDT
DTSTART:20250309T070000
END:DAYLIGHT
BEGIN:STANDARD
TZOFFSETFROM:-0400
TZOFFSETTO:-0500
TZNAME:EST
DTSTART:20251102T060000
END:STANDARD
BEGIN:DAYLIGHT
TZOFFSETFROM:-0500
TZOFFSETTO:-0400
TZNAME:EDT
DTSTART:20260308T070000
END:DAYLIGHT
BEGIN:STANDARD
TZOFFSETFROM:-0400
TZOFFSETTO:-0500
TZNAME:EST
DTSTART:20261101T060000
END:STANDARD
END:VTIMEZONE
BEGIN:VEVENT
DTSTART;VALUE=DATE:20251224
DTEND;VALUE=DATE:20251225
DTSTAMP:20260425T065348
CREATED:20251017T203151Z
LAST-MODIFIED:20251017T203151Z
UID:10002721-1766534400-1766620799@www.a2blue.org
SUMMARY:Christmas Eve Morning Brunch for Delonis Center
DESCRIPTION:St. Clare’s invited us to join them for the morning of Christmas Eve\, preparing and serving brunch to people staying at the Delonis Center in Ann Arbor. You’ll also be able to sign up to decorate\, cook\, or drop off a dessert. Lunch will be served at noon.
URL:https://www.a2blue.org/event/christmas-eve-morning-brunch-for-delonis-center-3/
LOCATION:St. Clare/Temple Beth Emeth Social Hall\, 2309 Packard Street\, Ann Arbor\, MI\, 48104\, United States
CATEGORIES:outreach
END:VEVENT
BEGIN:VEVENT
DTSTART;TZID=America/New_York:20251224T180000
DTEND;TZID=America/New_York:20251224T190000
DTSTAMP:20260425T065348
CREATED:20251017T200146Z
LAST-MODIFIED:20251017T200201Z
UID:10002720-1766599200-1766602800@www.a2blue.org
SUMMARY:Christmas Eve Service
DESCRIPTION:Join us for our traditional Christmas Eve service–with Christmas carols\, the Christmas story\, and Silent Night by candlelight.
URL:https://www.a2blue.org/event/christmas-eve/
LOCATION:St. Clare/Temple Beth Emeth Social Hall\, 2309 Packard Street\, Ann Arbor\, MI\, 48104\, United States
CATEGORIES:services
END:VEVENT
BEGIN:VEVENT
DTSTART;TZID=America/New_York:20251228T110000
DTEND;TZID=America/New_York:20251228T121500
DTSTAMP:20260425T065348
CREATED:20251017T200526Z
LAST-MODIFIED:20251017T200633Z
UID:10000146-1766919600-1766924100@www.a2blue.org
SUMMARY:Kid-Friendly Service
DESCRIPTION:We’ll have a kid-friendly sermon about St. Nicholas where the little ones help out with the teaching\, the prayers\, and communion. We try to keep this service slightly shorter\, and then we’ll have donuts after. You’re invited to wear comfy clothes to church that morning–PJ pants\, sweatsuits\, and so on\, for a cozy post-Christmas service \nWe hold in-person/Zoom hybrid services every Sunday at 11am ET. We meet in the social hall of St. Clare’s Episcopal Church/Temple Beth Emeth. More information can be found on our Sunday Services page. If this is your first time visiting us in person\, detailed directions for getting here are available on our Where & When page.
URL:https://www.a2blue.org/event/sunday-hybrid-service-4-14/
LOCATION:St. Clare/Temple Beth Emeth Social Hall\, 2309 Packard Street\, Ann Arbor\, MI\, 48104\, United States
CATEGORIES:services
END:VEVENT
BEGIN:VEVENT
DTSTART;TZID=America/New_York:20251228T120000
DTEND;TZID=America/New_York:20251228T130000
DTSTAMP:20260425T065348
CREATED:20240822T194825Z
LAST-MODIFIED:20240822T194848Z
UID:10000711-1766923200-1766926800@www.a2blue.org
SUMMARY:Donuts After Church
DESCRIPTION:Join us immediately after church for donuts and coffee from Washtenaw Dairy.
URL:https://www.a2blue.org/event/donuts-after-church-2-3/2025-12-28/
LOCATION:St. Clare/Temple Beth Emeth Social Hall\, 2309 Packard Street\, Ann Arbor\, MI\, 48104\, United States
CATEGORIES:connection
END:VEVENT
BEGIN:VEVENT
DTSTART;TZID=America/New_York:20251228T200000
DTEND;TZID=America/New_York:20251228T203000
DTSTAMP:20260425T065348
CREATED:20230929T164931Z
LAST-MODIFIED:20230929T164931Z
UID:10001337-1766952000-1766953800@www.a2blue.org
SUMMARY:Sunday Evening Prayer Group
DESCRIPTION:Join via Zoom for a half hour of readings\, music\, and shared silence. Email nancyogilvie@gmail.com for the Zoom link.
URL:https://www.a2blue.org/event/sunday-evening-prayer-group/2025-12-28/
LOCATION:Virtual Zoom Meeting
CATEGORIES:Zoom
END:VEVENT
END:VCALENDAR