BEGIN:VCALENDAR
VERSION:2.0
PRODID:-//Blue Ocean Church Ann Arbor - ECPv6.15.20//NONSGML v1.0//EN
CALSCALE:GREGORIAN
METHOD:PUBLISH
X-WR-CALNAME:Blue Ocean Church Ann Arbor
X-ORIGINAL-URL:https://www.a2blue.org
X-WR-CALDESC:Events for Blue Ocean Church Ann Arbor
REFRESH-INTERVAL;VALUE=DURATION:PT1H
X-Robots-Tag:noindex
X-PUBLISHED-TTL:PT1H
BEGIN:VTIMEZONE
TZID:America/New_York
BEGIN:DAYLIGHT
TZOFFSETFROM:-0500
TZOFFSETTO:-0400
TZNAME:EDT
DTSTART:20250309T070000
END:DAYLIGHT
BEGIN:STANDARD
TZOFFSETFROM:-0400
TZOFFSETTO:-0500
TZNAME:EST
DTSTART:20251102T060000
END:STANDARD
BEGIN:DAYLIGHT
TZOFFSETFROM:-0500
TZOFFSETTO:-0400
TZNAME:EDT
DTSTART:20260308T070000
END:DAYLIGHT
BEGIN:STANDARD
TZOFFSETFROM:-0400
TZOFFSETTO:-0500
TZNAME:EST
DTSTART:20261101T060000
END:STANDARD
BEGIN:DAYLIGHT
TZOFFSETFROM:-0500
TZOFFSETTO:-0400
TZNAME:EDT
DTSTART:20270314T070000
END:DAYLIGHT
BEGIN:STANDARD
TZOFFSETFROM:-0400
TZOFFSETTO:-0500
TZNAME:EST
DTSTART:20271107T060000
END:STANDARD
END:VTIMEZONE
BEGIN:VEVENT
DTSTART;TZID=America/New_York:20260127T183000
DTEND;TZID=America/New_York:20260127T193000
DTSTAMP:20260425T002042
CREATED:20251107T173550Z
LAST-MODIFIED:20251107T173550Z
UID:10002732-1769538600-1769542200@www.a2blue.org
SUMMARY:Bonhoeffer Podcast Class (Part 3 of 4)
DESCRIPTION:We’ll have our third Bonhoeffer class\, held via Zoom\, from 6:30-7:30 Eastern Time. We’re using the four-part podcast From Sin to Saint: Dietrich Bonhoeffer\, to frame our discussions. We’ll talk about one podcast each week of the class. The podcast is available via Apple Podcasts\, Spotify\, YouTube\, and other sources. If you’d like to be part of the class\, let Pastor Daniel know at daniel@a2blue.org.
URL:https://www.a2blue.org/event/bonhoeffer-podcast-class-part-3-of-4/
LOCATION:Zoom
CATEGORIES:classes,Zoom
ORGANIZER;CN="Daniel Reaume":MAILTO:daniel@a2blue.org
END:VEVENT
BEGIN:VEVENT
DTSTART;TZID=America/New_York:20260131T150000
DTEND;TZID=America/New_York:20260131T190000
DTSTAMP:20260425T002042
CREATED:20251205T224050Z
LAST-MODIFIED:20260114T023622Z
UID:10002733-1769871600-1769886000@www.a2blue.org
SUMMARY:Euchre Tournament Fundraiser
DESCRIPTION:Euchre Tournament fundraiser for MIRC (Michigan Immigrant Rights Center). We’ll provide childcare and invite you to bring a dish to share for a potluck.You can find more info and sign up here.
URL:https://www.a2blue.org/event/euchre-tournament-fundraiser/
LOCATION:St. Clare/Temple Beth Emeth Social Hall\, 2309 Packard Street\, Ann Arbor\, MI\, 48104\, United States
CATEGORIES:fundraiser
END:VEVENT
BEGIN:VEVENT
DTSTART;TZID=America/New_York:20260201T110000
DTEND;TZID=America/New_York:20260201T121500
DTSTAMP:20260425T002042
CREATED:20260123T210308Z
LAST-MODIFIED:20260123T210334Z
UID:10000151-1769943600-1769948100@www.a2blue.org
SUMMARY:Ordination Sunday Hybrid Service
DESCRIPTION:Join us for a special Sunday as we ordain Pastor Daniel and Pastor Molly. Bishop Tim Wolfe will be with us to share the gospel and be part of the ordination ceremony. You won’t want to miss it. \nWe hold in-person/Zoom hybrid services every Sunday at 11am ET. We meet in the social hall of St. Clare’s Episcopal Church/Temple Beth Emeth. More information can be found on our Sunday Services page. If this is your first time visiting us in person\, detailed directions for getting here are available on our Where & When page.
URL:https://www.a2blue.org/event/sunday-hybrid-service-4-15/
LOCATION:St. Clare/Temple Beth Emeth Social Hall\, 2309 Packard Street\, Ann Arbor\, MI\, 48104\, United States
CATEGORIES:services
END:VEVENT
BEGIN:VEVENT
DTSTART;TZID=America/New_York:20260201T120000
DTEND;TZID=America/New_York:20260201T130000
DTSTAMP:20260425T002042
CREATED:20240822T194825Z
LAST-MODIFIED:20240822T194848Z
UID:10002265-1769947200-1769950800@www.a2blue.org
SUMMARY:Donuts After Church
DESCRIPTION:Join us immediately after church for donuts and coffee from Washtenaw Dairy.
URL:https://www.a2blue.org/event/donuts-after-church-2-3/2026-02-01/
LOCATION:St. Clare/Temple Beth Emeth Social Hall\, 2309 Packard Street\, Ann Arbor\, MI\, 48104\, United States
CATEGORIES:connection
END:VEVENT
BEGIN:VEVENT
DTSTART;TZID=America/New_York:20260201T200000
DTEND;TZID=America/New_York:20260201T203000
DTSTAMP:20260425T002042
CREATED:20230929T164931Z
LAST-MODIFIED:20230929T164931Z
UID:10001342-1769976000-1769977800@www.a2blue.org
SUMMARY:Sunday Evening Prayer Group
DESCRIPTION:Join via Zoom for a half hour of readings\, music\, and shared silence. Email nancyogilvie@gmail.com for the Zoom link.
URL:https://www.a2blue.org/event/sunday-evening-prayer-group/2026-02-01/
LOCATION:Virtual Zoom Meeting
CATEGORIES:Zoom
END:VEVENT
END:VCALENDAR