BEGIN:VCALENDAR
VERSION:2.0
PRODID:-//Blue Ocean Church Ann Arbor - ECPv6.15.20//NONSGML v1.0//EN
CALSCALE:GREGORIAN
METHOD:PUBLISH
X-ORIGINAL-URL:https://www.a2blue.org
X-WR-CALDESC:Events for Blue Ocean Church Ann Arbor
REFRESH-INTERVAL;VALUE=DURATION:PT1H
X-Robots-Tag:noindex
X-PUBLISHED-TTL:PT1H
BEGIN:VTIMEZONE
TZID:America/New_York
BEGIN:DAYLIGHT
TZOFFSETFROM:-0500
TZOFFSETTO:-0400
TZNAME:EDT
DTSTART:20230312T070000
END:DAYLIGHT
BEGIN:STANDARD
TZOFFSETFROM:-0400
TZOFFSETTO:-0500
TZNAME:EST
DTSTART:20231105T060000
END:STANDARD
BEGIN:DAYLIGHT
TZOFFSETFROM:-0500
TZOFFSETTO:-0400
TZNAME:EDT
DTSTART:20240310T070000
END:DAYLIGHT
BEGIN:STANDARD
TZOFFSETFROM:-0400
TZOFFSETTO:-0500
TZNAME:EST
DTSTART:20241103T060000
END:STANDARD
BEGIN:DAYLIGHT
TZOFFSETFROM:-0500
TZOFFSETTO:-0400
TZNAME:EDT
DTSTART:20250309T070000
END:DAYLIGHT
BEGIN:STANDARD
TZOFFSETFROM:-0400
TZOFFSETTO:-0500
TZNAME:EST
DTSTART:20251102T060000
END:STANDARD
BEGIN:DAYLIGHT
TZOFFSETFROM:-0500
TZOFFSETTO:-0400
TZNAME:EDT
DTSTART:20260308T070000
END:DAYLIGHT
BEGIN:STANDARD
TZOFFSETFROM:-0400
TZOFFSETTO:-0500
TZNAME:EST
DTSTART:20261101T060000
END:STANDARD
END:VTIMEZONE
BEGIN:VEVENT
DTSTART;TZID=America/New_York:20250325T190000
DTEND;TZID=America/New_York:20250325T203000
DTSTAMP:20260425T063710
CREATED:20250123T205406Z
LAST-MODIFIED:20250123T205406Z
UID:10002499-1742929200-1742934600@www.a2blue.org
SUMMARY:Reorienting Faith (week 4 of 4)
DESCRIPTION:Join us as we explore topics related to deconstructing and reconstructing faith. This class may be especially helpful for those coming from conservative church backgrounds\, but is open to everyone. Topics explored will include: how to relate to the Bible\, how science and faith are compatible\, how Christians relate to other faith traditions\, what progressive Christians think about hell\, and so on.  The class is four weeks long and is lead by Bruce Umpstead. Sign up/receive the Zoom link by replying to the Weekly Update email.
URL:https://www.a2blue.org/event/reorienting-faith-week-4-of-4/
LOCATION:Zoom
CATEGORIES:classes,Zoom
END:VEVENT
BEGIN:VEVENT
DTSTART;TZID=America/New_York:20250318T190000
DTEND;TZID=America/New_York:20250318T203000
DTSTAMP:20260425T063710
CREATED:20250123T205211Z
LAST-MODIFIED:20250123T205240Z
UID:10002498-1742324400-1742329800@www.a2blue.org
SUMMARY:Reorienting Faith Zoom Class (week 3 of 4)
DESCRIPTION:Join us as we explore topics related to deconstructing and reconstructing faith. This class may be especially helpful for those coming from conservative church backgrounds\, but is open to everyone. Topics explored will include: how to relate to the Bible\, how science and faith are compatible\, how Christians relate to other faith traditions\, what progressive Christians think about hell\, and so on.  The class is four weeks long and is lead by Bruce Umpstead. Sign up/receive the Zoom link by replying to the Weekly Update email.
URL:https://www.a2blue.org/event/reorienting-faith-zoom-class-week-3-of-4/
LOCATION:Zoom
CATEGORIES:classes,Zoom
END:VEVENT
BEGIN:VEVENT
DTSTART;TZID=America/New_York:20250311T193000
DTEND;TZID=America/New_York:20250311T200000
DTSTAMP:20260425T063710
CREATED:20250123T205007Z
LAST-MODIFIED:20250123T205037Z
UID:10002497-1741721400-1741723200@www.a2blue.org
SUMMARY:Reorienting Faith Zoom Class (week 2 of 4)
DESCRIPTION:Join us as we explore topics related to deconstructing and reconstructing faith. This class may be especially helpful for those coming from conservative church backgrounds\, but is open to everyone. Topics explored will include: how to relate to the Bible\, how science and faith are compatible\, how Christians relate to other faith traditions\, what progressive Christians think about hell\, and so on.  The class is four weeks long and is lead by Bruce Umpstead. Sign up/receive the Zoom link by replying to the Weekly Update email.
URL:https://www.a2blue.org/event/reorienting-faith-zoom-class-part-2-of-4/
LOCATION:Zoom
CATEGORIES:classes,Zoom
END:VEVENT
BEGIN:VEVENT
DTSTART;TZID=America/New_York:20250304T190000
DTEND;TZID=America/New_York:20250304T203000
DTSTAMP:20260425T063710
CREATED:20250123T204522Z
LAST-MODIFIED:20250123T204752Z
UID:10002496-1741114800-1741120200@www.a2blue.org
SUMMARY:Reorienting Faith Zoom Class (week 1 of 4)
DESCRIPTION:Join us as we explore topics related to deconstructing and reconstructing faith. This class may be especially helpful for those coming from conservative church backgrounds\, but is open to everyone. Topics explored will include: how to relate to the Bible\, how science and faith are compatible\, how Christians relate to other faith traditions\, what progressive Christians think about hell\, and so on.  The class is four weeks long and is lead by Bruce Umpstead. Sign up/receive the Zoom link by replying to the Weekly Update email.
URL:https://www.a2blue.org/event/reorienting-faith-week-1-of-4/
LOCATION:Zoom
CATEGORIES:classes
END:VEVENT
BEGIN:VEVENT
DTSTART;TZID=America/New_York:20241210T190000
DTEND;TZID=America/New_York:20241210T203000
DTSTAMP:20260425T063710
CREATED:20241210T033409Z
LAST-MODIFIED:20241210T033409Z
UID:10002489-1733857200-1733862600@www.a2blue.org
SUMMARY:Bible As Literature Class\, Week 5
DESCRIPTION:Join us on Zoom as we explore the Bible as literature–uncovering its poetic beauty\, deep themes\, and historical context. Whether you’re new to the Bible or seeking fresh insights\, this class welcomes all. The class is four weeks long\, led by Bruce Umpstead.
URL:https://www.a2blue.org/event/bible-as-literature-class-week-5/
LOCATION:Zoom
CATEGORIES:classes,Zoom
END:VEVENT
BEGIN:VEVENT
DTSTART;TZID=America/New_York:20241203T190000
DTEND;TZID=America/New_York:20241203T203000
DTSTAMP:20260425T063710
CREATED:20241115T223242Z
LAST-MODIFIED:20241115T223242Z
UID:10002484-1733252400-1733257800@www.a2blue.org
SUMMARY:Bible as Literature Class Week 4
DESCRIPTION:Join us on Zoom as we explore the Bible as literature–uncovering its poetic beauty\, deep themes\, and historical context. Whether you’re new to the Bible or seeking fresh insights\, this class welcomes all. The class is four weeks long\, led by Bruce Umpstead.
URL:https://www.a2blue.org/event/bible-as-literature-class-week-4/
LOCATION:Zoom
CATEGORIES:classes,Zoom
END:VEVENT
BEGIN:VEVENT
DTSTART;TZID=America/New_York:20241126T190000
DTEND;TZID=America/New_York:20241126T203000
DTSTAMP:20260425T063710
CREATED:20241115T222422Z
LAST-MODIFIED:20241115T222509Z
UID:10002482-1732647600-1732653000@www.a2blue.org
SUMMARY:Bible as Literature Class Week 3
DESCRIPTION:Join us on Zoom as we explore the Bible as literature–uncovering its poetic beauty\, deep themes\, and historical context. Whether you’re new to the Bible or seeking fresh insights\, this class welcomes all. The class is four weeks long\, led by Bruce Umpstead.
URL:https://www.a2blue.org/event/bible-as-literature-class-week-3/
LOCATION:Zoom
CATEGORIES:classes,Zoom
END:VEVENT
BEGIN:VEVENT
DTSTART;TZID=America/New_York:20241119T190000
DTEND;TZID=America/New_York:20241119T203000
DTSTAMP:20260425T063710
CREATED:20241115T220900Z
LAST-MODIFIED:20241115T221746Z
UID:10002480-1732042800-1732048200@www.a2blue.org
SUMMARY:Bible As Literature Class Week 2
DESCRIPTION: Join us on Zoom as we explore the Bible as literature–uncovering its poetic beauty\, deep themes\, and historical context. Whether you’re new to the Bible or seeking fresh insights\, this class welcomes all. The class is four weeks long\, led by Bruce Umpstead.  Reply to the weekly email to receive a Zoom link.
URL:https://www.a2blue.org/event/bible-as-literature-class-week-2/
LOCATION:Zoom
CATEGORIES:classes,Zoom
END:VEVENT
END:VCALENDAR