BEGIN:VCALENDAR
VERSION:2.0
PRODID:-//Blue Ocean Church Ann Arbor - ECPv6.15.20//NONSGML v1.0//EN
CALSCALE:GREGORIAN
METHOD:PUBLISH
X-WR-CALNAME:Blue Ocean Church Ann Arbor
X-ORIGINAL-URL:https://www.a2blue.org
X-WR-CALDESC:Events for Blue Ocean Church Ann Arbor
REFRESH-INTERVAL;VALUE=DURATION:PT1H
X-Robots-Tag:noindex
X-PUBLISHED-TTL:PT1H
BEGIN:VTIMEZONE
TZID:America/New_York
BEGIN:DAYLIGHT
TZOFFSETFROM:-0500
TZOFFSETTO:-0400
TZNAME:EDT
DTSTART:20220313T070000
END:DAYLIGHT
BEGIN:STANDARD
TZOFFSETFROM:-0400
TZOFFSETTO:-0500
TZNAME:EST
DTSTART:20221106T060000
END:STANDARD
BEGIN:DAYLIGHT
TZOFFSETFROM:-0500
TZOFFSETTO:-0400
TZNAME:EDT
DTSTART:20230312T070000
END:DAYLIGHT
BEGIN:STANDARD
TZOFFSETFROM:-0400
TZOFFSETTO:-0500
TZNAME:EST
DTSTART:20231105T060000
END:STANDARD
BEGIN:DAYLIGHT
TZOFFSETFROM:-0500
TZOFFSETTO:-0400
TZNAME:EDT
DTSTART:20240310T070000
END:DAYLIGHT
BEGIN:STANDARD
TZOFFSETFROM:-0400
TZOFFSETTO:-0500
TZNAME:EST
DTSTART:20241103T060000
END:STANDARD
END:VTIMEZONE
BEGIN:VEVENT
DTSTART;TZID=America/New_York:20231104T180000
DTEND;TZID=America/New_York:20231104T200000
DTSTAMP:20260425T070105
CREATED:20231013T175905Z
LAST-MODIFIED:20231027T162819Z
UID:10001482-1699120800-1699128000@www.a2blue.org
SUMMARY:Youth Group Goes Bowling
DESCRIPTION:The youth group will be going bowling at Station 300 in Saline. Check your email for more details or email Caroline Kittle for details!
URL:https://www.a2blue.org/event/youth-group-goes-bowling/
LOCATION:Station 300\, 830 Woodland Drive E\, Saline\, 48176\, United States
CATEGORIES:youth
END:VEVENT
BEGIN:VEVENT
DTSTART;TZID=America/New_York:20231007T110000
DTEND;TZID=America/New_York:20231007T140000
DTSTAMP:20260425T070105
CREATED:20230829T162230Z
LAST-MODIFIED:20230929T170135Z
UID:10001192-1696676400-1696687200@www.a2blue.org
SUMMARY:Hiking at Hudson Mills/Trip to Dexter Cider Mill
DESCRIPTION:Part of our Zoomie Weekend! Everyone is invited to join the Zoomies who are in town for an afternoon hike in Hudson Mills Metropark.  \nWe’ll follow up with a trip to the Dexter Cider Mill around 12:30 or 1:00 pm. \nLunch will be provided.
URL:https://www.a2blue.org/event/hiking-at-hudson-mills-dexter-cider-mill-outing/
LOCATION:hudson mills metropark\, 8801 N. Territorial Rd.\, Dexter\, MI\, 48130\, United States
END:VEVENT
BEGIN:VEVENT
DTSTART;VALUE=DATE:20231006
DTEND;VALUE=DATE:20231009
DTSTAMP:20260425T070105
CREATED:20230713T143520Z
LAST-MODIFIED:20230713T143520Z
UID:10000786-1696550400-1696809599@www.a2blue.org
SUMMARY:Zoomie Weekend
DESCRIPTION:Mark your calendars\, the Zoomies are comin’ to town! Activities TBD.
URL:https://www.a2blue.org/event/zoomie-weekend/
CATEGORIES:connection
END:VEVENT
BEGIN:VEVENT
DTSTART;TZID=America/New_York:20230924T120000
DTEND;TZID=America/New_York:20230924T150000
DTSTAMP:20260425T070105
CREATED:20230908T155732Z
LAST-MODIFIED:20230908T155732Z
UID:10001215-1695556800-1695567600@www.a2blue.org
SUMMARY:Earth Care Group: Critter House at Leslie Science Center
DESCRIPTION:The Earth Care Group is going to meet at the Leslie Science Center at the Critter House on Sunday\, September 24\, from 12-3pm. We’ll head over right after church service with a packed lunch or pick some up along the way. Observe frogs\, turtles\, snakes\, and more as they hop\, crawl\, and slither in their homes! It’s a great way to get up close and personal with some fascinating animals\, all while developing an appreciation for the incredible diversity of the natural world. There is a suggested donation of $5/person or $20/family.
URL:https://www.a2blue.org/event/earth-care-group-critter-house-at-leslie-science-center/
LOCATION:Leslie Science Center\, 1831 Traver Rd\, Ann Arbor\, MI\, 48105\, United States
END:VEVENT
BEGIN:VEVENT
DTSTART;TZID=America/New_York:20230714T180000
DTEND;TZID=America/New_York:20230714T200000
DTSTAMP:20260425T070105
CREATED:20230713T144238Z
LAST-MODIFIED:20230713T220232Z
UID:10000791-1689357600-1689364800@www.a2blue.org
SUMMARY:Dinners for Seven: Kittles
DESCRIPTION:We have several hosts for Dinners for Seven. If you’re looking to meet some other people in the church\, this is a good way to do that in a casual setting over a meal. Check out the back table at the church for signups. Those signup sheets have more info about dates/times/locations\, which vary. For more information about our Dinners for Seven connection events\, contact the church office.
URL:https://www.a2blue.org/event/dinners-for-seven-kittles/
CATEGORIES:connection
END:VEVENT
END:VCALENDAR