BEGIN:VCALENDAR
VERSION:2.0
PRODID:-//Blue Ocean Church Ann Arbor - ECPv6.15.20//NONSGML v1.0//EN
CALSCALE:GREGORIAN
METHOD:PUBLISH
X-WR-CALNAME:Blue Ocean Church Ann Arbor
X-ORIGINAL-URL:https://www.a2blue.org
X-WR-CALDESC:Events for Blue Ocean Church Ann Arbor
REFRESH-INTERVAL;VALUE=DURATION:PT1H
X-Robots-Tag:noindex
X-PUBLISHED-TTL:PT1H
BEGIN:VTIMEZONE
TZID:America/New_York
BEGIN:DAYLIGHT
TZOFFSETFROM:-0500
TZOFFSETTO:-0400
TZNAME:EDT
DTSTART:20240310T070000
END:DAYLIGHT
BEGIN:STANDARD
TZOFFSETFROM:-0400
TZOFFSETTO:-0500
TZNAME:EST
DTSTART:20241103T060000
END:STANDARD
BEGIN:DAYLIGHT
TZOFFSETFROM:-0500
TZOFFSETTO:-0400
TZNAME:EDT
DTSTART:20250309T070000
END:DAYLIGHT
BEGIN:STANDARD
TZOFFSETFROM:-0400
TZOFFSETTO:-0500
TZNAME:EST
DTSTART:20251102T060000
END:STANDARD
BEGIN:DAYLIGHT
TZOFFSETFROM:-0500
TZOFFSETTO:-0400
TZNAME:EDT
DTSTART:20260308T070000
END:DAYLIGHT
BEGIN:STANDARD
TZOFFSETFROM:-0400
TZOFFSETTO:-0500
TZNAME:EST
DTSTART:20261101T060000
END:STANDARD
BEGIN:DAYLIGHT
TZOFFSETFROM:-0500
TZOFFSETTO:-0400
TZNAME:EDT
DTSTART:20270314T070000
END:DAYLIGHT
BEGIN:STANDARD
TZOFFSETFROM:-0400
TZOFFSETTO:-0500
TZNAME:EST
DTSTART:20271107T060000
END:STANDARD
END:VTIMEZONE
BEGIN:VEVENT
DTSTART;TZID=America/New_York:20260419T120000
DTEND;TZID=America/New_York:20260419T160000
DTSTAMP:20260425T000429
CREATED:20260306T191624Z
LAST-MODIFIED:20260410T182555Z
UID:10002765-1776600000-1776614400@www.a2blue.org
SUMMARY:Youth Group Bowling Event
DESCRIPTION:The Youth Group will be going bowling together after church at Station 300 in Saline. For more info\, contact Pastor Daniel at daniel@a2blue.org
URL:https://www.a2blue.org/event/youth-group-bowling-event/
LOCATION:Station 300\, 830 Woodland Drive E\, Saline\, 48176\, United States
CATEGORIES:connection,youth
ORGANIZER;CN="Daniel Reaume":MAILTO:daniel@a2blue.org
END:VEVENT
BEGIN:VEVENT
DTSTART;TZID=America/New_York:20260208T103000
DTEND;TZID=America/New_York:20260208T110000
DTSTAMP:20260425T000429
CREATED:20260123T210746Z
LAST-MODIFIED:20260123T210828Z
UID:10002749-1770546600-1770548400@www.a2blue.org
SUMMARY:Youth Parents Meeting
DESCRIPTION:Youth Group parents are invited to join Pastor Daniel and Dave Nelson in the Youth Room from 10:30-11:00 for a brief parent meeting
URL:https://www.a2blue.org/event/youth-parents-meeting/
LOCATION:Youth Lounge\, 2309 Packard St\, Ann Arbor\, MI\, 48104\, United States
CATEGORIES:families,youth
ORGANIZER;CN="Daniel Reaume":MAILTO:daniel@a2blue.org
END:VEVENT
BEGIN:VEVENT
DTSTART;TZID=America/New_York:20260127T183000
DTEND;TZID=America/New_York:20260127T193000
DTSTAMP:20260425T000429
CREATED:20251107T173550Z
LAST-MODIFIED:20251107T173550Z
UID:10002732-1769538600-1769542200@www.a2blue.org
SUMMARY:Bonhoeffer Podcast Class (Part 3 of 4)
DESCRIPTION:We’ll have our third Bonhoeffer class\, held via Zoom\, from 6:30-7:30 Eastern Time. We’re using the four-part podcast From Sin to Saint: Dietrich Bonhoeffer\, to frame our discussions. We’ll talk about one podcast each week of the class. The podcast is available via Apple Podcasts\, Spotify\, YouTube\, and other sources. If you’d like to be part of the class\, let Pastor Daniel know at daniel@a2blue.org.
URL:https://www.a2blue.org/event/bonhoeffer-podcast-class-part-3-of-4/
LOCATION:Zoom
CATEGORIES:classes,Zoom
ORGANIZER;CN="Daniel Reaume":MAILTO:daniel@a2blue.org
END:VEVENT
BEGIN:VEVENT
DTSTART;TZID=America/New_York:20260123T080000
DTEND;TZID=America/New_York:20260123T170000
DTSTAMP:20260425T000429
CREATED:20260123T210536Z
LAST-MODIFIED:20260123T210536Z
UID:10002748-1769155200-1769187600@www.a2blue.org
SUMMARY:Bonhoeffer Podcast Class (part 4 of 4)
DESCRIPTION:We’ll have our fourth Bonhoeffer class\, held via Zoom\, from 6:30-7:30 Eastern Time. We’re using the four-part podcast From Sin to Saint: Dietrich Bonhoeffer\, to frame our discussions. We’ll talk about one podcast each week of the class. The podcast is available via Apple Podcasts\, Spotify\, YouTube\, and other sources. You can find more info and sign up here.
URL:https://www.a2blue.org/event/bonhoeffer-podcast-class-part-4-of-4/
LOCATION:Zoom
CATEGORIES:classes,Zoom
ORGANIZER;CN="Daniel Reaume":MAILTO:daniel@a2blue.org
END:VEVENT
BEGIN:VEVENT
DTSTART;TZID=America/New_York:20260120T183000
DTEND;TZID=America/New_York:20260120T193000
DTSTAMP:20260425T000429
CREATED:20251107T173416Z
LAST-MODIFIED:20251107T173416Z
UID:10002731-1768933800-1768937400@www.a2blue.org
SUMMARY:Bonhoeffer Podcast Class (Part 2 of 4)
DESCRIPTION:We’ll have our second Bonhoeffer class\, held via Zoom\, from 6:30-7:30 Eastern Time. We’re using the four-part podcast From Sin to Saint: Dietrich Bonhoeffer\, to frame our discussions. We’ll talk about one podcast each week of the class. The podcast is available via Apple Podcasts\, Spotify\, YouTube\, and other sources. If you’d like to be part of the class\, let Pastor Daniel know at daniel@a2blue.org.
URL:https://www.a2blue.org/event/bonhoeffer-podcast-class-part-2-of-4/
LOCATION:Zoom
CATEGORIES:classes,Zoom
ORGANIZER;CN="Daniel Reaume":MAILTO:daniel@a2blue.org
END:VEVENT
BEGIN:VEVENT
DTSTART;TZID=America/New_York:20260113T183000
DTEND;TZID=America/New_York:20260113T193000
DTSTAMP:20260425T000429
CREATED:20251107T173214Z
LAST-MODIFIED:20251107T173214Z
UID:10002730-1768329000-1768332600@www.a2blue.org
SUMMARY:Bonhoeffer Podcast Class (Part 1 of 4)
DESCRIPTION:We’ll have our first Bonhoeffer class\, held via Zoom\, from 6:30-7:30 Eastern Time. We’re using the four-part podcast From Sin to Saint: Dietrich Bonhoeffer\, to frame our discussions. We’ll talk about one podcast each week of the class. The podcast is available via Apple Podcasts\, Spotify\, YouTube\, and other sources. If you’d like to be part of the class\, let Pastor Daniel know at daniel@a2blue.org
URL:https://www.a2blue.org/event/bonhoeffer-podcast-class-part-1-of-4/
LOCATION:Zoom
CATEGORIES:classes,Zoom
ORGANIZER;CN="Daniel Reaume":MAILTO:daniel@a2blue.org
END:VEVENT
BEGIN:VEVENT
DTSTART;TZID=America/New_York:20260106T190000
DTEND;TZID=America/New_York:20260106T193000
DTSTAMP:20260425T000429
CREATED:20251107T172748Z
LAST-MODIFIED:20251107T172748Z
UID:10002728-1767726000-1767727800@www.a2blue.org
SUMMARY:Divine Hours Group Wrap-Up
DESCRIPTION:We’ll have a check-in via Zoom from 7-7:40pm for those of us praying the Divine Hours from Advent through Epiphany. We’ll chat about how it went for us\, if there were times of the day that were easier to find time to pray\, if it was helpful\, and so on.
URL:https://www.a2blue.org/event/divine-hours-group-wrap-up/
LOCATION:Zoom
CATEGORIES:classes,Zoom
END:VEVENT
BEGIN:VEVENT
DTSTART;TZID=America/New_York:20251216T190000
DTEND;TZID=America/New_York:20251216T193000
DTSTAMP:20260425T000429
CREATED:20251107T172053Z
LAST-MODIFIED:20251107T172053Z
UID:10002725-1765911600-1765913400@www.a2blue.org
SUMMARY:Divine Hours Group Zoom Check-In
DESCRIPTION:We’ll have a brief check-in via Zoom from 7-7:30pm for those of us praying the Divine Hours through Advent.
URL:https://www.a2blue.org/event/divine-hours-group-zoom-check-in/
LOCATION:Zoom
CATEGORIES:classes,Zoom
END:VEVENT
BEGIN:VEVENT
DTSTART;TZID=America/New_York:20251118T190000
DTEND;TZID=America/New_York:20251118T194000
DTSTAMP:20260425T000429
CREATED:20251107T171759Z
LAST-MODIFIED:20251107T171759Z
UID:10002724-1763492400-1763494800@www.a2blue.org
SUMMARY:Intro to Praying the Hours (Zoomie Edition)
DESCRIPTION:Join Emily and Daniel online via Zoom from 7:00-7:40pm for a brief introduction to praying the liturgy of the hours. We invite you to get a copy of either Christmastide: Prayers From Advent Through Epiphany or The Divine Hours: Prayers for Autumn and Wintertime and join us in using this prayer tool during Advent (starts Nov. 30 this year) and ending at Epiphany (Jan. 6). During this intro session we’ll talk about a brief history of the hours\, the purpose of praying this way\, and how to use the prayer book. If you’d like a Zoom link to this session\, email Emily (emily@a2blue.org) or Daniel (daniel@a2blue.org). \n 
URL:https://www.a2blue.org/event/intro-to-praying-the-hours-zoomie-edition/
LOCATION:Zoom
CATEGORIES:classes,Zoom
END:VEVENT
BEGIN:VEVENT
DTSTART;TZID=America/New_York:20251116T110000
DTEND;TZID=America/New_York:20251116T120000
DTSTAMP:20260425T000429
CREATED:20251107T171540Z
LAST-MODIFIED:20251107T171540Z
UID:10002723-1763290800-1763294400@www.a2blue.org
SUMMARY:Youth Group Lounge in the Lounge
DESCRIPTION:Youth grades 6-12 are invited to hangout and play games in the youth room after Youth Group from 11am-noon.
URL:https://www.a2blue.org/event/youth-group-lounge-in-the-lounge/
LOCATION:Youth Lounge\, 2309 Packard St\, Ann Arbor\, MI\, 48104\, United States
CATEGORIES:connection,youth
ORGANIZER;CN="Daniel Reaume":MAILTO:daniel@a2blue.org
END:VEVENT
BEGIN:VEVENT
DTSTART;TZID=America/New_York:20251116T102000
DTEND;TZID=America/New_York:20251116T110000
DTSTAMP:20260425T000429
CREATED:20251107T171332Z
LAST-MODIFIED:20251107T201248Z
UID:10002722-1763288400-1763290800@www.a2blue.org
SUMMARY:Intro to Praying the Hours
DESCRIPTION:Join Emily and Daniel from 10:20-11am before church for a brief introduction to praying the liturgy of the hours. We invite you to get a copy of either Christmastide: Prayers From Advent Through Epiphany or The Divine Hours: Prayers for Autumn and Wintertime and join us in using this prayer tool during Advent (starts Nov. 30 this year) and ending at Epiphany (Jan. 6). During this intro session we’ll talk about a brief history of the hours\, the purpose of praying this way\, and how to use the prayer book. Questions\, email Emily (emily@a2blue.org) or Daniel (daniel@a2blue.org). \n 
URL:https://www.a2blue.org/event/intro-to-praying-the-hours/
LOCATION:Youth Lounge\, 2309 Packard St\, Ann Arbor\, MI\, 48104\, United States
CATEGORIES:classes
END:VEVENT
BEGIN:VEVENT
DTSTART;TZID=America/New_York:20251012T120000
DTEND;TZID=America/New_York:20251012T130000
DTSTAMP:20260425T000429
CREATED:20251003T163022Z
LAST-MODIFIED:20251003T163022Z
UID:10002690-1760270400-1760274000@www.a2blue.org
SUMMARY:Connections Fair
DESCRIPTION:Join us right after church when we’ll hold a Connections Fair. Various church ministries will be stationed at tables around the sanctuary where people representing those ministries will be available to answer questions about what they do. Everyone is welcome!
URL:https://www.a2blue.org/event/connections-fair/
LOCATION:St. Clare/Temple Beth Emeth Social Hall\, 2309 Packard Street\, Ann Arbor\, MI\, 48104\, United States
CATEGORIES:connection
ORGANIZER;CN="Daniel Reaume":MAILTO:daniel@a2blue.org
END:VEVENT
BEGIN:VEVENT
DTSTART;TZID=America/New_York:20251010T173000
DTEND;TZID=America/New_York:20251010T210000
DTSTAMP:20260425T000429
CREATED:20251003T162048Z
LAST-MODIFIED:20251003T162048Z
UID:10002688-1760117400-1760130000@www.a2blue.org
SUMMARY:Picnic and Bonfire
DESCRIPTION:We will be having a church-wide picnic and bonfire hosted by the Miners at their new farm in Manchester! They’ll be grilling out some food for everyone\, but if folks can bring a side dish\, snack\, or dessert that would be great. There’s chickens\, geese\, and sheep to visit\, fields and trails through woods to run in\, a wetland to look for frogs or salamanders in\, trees to climb and plenty of places for kids to explore and get dirty. When it gets dark\, there will be a bonfire and s’mores. Festivities start at 5:30pm. You can reach out to Pastor Daniel if you have any questions!
URL:https://www.a2blue.org/event/picnic-and-bonfire/
LOCATION:farm
CATEGORIES:connection
ORGANIZER;CN="Daniel Reaume":MAILTO:daniel@a2blue.org
END:VEVENT
BEGIN:VEVENT
DTSTART;VALUE=DATE:20250607
DTEND;VALUE=DATE:20250608
DTSTAMP:20260425T000429
CREATED:20250516T202312Z
LAST-MODIFIED:20250516T202312Z
UID:10002577-1749254400-1749340799@www.a2blue.org
SUMMARY:Youth Group End of School Party
DESCRIPTION:Join the youth group as they tube down the Cascades at Argo park and picnic together. Time TBD. See Daniel Reaume for details: daniel@a2blue.org.
URL:https://www.a2blue.org/event/youth-group-end-of-school-party/
LOCATION:Argo Park\, 1055 Longshore Dr\, Ann Arbor\, MI\, 48105\, United States
CATEGORIES:connection,youth
ORGANIZER;CN="Daniel Reaume":MAILTO:daniel@a2blue.org
END:VEVENT
END:VCALENDAR