BEGIN:VCALENDAR
VERSION:2.0
PRODID:-//Blue Ocean Church Ann Arbor - ECPv6.15.20//NONSGML v1.0//EN
CALSCALE:GREGORIAN
METHOD:PUBLISH
X-WR-CALNAME:Blue Ocean Church Ann Arbor
X-ORIGINAL-URL:https://www.a2blue.org
X-WR-CALDESC:Events for Blue Ocean Church Ann Arbor
REFRESH-INTERVAL;VALUE=DURATION:PT1H
X-Robots-Tag:noindex
X-PUBLISHED-TTL:PT1H
BEGIN:VTIMEZONE
TZID:America/New_York
BEGIN:DAYLIGHT
TZOFFSETFROM:-0500
TZOFFSETTO:-0400
TZNAME:EDT
DTSTART:20220313T070000
END:DAYLIGHT
BEGIN:STANDARD
TZOFFSETFROM:-0400
TZOFFSETTO:-0500
TZNAME:EST
DTSTART:20221106T060000
END:STANDARD
BEGIN:DAYLIGHT
TZOFFSETFROM:-0500
TZOFFSETTO:-0400
TZNAME:EDT
DTSTART:20230312T070000
END:DAYLIGHT
BEGIN:STANDARD
TZOFFSETFROM:-0400
TZOFFSETTO:-0500
TZNAME:EST
DTSTART:20231105T060000
END:STANDARD
BEGIN:DAYLIGHT
TZOFFSETFROM:-0500
TZOFFSETTO:-0400
TZNAME:EDT
DTSTART:20240310T070000
END:DAYLIGHT
BEGIN:STANDARD
TZOFFSETFROM:-0400
TZOFFSETTO:-0500
TZNAME:EST
DTSTART:20241103T060000
END:STANDARD
BEGIN:DAYLIGHT
TZOFFSETFROM:-0500
TZOFFSETTO:-0400
TZNAME:EDT
DTSTART:20250309T070000
END:DAYLIGHT
BEGIN:STANDARD
TZOFFSETFROM:-0400
TZOFFSETTO:-0500
TZNAME:EST
DTSTART:20251102T060000
END:STANDARD
END:VTIMEZONE
BEGIN:VEVENT
DTSTART;TZID=America/New_York:20240317T120000
DTEND;TZID=America/New_York:20240317T130000
DTSTAMP:20260425T085245
CREATED:20240216T202018Z
LAST-MODIFIED:20240216T202755Z
UID:10001551-1710676800-1710680400@www.a2blue.org
SUMMARY:TLC Group (Translocal Connection) via Zoom
DESCRIPTION:The TLC small group will meet immediately after church via Zoom from noon-1pm for connection and guided discussion. All are welcome. Email the office or Pastor Caroline to get the Zoom link.
URL:https://www.a2blue.org/event/tlc-group-translocal-connection-via-zoom-5-2/
LOCATION:Zoom
END:VEVENT
BEGIN:VEVENT
DTSTART;TZID=America/New_York:20240211T120000
DTEND;TZID=America/New_York:20240211T130000
DTSTAMP:20260425T085245
CREATED:20230717T134206Z
LAST-MODIFIED:20230829T163745Z
UID:10001104-1707652800-1707656400@www.a2blue.org
SUMMARY:TLC Group (Translocal Connection) via Zoom
DESCRIPTION:The TLC small group will meet immediately after church via Zoom from noon-1pm for connection and guided discussion. All are welcome. Email the office or Pastor Caroline to get the Zoom link.
URL:https://www.a2blue.org/event/tlc-group-translocal-connection-via-zoom-5/2024-02-11/
LOCATION:Zoom
END:VEVENT
BEGIN:VEVENT
DTSTART;TZID=America/New_York:20240114T120000
DTEND;TZID=America/New_York:20240114T130000
DTSTAMP:20260425T085245
CREATED:20230717T134206Z
LAST-MODIFIED:20230829T163745Z
UID:10001103-1705233600-1705237200@www.a2blue.org
SUMMARY:TLC Group (Translocal Connection) via Zoom
DESCRIPTION:The TLC small group will meet immediately after church via Zoom from noon-1pm for connection and guided discussion. All are welcome. Email the office or Pastor Caroline to get the Zoom link.
URL:https://www.a2blue.org/event/tlc-group-translocal-connection-via-zoom-5/2024-01-14/
LOCATION:Zoom
END:VEVENT
BEGIN:VEVENT
DTSTART;TZID=America/New_York:20231210T120000
DTEND;TZID=America/New_York:20231210T130000
DTSTAMP:20260425T085245
CREATED:20230717T134206Z
LAST-MODIFIED:20230829T163745Z
UID:10001102-1702209600-1702213200@www.a2blue.org
SUMMARY:TLC Group (Translocal Connection) via Zoom
DESCRIPTION:The TLC small group will meet immediately after church via Zoom from noon-1pm for connection and guided discussion. All are welcome. Email the office or Pastor Caroline to get the Zoom link.
URL:https://www.a2blue.org/event/tlc-group-translocal-connection-via-zoom-5/2023-12-10/
LOCATION:Zoom
END:VEVENT
BEGIN:VEVENT
DTSTART;TZID=America/New_York:20231001T120000
DTEND;TZID=America/New_York:20231001T130000
DTSTAMP:20260425T085245
CREATED:20230717T134018Z
LAST-MODIFIED:20230927T205411Z
UID:10001100-1696161600-1696165200@www.a2blue.org
SUMMARY:TLC Group (Translocal Connection) via Zoom
DESCRIPTION:The TLC small group will meet immediately after church via Zoom from noon-1pm for connection and guided discussion. All are welcome. Email the office or Pastor Caroline to get the Zoom link.
URL:https://www.a2blue.org/event/tlc-group-translocal-connection-via-zoom-4/
LOCATION:Zoom
END:VEVENT
BEGIN:VEVENT
DTSTART;TZID=America/New_York:20230910T120000
DTEND;TZID=America/New_York:20230910T130000
DTSTAMP:20260425T085245
CREATED:20230717T133910Z
LAST-MODIFIED:20230717T133910Z
UID:10001099-1694347200-1694350800@www.a2blue.org
SUMMARY:TLC Group (Translocal Connection) via Zoom
DESCRIPTION:The TLC small group will meet immediately after church via Zoom from noon-1pm for connection and guided discussion. All are welcome. Email the office or Pastor Caroline to get the Zoom link.
URL:https://www.a2blue.org/event/tlc-group-translocal-connection-via-zoom-3/
LOCATION:Zoom
END:VEVENT
BEGIN:VEVENT
DTSTART;TZID=America/New_York:20230820T120000
DTEND;TZID=America/New_York:20230820T130000
DTSTAMP:20260425T085245
CREATED:20230717T133730Z
LAST-MODIFIED:20230717T133730Z
UID:10001098-1692532800-1692536400@www.a2blue.org
SUMMARY:TLC Group (Translocal Connection) via Zoom
DESCRIPTION:The TLC small group will meet immediately after church via Zoom from noon-1pm for connection and guided discussion. All are welcome. Email the office or Pastor Caroline to get the Zoom link.
URL:https://www.a2blue.org/event/tlc-group-translocal-connection-via-zoom-2/
LOCATION:Zoom
END:VEVENT
BEGIN:VEVENT
DTSTART;TZID=America/New_York:20230709T120000
DTEND;TZID=America/New_York:20230709T130000
DTSTAMP:20260425T085245
CREATED:20230713T144915Z
LAST-MODIFIED:20230713T145048Z
UID:10000794-1688904000-1688907600@www.a2blue.org
SUMMARY:TLC Group (Translocal Connection) via Zoom
DESCRIPTION:The TLC small group will meet immediately after church via Zoom from noon-1pm for connection and guided discussion. All are welcome. Email the office or Pastor Caroline to get the Zoom link.
URL:https://www.a2blue.org/event/tlc-group-translocal-connection-via-zoom/
LOCATION:Zoom
CATEGORIES:connection,small group
END:VEVENT
END:VCALENDAR