BEGIN:VCALENDAR
VERSION:2.0
PRODID:-//Blue Ocean Church Ann Arbor - ECPv6.15.20//NONSGML v1.0//EN
CALSCALE:GREGORIAN
METHOD:PUBLISH
X-WR-CALNAME:Blue Ocean Church Ann Arbor
X-ORIGINAL-URL:https://www.a2blue.org
X-WR-CALDESC:Events for Blue Ocean Church Ann Arbor
REFRESH-INTERVAL;VALUE=DURATION:PT1H
X-Robots-Tag:noindex
X-PUBLISHED-TTL:PT1H
BEGIN:VTIMEZONE
TZID:America/New_York
BEGIN:DAYLIGHT
TZOFFSETFROM:-0500
TZOFFSETTO:-0400
TZNAME:EDT
DTSTART:20220313T070000
END:DAYLIGHT
BEGIN:STANDARD
TZOFFSETFROM:-0400
TZOFFSETTO:-0500
TZNAME:EST
DTSTART:20221106T060000
END:STANDARD
BEGIN:DAYLIGHT
TZOFFSETFROM:-0500
TZOFFSETTO:-0400
TZNAME:EDT
DTSTART:20230312T070000
END:DAYLIGHT
BEGIN:STANDARD
TZOFFSETFROM:-0400
TZOFFSETTO:-0500
TZNAME:EST
DTSTART:20231105T060000
END:STANDARD
BEGIN:DAYLIGHT
TZOFFSETFROM:-0500
TZOFFSETTO:-0400
TZNAME:EDT
DTSTART:20240310T070000
END:DAYLIGHT
BEGIN:STANDARD
TZOFFSETFROM:-0400
TZOFFSETTO:-0500
TZNAME:EST
DTSTART:20241103T060000
END:STANDARD
BEGIN:DAYLIGHT
TZOFFSETFROM:-0500
TZOFFSETTO:-0400
TZNAME:EDT
DTSTART:20250309T070000
END:DAYLIGHT
BEGIN:STANDARD
TZOFFSETFROM:-0400
TZOFFSETTO:-0500
TZNAME:EST
DTSTART:20251102T060000
END:STANDARD
END:VTIMEZONE
BEGIN:VEVENT
DTSTART;TZID=America/New_York:20240811T123000
DTEND;TZID=America/New_York:20240811T143000
DTSTAMP:20260425T083937
CREATED:20240621T180649Z
LAST-MODIFIED:20250802T140533Z
UID:10002155-1723379400-1723386600@www.a2blue.org
SUMMARY:After-Church Picnic at the Salzmans'
DESCRIPTION:Chris and Betsy Salzman have invited us to bring a picnic lunch to their backyard\, which has lots of shade and room for kids to run around. The Salzmans live about a mile from the church in Ann Arbor. Bring chairs and/or blankets or whatever you’d like in order to eat comfortably. See the weekly update email for location details.
URL:https://www.a2blue.org/event/after-church-picnic-at-the-salzmans-3/
LOCATION:Chris and Betsy Salzman’s
CATEGORIES:connection,families
END:VEVENT
BEGIN:VEVENT
DTSTART;TZID=America/New_York:20240714T123000
DTEND;TZID=America/New_York:20240714T143000
DTSTAMP:20260425T083937
CREATED:20240621T174223Z
LAST-MODIFIED:20250802T140637Z
UID:10001781-1720960200-1720967400@www.a2blue.org
SUMMARY:After-Church Picnic at the Salzmans'
DESCRIPTION:Chris and Betsy Salzman have invited us to bring a picnic lunch to their backyard\, which has lots of shade and room for kids to run around. The Salzmans live about a mile from the church in Ann Arbor. Bring chairs and/or blankets or whatever you’d like in order to eat comfortably. See the weekly update email for location details.
URL:https://www.a2blue.org/event/after-church-picnic-at-the-salzmans-2/
LOCATION:Chris and Betsy Salzman’s
CATEGORIES:connection,families
END:VEVENT
BEGIN:VEVENT
DTSTART;TZID=America/New_York:20240630T123000
DTEND;TZID=America/New_York:20240630T143000
DTSTAMP:20260425T083937
CREATED:20240621T173610Z
LAST-MODIFIED:20250802T140644Z
UID:10001780-1719750600-1719757800@www.a2blue.org
SUMMARY:After-Church Picnic at the Salzmans'
DESCRIPTION:Chris and Betsy Salzman have invited us to bring a picnic lunch to their backyard\, which has lots of shade and room for kids to run around. The Salzmans live about a mile from the church in Ann Arbor. Bring chairs and/or blankets or whatever you’d like in order to eat comfortably. See the weekly update email for location details.
URL:https://www.a2blue.org/event/after-church-picnic-at-the-salzmans/
LOCATION:Chris and Betsy Salzman’s
CATEGORIES:connection,families
END:VEVENT
BEGIN:VEVENT
DTSTART;TZID=America/New_York:20230713T173000
DTEND;TZID=America/New_York:20230713T193000
DTSTAMP:20260425T083937
CREATED:20230713T144445Z
LAST-MODIFIED:20250802T140658Z
UID:10000793-1689269400-1689276600@www.a2blue.org
SUMMARY:Dinners for Seven: Salzmans
DESCRIPTION:We have several hosts for Dinners for Seven. If you’re looking to meet some other people in the church\, this is a good way to do that in a casual setting over a meal. Check out the back table at the church for signups. Those signup sheets have more info about dates/times/locations\, which vary. For more information about our Dinners for Seven connection events\, contact the church office.
URL:https://www.a2blue.org/event/dinners-for-seven-salzmans/
LOCATION:Chris and Betsy Salzman’s
CATEGORIES:connection
END:VEVENT
END:VCALENDAR