BEGIN:VCALENDAR
VERSION:2.0
PRODID:-//Blue Ocean Church Ann Arbor - ECPv6.15.20//NONSGML v1.0//EN
CALSCALE:GREGORIAN
METHOD:PUBLISH
X-ORIGINAL-URL:https://www.a2blue.org
X-WR-CALDESC:Events for Blue Ocean Church Ann Arbor
REFRESH-INTERVAL;VALUE=DURATION:PT1H
X-Robots-Tag:noindex
X-PUBLISHED-TTL:PT1H
BEGIN:VTIMEZONE
TZID:America/New_York
BEGIN:DAYLIGHT
TZOFFSETFROM:-0500
TZOFFSETTO:-0400
TZNAME:EDT
DTSTART:20220313T070000
END:DAYLIGHT
BEGIN:STANDARD
TZOFFSETFROM:-0400
TZOFFSETTO:-0500
TZNAME:EST
DTSTART:20221106T060000
END:STANDARD
BEGIN:DAYLIGHT
TZOFFSETFROM:-0500
TZOFFSETTO:-0400
TZNAME:EDT
DTSTART:20230312T070000
END:DAYLIGHT
BEGIN:STANDARD
TZOFFSETFROM:-0400
TZOFFSETTO:-0500
TZNAME:EST
DTSTART:20231105T060000
END:STANDARD
BEGIN:DAYLIGHT
TZOFFSETFROM:-0500
TZOFFSETTO:-0400
TZNAME:EDT
DTSTART:20240310T070000
END:DAYLIGHT
BEGIN:STANDARD
TZOFFSETFROM:-0400
TZOFFSETTO:-0500
TZNAME:EST
DTSTART:20241103T060000
END:STANDARD
BEGIN:DAYLIGHT
TZOFFSETFROM:-0500
TZOFFSETTO:-0400
TZNAME:EDT
DTSTART:20250309T070000
END:DAYLIGHT
BEGIN:STANDARD
TZOFFSETFROM:-0400
TZOFFSETTO:-0500
TZNAME:EST
DTSTART:20251102T060000
END:STANDARD
END:VTIMEZONE
BEGIN:VEVENT
DTSTART;TZID=America/New_York:20240712T190000
DTEND;TZID=America/New_York:20240712T210000
DTSTAMP:20260425T063846
CREATED:20240514T162721Z
LAST-MODIFIED:20240514T162721Z
UID:10001773-1720810800-1720818000@www.a2blue.org
SUMMARY:Queer Meetup
DESCRIPTION:We’ll host a queer meetup at the Corner Brewery from 7-9 PM. We’ve reserved space outside in the beer garden.
URL:https://www.a2blue.org/event/queer-meetup/
LOCATION:Corner Brewery\, 720 Norris Street\, Ypsilanti\, MI\, 48198
CATEGORIES:connection
END:VEVENT
BEGIN:VEVENT
DTSTART;TZID=America/New_York:20240517T190000
DTEND;TZID=America/New_York:20240517T210000
DTSTAMP:20260425T063846
CREATED:20240301T162704Z
LAST-MODIFIED:20240402T162846Z
UID:10001689-1715972400-1715979600@www.a2blue.org
SUMMARY:Game Night at the Corner
DESCRIPTION:We’ll host Friday game night at the Corner Brewery from 7-9 pm. We’ve reserved space outside. Kids welcome. Bring your favorite games and come connect.
URL:https://www.a2blue.org/event/game-night-at-corner-2/
LOCATION:Corner Brewery\, 720 Norris Street\, Ypsilanti\, MI\, 48198
CATEGORIES:connection
END:VEVENT
BEGIN:VEVENT
DTSTART;TZID=America/New_York:20240419T190000
DTEND;TZID=America/New_York:20240419T210000
DTSTAMP:20260425T063846
CREATED:20240301T162504Z
LAST-MODIFIED:20240402T162643Z
UID:10001688-1713553200-1713560400@www.a2blue.org
SUMMARY:Game Night at the Corner
DESCRIPTION:We’ll host Friday game night at the Corner Brewery from 7-9 pm. We’ve reserved space inside. Kids welcome. Bring your favorite games and come connect.
URL:https://www.a2blue.org/event/game-night-at-corner/
LOCATION:Corner Brewery\, 720 Norris Street\, Ypsilanti\, MI\, 48198
CATEGORIES:connection
END:VEVENT
BEGIN:VEVENT
DTSTART;TZID=America/New_York:20240322T190000
DTEND;TZID=America/New_York:20240322T210000
DTSTAMP:20260425T063846
CREATED:20240106T191814Z
LAST-MODIFIED:20240106T191814Z
UID:10001518-1711134000-1711141200@www.a2blue.org
SUMMARY:Game Night at the Corner
DESCRIPTION:We’ll host Friday game night at the Corner Brewery from 7-9 pm. We’ve reserved space inside. Kids welcome. Bring your favorite games and come connect.
URL:https://www.a2blue.org/event/game-night-at-the-corner-5/
LOCATION:Corner Brewery\, 720 Norris Street\, Ypsilanti\, MI\, 48198
CATEGORIES:connection
END:VEVENT
BEGIN:VEVENT
DTSTART;TZID=America/New_York:20240223T190000
DTEND;TZID=America/New_York:20240223T210000
DTSTAMP:20260425T063846
CREATED:20240106T185219Z
LAST-MODIFIED:20240106T185219Z
UID:10001514-1708714800-1708722000@www.a2blue.org
SUMMARY:Game Night at the Corner
DESCRIPTION:We’ll host Friday game night at the Corner Brewery from 7-9 pm. We’ve reserved space inside. Kids welcome. Bring your favorite games and come connect.
URL:https://www.a2blue.org/event/game-night-at-the-corner-4/
LOCATION:Corner Brewery\, 720 Norris Street\, Ypsilanti\, MI\, 48198
CATEGORIES:connection
END:VEVENT
BEGIN:VEVENT
DTSTART;TZID=America/New_York:20240119T190000
DTEND;TZID=America/New_York:20240119T210000
DTSTAMP:20260425T063846
CREATED:20231201T231021Z
LAST-MODIFIED:20231201T231036Z
UID:10001498-1705690800-1705698000@www.a2blue.org
SUMMARY:Game Night at the Corner
DESCRIPTION:We’ve reserved space inside the Corner Brewery. Kids welcome. Bring your favorite games and come connect.
URL:https://www.a2blue.org/event/game-night-at-the-corner-3/
LOCATION:Corner Brewery\, 720 Norris Street\, Ypsilanti\, MI\, 48198
CATEGORIES:connection
END:VEVENT
BEGIN:VEVENT
DTSTART;TZID=America/New_York:20231117T190000
DTEND;TZID=America/New_York:20231117T210000
DTSTAMP:20260425T063846
CREATED:20230818T162353Z
LAST-MODIFIED:20231027T164500Z
UID:10001175-1700247600-1700254800@www.a2blue.org
SUMMARY:Game Night at the Corner
DESCRIPTION:We’ll host Friday game night at the Corner Brewery from 7–9pm. We’ve reserved space inside. Kids welcome. Bring your favorite games and come connect.
URL:https://www.a2blue.org/event/game-night-at-the-corner-2/
LOCATION:Corner Brewery\, 720 Norris Street\, Ypsilanti\, MI\, 48198
END:VEVENT
BEGIN:VEVENT
DTSTART;TZID=America/New_York:20230804T190000
DTEND;TZID=America/New_York:20230804T210000
DTSTAMP:20260425T063846
CREATED:20230713T142124Z
LAST-MODIFIED:20230713T142349Z
UID:10000781-1691175600-1691182800@www.a2blue.org
SUMMARY:Queer Meetup at the Corner Brewery
DESCRIPTION:We’ll have a Queer meetup at 7pm at The Corner Brewery in Ypsi. Come for some queer connection and support. We’ve reserved space in the outdoor beer garden.
URL:https://www.a2blue.org/event/queer-meetup-at-the-corner-brewery/
LOCATION:Corner Brewery\, 720 Norris Street\, Ypsilanti\, MI\, 48198
CATEGORIES:connection
END:VEVENT
END:VCALENDAR