BEGIN:VCALENDAR
VERSION:2.0
PRODID:-//Blue Ocean Church Ann Arbor - ECPv6.15.20//NONSGML v1.0//EN
CALSCALE:GREGORIAN
METHOD:PUBLISH
X-WR-CALNAME:Blue Ocean Church Ann Arbor
X-ORIGINAL-URL:https://www.a2blue.org
X-WR-CALDESC:Events for Blue Ocean Church Ann Arbor
REFRESH-INTERVAL;VALUE=DURATION:PT1H
X-Robots-Tag:noindex
X-PUBLISHED-TTL:PT1H
BEGIN:VTIMEZONE
TZID:America/New_York
BEGIN:DAYLIGHT
TZOFFSETFROM:-0500
TZOFFSETTO:-0400
TZNAME:EDT
DTSTART:20220313T070000
END:DAYLIGHT
BEGIN:STANDARD
TZOFFSETFROM:-0400
TZOFFSETTO:-0500
TZNAME:EST
DTSTART:20221106T060000
END:STANDARD
BEGIN:DAYLIGHT
TZOFFSETFROM:-0500
TZOFFSETTO:-0400
TZNAME:EDT
DTSTART:20230312T070000
END:DAYLIGHT
BEGIN:STANDARD
TZOFFSETFROM:-0400
TZOFFSETTO:-0500
TZNAME:EST
DTSTART:20231105T060000
END:STANDARD
BEGIN:DAYLIGHT
TZOFFSETFROM:-0500
TZOFFSETTO:-0400
TZNAME:EDT
DTSTART:20240310T070000
END:DAYLIGHT
BEGIN:STANDARD
TZOFFSETFROM:-0400
TZOFFSETTO:-0500
TZNAME:EST
DTSTART:20241103T060000
END:STANDARD
END:VTIMEZONE
BEGIN:VEVENT
DTSTART;TZID=America/New_York:20231221T183000
DTEND;TZID=America/New_York:20231221T203000
DTSTAMP:20260425T070104
CREATED:20231216T230316Z
LAST-MODIFIED:20231216T230316Z
UID:10001500-1703183400-1703190600@www.a2blue.org
SUMMARY:Winter Solstice Hike
DESCRIPTION:The Vaduva family and Earth Care Group will be hiking at 6:30 pm at Independence Lake. Join us for a lantern-lit walk.There will be a campfire\, s’mores and hot cocoa. The park event is $10 per family/household (up to four members) and will go from 6 pm to 8:30 pm–join any time! Registration link is available in the weekly update or here: Independence Lake Winter Solstice Hike Registration
URL:https://www.a2blue.org/event/winter-solstice-hike/
LOCATION:Independence Lake County Park\, 3200 Jennings Rd\, Whitmore Lake\, MI\, 48189\, United States
CATEGORIES:families
END:VEVENT
END:VCALENDAR