BEGIN:VCALENDAR
VERSION:2.0
PRODID:-//Blue Ocean Church Ann Arbor - ECPv6.15.20//NONSGML v1.0//EN
CALSCALE:GREGORIAN
METHOD:PUBLISH
X-ORIGINAL-URL:https://www.a2blue.org
X-WR-CALDESC:Events for Blue Ocean Church Ann Arbor
REFRESH-INTERVAL;VALUE=DURATION:PT1H
X-Robots-Tag:noindex
X-PUBLISHED-TTL:PT1H
BEGIN:VTIMEZONE
TZID:America/New_York
BEGIN:DAYLIGHT
TZOFFSETFROM:-0500
TZOFFSETTO:-0400
TZNAME:EDT
DTSTART:20230312T070000
END:DAYLIGHT
BEGIN:STANDARD
TZOFFSETFROM:-0400
TZOFFSETTO:-0500
TZNAME:EST
DTSTART:20231105T060000
END:STANDARD
BEGIN:DAYLIGHT
TZOFFSETFROM:-0500
TZOFFSETTO:-0400
TZNAME:EDT
DTSTART:20240310T070000
END:DAYLIGHT
BEGIN:STANDARD
TZOFFSETFROM:-0400
TZOFFSETTO:-0500
TZNAME:EST
DTSTART:20241103T060000
END:STANDARD
BEGIN:DAYLIGHT
TZOFFSETFROM:-0500
TZOFFSETTO:-0400
TZNAME:EDT
DTSTART:20250309T070000
END:DAYLIGHT
BEGIN:STANDARD
TZOFFSETFROM:-0400
TZOFFSETTO:-0500
TZNAME:EST
DTSTART:20251102T060000
END:STANDARD
END:VTIMEZONE
BEGIN:VEVENT
DTSTART;TZID=America/New_York:20240922T133000
DTEND;TZID=America/New_York:20240922T153000
DTSTAMP:20260424T231511
CREATED:20240920T194038Z
LAST-MODIFIED:20250802T143942Z
UID:10002440-1727011800-1727019000@www.a2blue.org
SUMMARY:Earth Care Event at a Sheep Farm
DESCRIPTION:Join us from 1:30pm-3:30pm\, after the Newcomer’s Fair\, as we head out to Javan and Emily Miner’s farm (Stewards Provisions) in Dexter. Pack a lunch or pick up some food on the way and we’ll picnic together. See how big the lambs are\, enjoy the colorful array of wildflowers\, and consider whether you want to frost seed your own wildflower patch this winter. You will be able to see the benefits of rotational grazing in pastures at Stewards Provisions and we may even muster a bit of lamb tasting for those interested in the meat side of the farm. Contact Pastor Caroline for more details: caroline@a2blue.org.
URL:https://www.a2blue.org/event/earth-care-event-at-a-sheep-farm-2/
LOCATION:Javan and Emily Miner’s farm (Dexter)
CATEGORIES:families
END:VEVENT
BEGIN:VEVENT
DTSTART;TZID=America/New_York:20240822T133000
DTEND;TZID=America/New_York:20240822T153000
DTSTAMP:20260424T231511
CREATED:20240812T212408Z
LAST-MODIFIED:20250802T143847Z
UID:10002220-1724333400-1724340600@www.a2blue.org
SUMMARY:Earth Care Event at a Sheep Farm
DESCRIPTION:Join us after the Newcomer’s Fair\, as we head out to Javan and Emily Miner’s farm (Stewards Provisions) in Dexter. Pack a lunch or pick up some food on the way and we’ll picnic together. See how big the lambs are\, enjoy the colorful array of wildflowers\, and consider whether you want to frost seed your own wildflower patch this winter. You will be able to see the benefits of rotational grazing in pastures at Stewards Provisions and we may even muster a bit of lamb tasting for those interested in the meat side of the farm. Contact Pastor Caroline for more details: caroline@a2blue.org.
URL:https://www.a2blue.org/event/earth-care-event-at-a-sheep-farm/
LOCATION:Javan and Emily Miner’s farm (Dexter)
CATEGORIES:families
END:VEVENT
END:VCALENDAR