BEGIN:VCALENDAR
VERSION:2.0
PRODID:-//Blue Ocean Church Ann Arbor - ECPv6.15.20//NONSGML v1.0//EN
CALSCALE:GREGORIAN
METHOD:PUBLISH
X-ORIGINAL-URL:https://www.a2blue.org
X-WR-CALDESC:Events for Blue Ocean Church Ann Arbor
REFRESH-INTERVAL;VALUE=DURATION:PT1H
X-Robots-Tag:noindex
X-PUBLISHED-TTL:PT1H
BEGIN:VTIMEZONE
TZID:America/New_York
BEGIN:DAYLIGHT
TZOFFSETFROM:-0500
TZOFFSETTO:-0400
TZNAME:EDT
DTSTART:20230312T070000
END:DAYLIGHT
BEGIN:STANDARD
TZOFFSETFROM:-0400
TZOFFSETTO:-0500
TZNAME:EST
DTSTART:20231105T060000
END:STANDARD
BEGIN:DAYLIGHT
TZOFFSETFROM:-0500
TZOFFSETTO:-0400
TZNAME:EDT
DTSTART:20240310T070000
END:DAYLIGHT
BEGIN:STANDARD
TZOFFSETFROM:-0400
TZOFFSETTO:-0500
TZNAME:EST
DTSTART:20241103T060000
END:STANDARD
BEGIN:DAYLIGHT
TZOFFSETFROM:-0500
TZOFFSETTO:-0400
TZNAME:EDT
DTSTART:20250309T070000
END:DAYLIGHT
BEGIN:STANDARD
TZOFFSETFROM:-0400
TZOFFSETTO:-0500
TZNAME:EST
DTSTART:20251102T060000
END:STANDARD
BEGIN:DAYLIGHT
TZOFFSETFROM:-0500
TZOFFSETTO:-0400
TZNAME:EDT
DTSTART:20260308T070000
END:DAYLIGHT
BEGIN:STANDARD
TZOFFSETFROM:-0400
TZOFFSETTO:-0500
TZNAME:EST
DTSTART:20261101T060000
END:STANDARD
BEGIN:DAYLIGHT
TZOFFSETFROM:-0500
TZOFFSETTO:-0400
TZNAME:EDT
DTSTART:20270314T070000
END:DAYLIGHT
BEGIN:STANDARD
TZOFFSETFROM:-0400
TZOFFSETTO:-0500
TZNAME:EST
DTSTART:20271107T060000
END:STANDARD
END:VTIMEZONE
BEGIN:VEVENT
DTSTART;TZID=America/New_York:20260403T130000
DTEND;TZID=America/New_York:20260403T140000
DTSTAMP:20260424T225914
CREATED:20260226T182616Z
LAST-MODIFIED:20260226T182616Z
UID:10002755-1775221200-1775224800@www.a2blue.org
SUMMARY:Good Friday Service
DESCRIPTION:Good Friday Service We’re invited to join St. Clare’s Episcopal for a Taize Good Friday service at 1pm EDT in their sanctuary; it will be live streamed here: https://saintclareschurch.org/worship.
URL:https://www.a2blue.org/event/good-friday-service/
LOCATION:St. Clare/Temple Beth Emeth Sanctuary\, 2309 Packard St\, Ann Arbor\, MI\, 48104\, United States
CATEGORIES:services
END:VEVENT
BEGIN:VEVENT
DTSTART;TZID=America/New_York:20251214T120000
DTEND;TZID=America/New_York:20251214T130000
DTSTAMP:20260424T225914
CREATED:20251017T195920Z
LAST-MODIFIED:20251017T195920Z
UID:10002719-1765713600-1765717200@www.a2blue.org
SUMMARY:Annual Christmas Cookie Exchange
DESCRIPTION:Annual Christmas Cookie Exchange Bring yourself and three dozen of your favorite homemade cookies to share with your Blue Ocean friends. You will swap your cookies for the other attendees’ cookies and take home a diverse assortment of homemade goodies just in time for Christmas! We welcome gluten free\, nut free\, and vegan options\, and will be sure those are clearly marked. If you don’t have time to make cookies\, we’ll have some available for snacking on  if you just want to stay after church and socialize.
URL:https://www.a2blue.org/event/annual-christmas-cookie-exchange-2/
LOCATION:St. Clare/Temple Beth Emeth Sanctuary\, 2309 Packard St\, Ann Arbor\, MI\, 48104\, United States
CATEGORIES:connection
END:VEVENT
BEGIN:VEVENT
DTSTART;TZID=America/New_York:20251207T110000
DTEND;TZID=America/New_York:20251207T113000
DTSTAMP:20260424T225914
CREATED:20251017T195431Z
LAST-MODIFIED:20251017T195431Z
UID:10002717-1765105200-1765107000@www.a2blue.org
SUMMARY:Annual Meeting of Members
DESCRIPTION:The annual meeting of members will take place for the congregation to vote on the 2026 budget and new or renewing board members. (It’s a brief vote that takes place during the announcements portion of the Sunday service.)
URL:https://www.a2blue.org/event/annual-meeting-of-members-2/
LOCATION:St. Clare/Temple Beth Emeth Sanctuary\, 2309 Packard St\, Ann Arbor\, MI\, 48104\, United States
END:VEVENT
BEGIN:VEVENT
DTSTART;TZID=America/New_York:20251019T120000
DTEND;TZID=America/New_York:20251019T140000
DTSTAMP:20260424T225914
CREATED:20251003T164125Z
LAST-MODIFIED:20251003T164125Z
UID:10002692-1760875200-1760882400@www.a2blue.org
SUMMARY:Immigration Conversation at St. Clare's Episcopal
DESCRIPTION:St. Clare’s Episcopal (with whom we share a building) has invited a local immigration attorney to share about her experiences and how we can most effectively support immigrants during this difficult time. She has expertise in this area through her work with clients from all over the world\, as well as being a local immigration activist and a Unitarian Universalist. Following St. Clare’s 10:30am church service–around noon–Blue Ocean folks interested in participating in the discussion and further action can join the congregants at St. Clare’s. Please RSVP for the forum here (light lunch will be provided). https://forms.gle/7CegwMsdP2kbk1Qe8
URL:https://www.a2blue.org/event/immigration-conversation-at-st-clares-episcopal/
LOCATION:St. Clare/Temple Beth Emeth Sanctuary\, 2309 Packard St\, Ann Arbor\, MI\, 48104\, United States
CATEGORIES:classes,discussion group
END:VEVENT
BEGIN:VEVENT
DTSTART;TZID=America/New_York:20250504T160000
DTEND;TZID=America/New_York:20250504T173000
DTSTAMP:20260424T225914
CREATED:20250429T181548Z
LAST-MODIFIED:20250429T181548Z
UID:10002565-1746374400-1746379800@www.a2blue.org
SUMMARY:Free Gemini Concert for Kids and Families
DESCRIPTION:St. Clare’s and TBE are co-hosting a free Gemini concert for kids and families in the sanctuary. The concert is open to the public. Caregivers can register here in advance or on the day-of at the registration table.
URL:https://www.a2blue.org/event/free-gemini-concert-for-kids-and-families/
LOCATION:St. Clare/Temple Beth Emeth Sanctuary\, 2309 Packard St\, Ann Arbor\, MI\, 48104\, United States
CATEGORIES:children's,connection
END:VEVENT
BEGIN:VEVENT
DTSTART;TZID=America/New_York:20250419T130000
DTEND;TZID=America/New_York:20250419T140000
DTSTAMP:20260424T225914
CREATED:20250321T185608Z
LAST-MODIFIED:20250321T185608Z
UID:10002543-1745067600-1745071200@www.a2blue.org
SUMMARY:Good Friday Service with St. Clare's (in-person/live-streamed)
DESCRIPTION:We will join St. Clare’s Episcopal for our Good Friday service for a Taizé service inside the St. Clare sanctuary; it will be also live-streamed via Zoom. What’s Taizé\, you ask? You can listen to a sample of a Taizé service here. Taizé is mostly a singing/chanting service\, and the worship director at St. Clare’s\, John\, will lead from piano and there will be a short reflection led by Rev. Anne and Emily. The idea of Taizé is it has repetitive phrases so it’s easy to sing along with\, even if you’re newer to it. The service will be live streamed here: https://saintclareschurch.org/worship. 
URL:https://www.a2blue.org/event/good-friday-service-with-st-clares-in-person-live-streamed/
LOCATION:St. Clare/Temple Beth Emeth Sanctuary\, 2309 Packard St\, Ann Arbor\, MI\, 48104\, United States
CATEGORIES:services,Zoom
END:VEVENT
BEGIN:VEVENT
DTSTART;TZID=America/New_York:20250418T130000
DTEND;TZID=America/New_York:20250418T140000
DTSTAMP:20260424T225914
CREATED:20250208T212556Z
LAST-MODIFIED:20250208T212640Z
UID:10002506-1744981200-1744984800@www.a2blue.org
SUMMARY:Good Friday Taize Service
DESCRIPTION:We‘re invited to join St. Clare’s Episcopal for a Taize Good Friday service at 1pm EDT in their sanctuary; it will be live streamed here: https://saintclareschurch.org/worship. 
URL:https://www.a2blue.org/event/good-friday-taize-service-in-person-or-on-zoom/
LOCATION:St. Clare/Temple Beth Emeth Sanctuary\, 2309 Packard St\, Ann Arbor\, MI\, 48104\, United States
CATEGORIES:services
END:VEVENT
BEGIN:VEVENT
DTSTART;TZID=America/New_York:20240414T190000
DTEND;TZID=America/New_York:20240414T210000
DTSTAMP:20260424T225914
CREATED:20240409T165533Z
LAST-MODIFIED:20240409T165533Z
UID:10001756-1713121200-1713128400@www.a2blue.org
SUMMARY:Antisemitism Class Follow-up Conversation With Temple Beth Emeth Leaders
DESCRIPTION:This is an event for those congregants who took the class\, “Weeding Antisemitism Out of Christianity” during Lent. We are really pleased to let you know that the clergy at Temple Beth Emeth—Rabbi Josh Whinston\, Cantor Regina Hayut\, and Rabbi Chelsea Feuchs—have accepted our invitation to come join us for a follow up conversation on our class on Sunday\, April 14\, at 7pm. This conversation is only open to people who completed the Lent class (watching the recordings counts!). Pastor Anne from St. Clare’s and I will likely moderate the questions as we did for the class\, so you’re welcome to think about them in advance. This conversation will be available via Zoom too\, although we encourage you to come in person if you’re able.
URL:https://www.a2blue.org/event/antisemitism-class-follow-up-conversation-with-temple-beth-emeth-leaders/
LOCATION:St. Clare/Temple Beth Emeth Sanctuary\, 2309 Packard St\, Ann Arbor\, MI\, 48104\, United States
CATEGORIES:panel discussion
END:VEVENT
BEGIN:VEVENT
DTSTART;TZID=America/New_York:20240329T130000
DTEND;TZID=America/New_York:20240329T140000
DTSTAMP:20260424T225914
CREATED:20240308T185338Z
LAST-MODIFIED:20240308T185338Z
UID:10001692-1711717200-1711720800@www.a2blue.org
SUMMARY:Good Friday Service II: Taize Prayer Service
DESCRIPTION:The second of our two Good Friday services with St. Clare’s will be a Taize prayer service. The service will take place after the outdoor walking service and will be held inside the sanctuary at 1:00pm. It will be live-streamed here: https://saintclareschurch.org/worship. 
URL:https://www.a2blue.org/event/good-friday-service-ii-taize-prayer-service/
LOCATION:St. Clare/Temple Beth Emeth Sanctuary\, 2309 Packard St\, Ann Arbor\, MI\, 48104\, United States
CATEGORIES:services,Zoom
END:VEVENT
END:VCALENDAR