BEGIN:VCALENDAR
VERSION:2.0
PRODID:-//Blue Ocean Church Ann Arbor - ECPv6.15.20//NONSGML v1.0//EN
CALSCALE:GREGORIAN
METHOD:PUBLISH
X-ORIGINAL-URL:https://www.a2blue.org
X-WR-CALDESC:Events for Blue Ocean Church Ann Arbor
REFRESH-INTERVAL;VALUE=DURATION:PT1H
X-Robots-Tag:noindex
X-PUBLISHED-TTL:PT1H
BEGIN:VTIMEZONE
TZID:America/New_York
BEGIN:DAYLIGHT
TZOFFSETFROM:-0500
TZOFFSETTO:-0400
TZNAME:EDT
DTSTART:20270314T070000
END:DAYLIGHT
BEGIN:STANDARD
TZOFFSETFROM:-0400
TZOFFSETTO:-0500
TZNAME:EST
DTSTART:20271107T060000
END:STANDARD
BEGIN:DAYLIGHT
TZOFFSETFROM:-0500
TZOFFSETTO:-0400
TZNAME:EDT
DTSTART:20280312T070000
END:DAYLIGHT
BEGIN:STANDARD
TZOFFSETFROM:-0400
TZOFFSETTO:-0500
TZNAME:EST
DTSTART:20281105T060000
END:STANDARD
BEGIN:DAYLIGHT
TZOFFSETFROM:-0500
TZOFFSETTO:-0400
TZNAME:EDT
DTSTART:20290311T070000
END:DAYLIGHT
BEGIN:STANDARD
TZOFFSETFROM:-0400
TZOFFSETTO:-0500
TZNAME:EST
DTSTART:20291104T060000
END:STANDARD
END:VTIMEZONE
BEGIN:VEVENT
DTSTART;TZID=America/New_York:20280409T110000
DTEND;TZID=America/New_York:20280409T121500
DTSTAMP:20260425T235240
CREATED:20231109T151623Z
LAST-MODIFIED:20231109T151626Z
UID:10000265-1838890800-1838895300@www.a2blue.org
SUMMARY:Sunday Hybrid Service
DESCRIPTION:We hold in-person/Zoom hybrid services every Sunday at 11am ET. We meet in the social hall of St. Clare’s Episcopal Church/Temple Beth Emeth. More information can be found on our Sunday Services page. If this is your first time visiting us in person\, detailed directions for getting here are available on our Where & When page.
URL:https://www.a2blue.org/event/sunday-hybrid-service-4/2028-04-09/
LOCATION:St. Clare/Temple Beth Emeth Social Hall\, 2309 Packard Street\, Ann Arbor\, MI\, 48104\, United States
CATEGORIES:services
END:VEVENT
BEGIN:VEVENT
DTSTART;TZID=America/New_York:20280409T120000
DTEND;TZID=America/New_York:20280409T130000
DTSTAMP:20260425T235240
CREATED:20240822T194825Z
LAST-MODIFIED:20240822T194848Z
UID:10002322-1838894400-1838898000@www.a2blue.org
SUMMARY:Donuts After Church
DESCRIPTION:Join us immediately after church for donuts and coffee from Washtenaw Dairy.
URL:https://www.a2blue.org/event/donuts-after-church-2-3/2028-04-09/
LOCATION:St. Clare/Temple Beth Emeth Social Hall\, 2309 Packard Street\, Ann Arbor\, MI\, 48104\, United States
CATEGORIES:connection
END:VEVENT
BEGIN:VEVENT
DTSTART;TZID=America/New_York:20280416T110000
DTEND;TZID=America/New_York:20280416T121500
DTSTAMP:20260425T235240
CREATED:20231109T151623Z
LAST-MODIFIED:20231109T151626Z
UID:10000266-1839495600-1839500100@www.a2blue.org
SUMMARY:Sunday Hybrid Service
DESCRIPTION:We hold in-person/Zoom hybrid services every Sunday at 11am ET. We meet in the social hall of St. Clare’s Episcopal Church/Temple Beth Emeth. More information can be found on our Sunday Services page. If this is your first time visiting us in person\, detailed directions for getting here are available on our Where & When page.
URL:https://www.a2blue.org/event/sunday-hybrid-service-4/2028-04-16/
LOCATION:St. Clare/Temple Beth Emeth Social Hall\, 2309 Packard Street\, Ann Arbor\, MI\, 48104\, United States
CATEGORIES:services
END:VEVENT
BEGIN:VEVENT
DTSTART;TZID=America/New_York:20280416T120000
DTEND;TZID=America/New_York:20280416T130000
DTSTAMP:20260425T235240
CREATED:20240822T194825Z
LAST-MODIFIED:20240822T194848Z
UID:10000771-1839499200-1839502800@www.a2blue.org
SUMMARY:Donuts After Church
DESCRIPTION:Join us immediately after church for donuts and coffee from Washtenaw Dairy.
URL:https://www.a2blue.org/event/donuts-after-church-2-3/2028-04-16/
LOCATION:St. Clare/Temple Beth Emeth Social Hall\, 2309 Packard Street\, Ann Arbor\, MI\, 48104\, United States
CATEGORIES:connection
END:VEVENT
BEGIN:VEVENT
DTSTART;TZID=America/New_York:20280423T110000
DTEND;TZID=America/New_York:20280423T121500
DTSTAMP:20260425T235240
CREATED:20231109T151623Z
LAST-MODIFIED:20231109T151626Z
UID:10000267-1840100400-1840104900@www.a2blue.org
SUMMARY:Sunday Hybrid Service
DESCRIPTION:We hold in-person/Zoom hybrid services every Sunday at 11am ET. We meet in the social hall of St. Clare’s Episcopal Church/Temple Beth Emeth. More information can be found on our Sunday Services page. If this is your first time visiting us in person\, detailed directions for getting here are available on our Where & When page.
URL:https://www.a2blue.org/event/sunday-hybrid-service-4/2028-04-23/
LOCATION:St. Clare/Temple Beth Emeth Social Hall\, 2309 Packard Street\, Ann Arbor\, MI\, 48104\, United States
CATEGORIES:services
END:VEVENT
BEGIN:VEVENT
DTSTART;TZID=America/New_York:20280423T120000
DTEND;TZID=America/New_York:20280423T130000
DTSTAMP:20260425T235240
CREATED:20240822T194825Z
LAST-MODIFIED:20240822T194848Z
UID:10002323-1840104000-1840107600@www.a2blue.org
SUMMARY:Donuts After Church
DESCRIPTION:Join us immediately after church for donuts and coffee from Washtenaw Dairy.
URL:https://www.a2blue.org/event/donuts-after-church-2-3/2028-04-23/
LOCATION:St. Clare/Temple Beth Emeth Social Hall\, 2309 Packard Street\, Ann Arbor\, MI\, 48104\, United States
CATEGORIES:connection
END:VEVENT
BEGIN:VEVENT
DTSTART;TZID=America/New_York:20280430T110000
DTEND;TZID=America/New_York:20280430T121500
DTSTAMP:20260425T235240
CREATED:20231109T151623Z
LAST-MODIFIED:20231109T151626Z
UID:10000268-1840705200-1840709700@www.a2blue.org
SUMMARY:Sunday Hybrid Service
DESCRIPTION:We hold in-person/Zoom hybrid services every Sunday at 11am ET. We meet in the social hall of St. Clare’s Episcopal Church/Temple Beth Emeth. More information can be found on our Sunday Services page. If this is your first time visiting us in person\, detailed directions for getting here are available on our Where & When page.
URL:https://www.a2blue.org/event/sunday-hybrid-service-4/2028-04-30/
LOCATION:St. Clare/Temple Beth Emeth Social Hall\, 2309 Packard Street\, Ann Arbor\, MI\, 48104\, United States
CATEGORIES:services
END:VEVENT
BEGIN:VEVENT
DTSTART;TZID=America/New_York:20280430T120000
DTEND;TZID=America/New_York:20280430T130000
DTSTAMP:20260425T235240
CREATED:20240822T194825Z
LAST-MODIFIED:20240822T194848Z
UID:10000772-1840708800-1840712400@www.a2blue.org
SUMMARY:Donuts After Church
DESCRIPTION:Join us immediately after church for donuts and coffee from Washtenaw Dairy.
URL:https://www.a2blue.org/event/donuts-after-church-2-3/2028-04-30/
LOCATION:St. Clare/Temple Beth Emeth Social Hall\, 2309 Packard Street\, Ann Arbor\, MI\, 48104\, United States
CATEGORIES:connection
END:VEVENT
BEGIN:VEVENT
DTSTART;TZID=America/New_York:20280507T110000
DTEND;TZID=America/New_York:20280507T121500
DTSTAMP:20260425T235240
CREATED:20231109T151623Z
LAST-MODIFIED:20231109T151626Z
UID:10000269-1841310000-1841314500@www.a2blue.org
SUMMARY:Sunday Hybrid Service
DESCRIPTION:We hold in-person/Zoom hybrid services every Sunday at 11am ET. We meet in the social hall of St. Clare’s Episcopal Church/Temple Beth Emeth. More information can be found on our Sunday Services page. If this is your first time visiting us in person\, detailed directions for getting here are available on our Where & When page.
URL:https://www.a2blue.org/event/sunday-hybrid-service-4/2028-05-07/
LOCATION:St. Clare/Temple Beth Emeth Social Hall\, 2309 Packard Street\, Ann Arbor\, MI\, 48104\, United States
CATEGORIES:services
END:VEVENT
BEGIN:VEVENT
DTSTART;TZID=America/New_York:20280507T120000
DTEND;TZID=America/New_York:20280507T130000
DTSTAMP:20260425T235240
CREATED:20240822T194825Z
LAST-MODIFIED:20240822T194848Z
UID:10002324-1841313600-1841317200@www.a2blue.org
SUMMARY:Donuts After Church
DESCRIPTION:Join us immediately after church for donuts and coffee from Washtenaw Dairy.
URL:https://www.a2blue.org/event/donuts-after-church-2-3/2028-05-07/
LOCATION:St. Clare/Temple Beth Emeth Social Hall\, 2309 Packard Street\, Ann Arbor\, MI\, 48104\, United States
CATEGORIES:connection
END:VEVENT
BEGIN:VEVENT
DTSTART;TZID=America/New_York:20280514T110000
DTEND;TZID=America/New_York:20280514T121500
DTSTAMP:20260425T235240
CREATED:20231109T151623Z
LAST-MODIFIED:20231109T151626Z
UID:10000270-1841914800-1841919300@www.a2blue.org
SUMMARY:Sunday Hybrid Service
DESCRIPTION:We hold in-person/Zoom hybrid services every Sunday at 11am ET. We meet in the social hall of St. Clare’s Episcopal Church/Temple Beth Emeth. More information can be found on our Sunday Services page. If this is your first time visiting us in person\, detailed directions for getting here are available on our Where & When page.
URL:https://www.a2blue.org/event/sunday-hybrid-service-4/2028-05-14/
LOCATION:St. Clare/Temple Beth Emeth Social Hall\, 2309 Packard Street\, Ann Arbor\, MI\, 48104\, United States
CATEGORIES:services
END:VEVENT
BEGIN:VEVENT
DTSTART;TZID=America/New_York:20280514T120000
DTEND;TZID=America/New_York:20280514T130000
DTSTAMP:20260425T235240
CREATED:20240822T194825Z
LAST-MODIFIED:20240822T194848Z
UID:10000773-1841918400-1841922000@www.a2blue.org
SUMMARY:Donuts After Church
DESCRIPTION:Join us immediately after church for donuts and coffee from Washtenaw Dairy.
URL:https://www.a2blue.org/event/donuts-after-church-2-3/2028-05-14/
LOCATION:St. Clare/Temple Beth Emeth Social Hall\, 2309 Packard Street\, Ann Arbor\, MI\, 48104\, United States
CATEGORIES:connection
END:VEVENT
BEGIN:VEVENT
DTSTART;TZID=America/New_York:20280521T110000
DTEND;TZID=America/New_York:20280521T121500
DTSTAMP:20260425T235240
CREATED:20231109T151623Z
LAST-MODIFIED:20231109T151626Z
UID:10001196-1842519600-1842524100@www.a2blue.org
SUMMARY:Sunday Hybrid Service
DESCRIPTION:We hold in-person/Zoom hybrid services every Sunday at 11am ET. We meet in the social hall of St. Clare’s Episcopal Church/Temple Beth Emeth. More information can be found on our Sunday Services page. If this is your first time visiting us in person\, detailed directions for getting here are available on our Where & When page.
URL:https://www.a2blue.org/event/sunday-hybrid-service-4/2028-05-21/
LOCATION:St. Clare/Temple Beth Emeth Social Hall\, 2309 Packard Street\, Ann Arbor\, MI\, 48104\, United States
CATEGORIES:services
END:VEVENT
BEGIN:VEVENT
DTSTART;TZID=America/New_York:20280521T120000
DTEND;TZID=America/New_York:20280521T130000
DTSTAMP:20260425T235240
CREATED:20240822T194825Z
LAST-MODIFIED:20240822T194848Z
UID:10002325-1842523200-1842526800@www.a2blue.org
SUMMARY:Donuts After Church
DESCRIPTION:Join us immediately after church for donuts and coffee from Washtenaw Dairy.
URL:https://www.a2blue.org/event/donuts-after-church-2-3/2028-05-21/
LOCATION:St. Clare/Temple Beth Emeth Social Hall\, 2309 Packard Street\, Ann Arbor\, MI\, 48104\, United States
CATEGORIES:connection
END:VEVENT
BEGIN:VEVENT
DTSTART;TZID=America/New_York:20280528T110000
DTEND;TZID=America/New_York:20280528T121500
DTSTAMP:20260425T235240
CREATED:20231109T151623Z
LAST-MODIFIED:20231109T151626Z
UID:10001197-1843124400-1843128900@www.a2blue.org
SUMMARY:Sunday Hybrid Service
DESCRIPTION:We hold in-person/Zoom hybrid services every Sunday at 11am ET. We meet in the social hall of St. Clare’s Episcopal Church/Temple Beth Emeth. More information can be found on our Sunday Services page. If this is your first time visiting us in person\, detailed directions for getting here are available on our Where & When page.
URL:https://www.a2blue.org/event/sunday-hybrid-service-4/2028-05-28/
LOCATION:St. Clare/Temple Beth Emeth Social Hall\, 2309 Packard Street\, Ann Arbor\, MI\, 48104\, United States
CATEGORIES:services
END:VEVENT
BEGIN:VEVENT
DTSTART;TZID=America/New_York:20280528T120000
DTEND;TZID=America/New_York:20280528T130000
DTSTAMP:20260425T235240
CREATED:20240822T194825Z
LAST-MODIFIED:20240822T194848Z
UID:10000774-1843128000-1843131600@www.a2blue.org
SUMMARY:Donuts After Church
DESCRIPTION:Join us immediately after church for donuts and coffee from Washtenaw Dairy.
URL:https://www.a2blue.org/event/donuts-after-church-2-3/2028-05-28/
LOCATION:St. Clare/Temple Beth Emeth Social Hall\, 2309 Packard Street\, Ann Arbor\, MI\, 48104\, United States
CATEGORIES:connection
END:VEVENT
BEGIN:VEVENT
DTSTART;TZID=America/New_York:20280604T110000
DTEND;TZID=America/New_York:20280604T121500
DTSTAMP:20260425T235240
CREATED:20231109T151623Z
LAST-MODIFIED:20231109T151626Z
UID:10001198-1843729200-1843733700@www.a2blue.org
SUMMARY:Sunday Hybrid Service
DESCRIPTION:We hold in-person/Zoom hybrid services every Sunday at 11am ET. We meet in the social hall of St. Clare’s Episcopal Church/Temple Beth Emeth. More information can be found on our Sunday Services page. If this is your first time visiting us in person\, detailed directions for getting here are available on our Where & When page.
URL:https://www.a2blue.org/event/sunday-hybrid-service-4/2028-06-04/
LOCATION:St. Clare/Temple Beth Emeth Social Hall\, 2309 Packard Street\, Ann Arbor\, MI\, 48104\, United States
CATEGORIES:services
END:VEVENT
BEGIN:VEVENT
DTSTART;TZID=America/New_York:20280604T120000
DTEND;TZID=America/New_York:20280604T130000
DTSTAMP:20260425T235240
CREATED:20240822T194825Z
LAST-MODIFIED:20240822T194848Z
UID:10002326-1843732800-1843736400@www.a2blue.org
SUMMARY:Donuts After Church
DESCRIPTION:Join us immediately after church for donuts and coffee from Washtenaw Dairy.
URL:https://www.a2blue.org/event/donuts-after-church-2-3/2028-06-04/
LOCATION:St. Clare/Temple Beth Emeth Social Hall\, 2309 Packard Street\, Ann Arbor\, MI\, 48104\, United States
CATEGORIES:connection
END:VEVENT
BEGIN:VEVENT
DTSTART;TZID=America/New_York:20280611T110000
DTEND;TZID=America/New_York:20280611T121500
DTSTAMP:20260425T235240
CREATED:20231109T151623Z
LAST-MODIFIED:20231109T151626Z
UID:10001199-1844334000-1844338500@www.a2blue.org
SUMMARY:Sunday Hybrid Service
DESCRIPTION:We hold in-person/Zoom hybrid services every Sunday at 11am ET. We meet in the social hall of St. Clare’s Episcopal Church/Temple Beth Emeth. More information can be found on our Sunday Services page. If this is your first time visiting us in person\, detailed directions for getting here are available on our Where & When page.
URL:https://www.a2blue.org/event/sunday-hybrid-service-4/2028-06-11/
LOCATION:St. Clare/Temple Beth Emeth Social Hall\, 2309 Packard Street\, Ann Arbor\, MI\, 48104\, United States
CATEGORIES:services
END:VEVENT
BEGIN:VEVENT
DTSTART;TZID=America/New_York:20280611T120000
DTEND;TZID=America/New_York:20280611T130000
DTSTAMP:20260425T235240
CREATED:20240822T194825Z
LAST-MODIFIED:20240822T194848Z
UID:10000775-1844337600-1844341200@www.a2blue.org
SUMMARY:Donuts After Church
DESCRIPTION:Join us immediately after church for donuts and coffee from Washtenaw Dairy.
URL:https://www.a2blue.org/event/donuts-after-church-2-3/2028-06-11/
LOCATION:St. Clare/Temple Beth Emeth Social Hall\, 2309 Packard Street\, Ann Arbor\, MI\, 48104\, United States
CATEGORIES:connection
END:VEVENT
BEGIN:VEVENT
DTSTART;TZID=America/New_York:20280618T110000
DTEND;TZID=America/New_York:20280618T121500
DTSTAMP:20260425T235240
CREATED:20231109T151623Z
LAST-MODIFIED:20231109T151626Z
UID:10001200-1844938800-1844943300@www.a2blue.org
SUMMARY:Sunday Hybrid Service
DESCRIPTION:We hold in-person/Zoom hybrid services every Sunday at 11am ET. We meet in the social hall of St. Clare’s Episcopal Church/Temple Beth Emeth. More information can be found on our Sunday Services page. If this is your first time visiting us in person\, detailed directions for getting here are available on our Where & When page.
URL:https://www.a2blue.org/event/sunday-hybrid-service-4/2028-06-18/
LOCATION:St. Clare/Temple Beth Emeth Social Hall\, 2309 Packard Street\, Ann Arbor\, MI\, 48104\, United States
CATEGORIES:services
END:VEVENT
BEGIN:VEVENT
DTSTART;TZID=America/New_York:20280618T120000
DTEND;TZID=America/New_York:20280618T130000
DTSTAMP:20260425T235240
CREATED:20240822T194825Z
LAST-MODIFIED:20240822T194848Z
UID:10002327-1844942400-1844946000@www.a2blue.org
SUMMARY:Donuts After Church
DESCRIPTION:Join us immediately after church for donuts and coffee from Washtenaw Dairy.
URL:https://www.a2blue.org/event/donuts-after-church-2-3/2028-06-18/
LOCATION:St. Clare/Temple Beth Emeth Social Hall\, 2309 Packard Street\, Ann Arbor\, MI\, 48104\, United States
CATEGORIES:connection
END:VEVENT
BEGIN:VEVENT
DTSTART;TZID=America/New_York:20280625T110000
DTEND;TZID=America/New_York:20280625T121500
DTSTAMP:20260425T235240
CREATED:20231109T151623Z
LAST-MODIFIED:20231109T151626Z
UID:10001201-1845543600-1845548100@www.a2blue.org
SUMMARY:Sunday Hybrid Service
DESCRIPTION:We hold in-person/Zoom hybrid services every Sunday at 11am ET. We meet in the social hall of St. Clare’s Episcopal Church/Temple Beth Emeth. More information can be found on our Sunday Services page. If this is your first time visiting us in person\, detailed directions for getting here are available on our Where & When page.
URL:https://www.a2blue.org/event/sunday-hybrid-service-4/2028-06-25/
LOCATION:St. Clare/Temple Beth Emeth Social Hall\, 2309 Packard Street\, Ann Arbor\, MI\, 48104\, United States
CATEGORIES:services
END:VEVENT
BEGIN:VEVENT
DTSTART;TZID=America/New_York:20280625T120000
DTEND;TZID=America/New_York:20280625T130000
DTSTAMP:20260425T235240
CREATED:20240822T194825Z
LAST-MODIFIED:20240822T194848Z
UID:10000776-1845547200-1845550800@www.a2blue.org
SUMMARY:Donuts After Church
DESCRIPTION:Join us immediately after church for donuts and coffee from Washtenaw Dairy.
URL:https://www.a2blue.org/event/donuts-after-church-2-3/2028-06-25/
LOCATION:St. Clare/Temple Beth Emeth Social Hall\, 2309 Packard Street\, Ann Arbor\, MI\, 48104\, United States
CATEGORIES:connection
END:VEVENT
BEGIN:VEVENT
DTSTART;TZID=America/New_York:20280702T110000
DTEND;TZID=America/New_York:20280702T121500
DTSTAMP:20260425T235240
CREATED:20231109T151623Z
LAST-MODIFIED:20231109T151626Z
UID:10001202-1846148400-1846152900@www.a2blue.org
SUMMARY:Sunday Hybrid Service
DESCRIPTION:We hold in-person/Zoom hybrid services every Sunday at 11am ET. We meet in the social hall of St. Clare’s Episcopal Church/Temple Beth Emeth. More information can be found on our Sunday Services page. If this is your first time visiting us in person\, detailed directions for getting here are available on our Where & When page.
URL:https://www.a2blue.org/event/sunday-hybrid-service-4/2028-07-02/
LOCATION:St. Clare/Temple Beth Emeth Social Hall\, 2309 Packard Street\, Ann Arbor\, MI\, 48104\, United States
CATEGORIES:services
END:VEVENT
BEGIN:VEVENT
DTSTART;TZID=America/New_York:20280702T120000
DTEND;TZID=America/New_York:20280702T130000
DTSTAMP:20260425T235240
CREATED:20240822T194825Z
LAST-MODIFIED:20240822T194848Z
UID:10002328-1846152000-1846155600@www.a2blue.org
SUMMARY:Donuts After Church
DESCRIPTION:Join us immediately after church for donuts and coffee from Washtenaw Dairy.
URL:https://www.a2blue.org/event/donuts-after-church-2-3/2028-07-02/
LOCATION:St. Clare/Temple Beth Emeth Social Hall\, 2309 Packard Street\, Ann Arbor\, MI\, 48104\, United States
CATEGORIES:connection
END:VEVENT
BEGIN:VEVENT
DTSTART;TZID=America/New_York:20280709T110000
DTEND;TZID=America/New_York:20280709T121500
DTSTAMP:20260425T235240
CREATED:20231109T151623Z
LAST-MODIFIED:20231109T151626Z
UID:10001203-1846753200-1846757700@www.a2blue.org
SUMMARY:Sunday Hybrid Service
DESCRIPTION:We hold in-person/Zoom hybrid services every Sunday at 11am ET. We meet in the social hall of St. Clare’s Episcopal Church/Temple Beth Emeth. More information can be found on our Sunday Services page. If this is your first time visiting us in person\, detailed directions for getting here are available on our Where & When page.
URL:https://www.a2blue.org/event/sunday-hybrid-service-4/2028-07-09/
LOCATION:St. Clare/Temple Beth Emeth Social Hall\, 2309 Packard Street\, Ann Arbor\, MI\, 48104\, United States
CATEGORIES:services
END:VEVENT
BEGIN:VEVENT
DTSTART;TZID=America/New_York:20280709T120000
DTEND;TZID=America/New_York:20280709T130000
DTSTAMP:20260425T235240
CREATED:20240822T194825Z
LAST-MODIFIED:20240822T194848Z
UID:10000777-1846756800-1846760400@www.a2blue.org
SUMMARY:Donuts After Church
DESCRIPTION:Join us immediately after church for donuts and coffee from Washtenaw Dairy.
URL:https://www.a2blue.org/event/donuts-after-church-2-3/2028-07-09/
LOCATION:St. Clare/Temple Beth Emeth Social Hall\, 2309 Packard Street\, Ann Arbor\, MI\, 48104\, United States
CATEGORIES:connection
END:VEVENT
BEGIN:VEVENT
DTSTART;TZID=America/New_York:20280716T110000
DTEND;TZID=America/New_York:20280716T121500
DTSTAMP:20260425T235240
CREATED:20231109T151623Z
LAST-MODIFIED:20231109T151626Z
UID:10001204-1847358000-1847362500@www.a2blue.org
SUMMARY:Sunday Hybrid Service
DESCRIPTION:We hold in-person/Zoom hybrid services every Sunday at 11am ET. We meet in the social hall of St. Clare’s Episcopal Church/Temple Beth Emeth. More information can be found on our Sunday Services page. If this is your first time visiting us in person\, detailed directions for getting here are available on our Where & When page.
URL:https://www.a2blue.org/event/sunday-hybrid-service-4/2028-07-16/
LOCATION:St. Clare/Temple Beth Emeth Social Hall\, 2309 Packard Street\, Ann Arbor\, MI\, 48104\, United States
CATEGORIES:services
END:VEVENT
BEGIN:VEVENT
DTSTART;TZID=America/New_York:20280716T120000
DTEND;TZID=America/New_York:20280716T130000
DTSTAMP:20260425T235240
CREATED:20240822T194825Z
LAST-MODIFIED:20240822T194848Z
UID:10002329-1847361600-1847365200@www.a2blue.org
SUMMARY:Donuts After Church
DESCRIPTION:Join us immediately after church for donuts and coffee from Washtenaw Dairy.
URL:https://www.a2blue.org/event/donuts-after-church-2-3/2028-07-16/
LOCATION:St. Clare/Temple Beth Emeth Social Hall\, 2309 Packard Street\, Ann Arbor\, MI\, 48104\, United States
CATEGORIES:connection
END:VEVENT
END:VCALENDAR