BEGIN:VCALENDAR
VERSION:2.0
PRODID:-//Blue Ocean Church Ann Arbor - ECPv6.15.20//NONSGML v1.0//EN
CALSCALE:GREGORIAN
METHOD:PUBLISH
X-WR-CALNAME:Blue Ocean Church Ann Arbor
X-ORIGINAL-URL:https://www.a2blue.org
X-WR-CALDESC:Events for Blue Ocean Church Ann Arbor
REFRESH-INTERVAL;VALUE=DURATION:PT1H
X-Robots-Tag:noindex
X-PUBLISHED-TTL:PT1H
BEGIN:VTIMEZONE
TZID:America/New_York
BEGIN:DAYLIGHT
TZOFFSETFROM:-0500
TZOFFSETTO:-0400
TZNAME:EDT
DTSTART:20230312T070000
END:DAYLIGHT
BEGIN:STANDARD
TZOFFSETFROM:-0400
TZOFFSETTO:-0500
TZNAME:EST
DTSTART:20231105T060000
END:STANDARD
BEGIN:DAYLIGHT
TZOFFSETFROM:-0500
TZOFFSETTO:-0400
TZNAME:EDT
DTSTART:20240310T070000
END:DAYLIGHT
BEGIN:STANDARD
TZOFFSETFROM:-0400
TZOFFSETTO:-0500
TZNAME:EST
DTSTART:20241103T060000
END:STANDARD
BEGIN:DAYLIGHT
TZOFFSETFROM:-0500
TZOFFSETTO:-0400
TZNAME:EDT
DTSTART:20250309T070000
END:DAYLIGHT
BEGIN:STANDARD
TZOFFSETFROM:-0400
TZOFFSETTO:-0500
TZNAME:EST
DTSTART:20251102T060000
END:STANDARD
END:VTIMEZONE
BEGIN:VEVENT
DTSTART;TZID=America/New_York:20240414T200000
DTEND;TZID=America/New_York:20240414T203000
DTSTAMP:20260425T161728
CREATED:20230929T164931Z
LAST-MODIFIED:20230929T164931Z
UID:10001248-1713124800-1713126600@www.a2blue.org
SUMMARY:Sunday Evening Prayer Group
DESCRIPTION:Join via Zoom for a half hour of readings\, music\, and shared silence. Email nancyogilvie@gmail.com for the Zoom link.
URL:https://www.a2blue.org/event/sunday-evening-prayer-group/2024-04-14/
LOCATION:Virtual Zoom Meeting
CATEGORIES:Zoom
END:VEVENT
BEGIN:VEVENT
DTSTART;TZID=America/New_York:20240407T200000
DTEND;TZID=America/New_York:20240407T203000
DTSTAMP:20260425T161728
CREATED:20230929T164931Z
LAST-MODIFIED:20230929T164931Z
UID:10001247-1712520000-1712521800@www.a2blue.org
SUMMARY:Sunday Evening Prayer Group
DESCRIPTION:Join via Zoom for a half hour of readings\, music\, and shared silence. Email nancyogilvie@gmail.com for the Zoom link.
URL:https://www.a2blue.org/event/sunday-evening-prayer-group/2024-04-07/
LOCATION:Virtual Zoom Meeting
CATEGORIES:Zoom
END:VEVENT
BEGIN:VEVENT
DTSTART;TZID=America/New_York:20240331T200000
DTEND;TZID=America/New_York:20240331T203000
DTSTAMP:20260425T161728
CREATED:20230929T164931Z
LAST-MODIFIED:20230929T164931Z
UID:10001246-1711915200-1711917000@www.a2blue.org
SUMMARY:Sunday Evening Prayer Group
DESCRIPTION:Join via Zoom for a half hour of readings\, music\, and shared silence. Email nancyogilvie@gmail.com for the Zoom link.
URL:https://www.a2blue.org/event/sunday-evening-prayer-group/2024-03-31/
LOCATION:Virtual Zoom Meeting
CATEGORIES:Zoom
END:VEVENT
BEGIN:VEVENT
DTSTART;TZID=America/New_York:20240329T090000
DTEND;TZID=America/New_York:20240329T093000
DTSTAMP:20260425T161728
CREATED:20240220T174635Z
LAST-MODIFIED:20240220T174635Z
UID:10001674-1711702800-1711704600@www.a2blue.org
SUMMARY:Bowl of Prayers: Online Morning Prayer
DESCRIPTION:Twenty minute online prayer service–part of our Bowl of Prayers Lenten online prayer series. Join for as many or as few as you like. Contact office@a2blue.org for a Zoom link. Friday meetings are at 9AM ET.
URL:https://www.a2blue.org/event/bowl-of-prayers-online-morning-prayer/2024-03-29/
LOCATION:Virtual Zoom Meeting
CATEGORIES:Zoom
END:VEVENT
BEGIN:VEVENT
DTSTART;TZID=America/New_York:20240328T200000
DTEND;TZID=America/New_York:20240328T210000
DTSTAMP:20260425T161728
CREATED:20240202T215713Z
LAST-MODIFIED:20240202T220329Z
UID:10001530-1711656000-1711659600@www.a2blue.org
SUMMARY:Translocal Connection (TLC) Game Night
DESCRIPTION:The Translocal Connection (TLC) group meets twice monthly on Zoom—after church on the 2nd Sunday of the month for deeper discussion\, and on the 4th Thursday of the month at 8pm ET for online games. All are welcome. Email the church office or Caroline Kittle for a Zoom link.
URL:https://www.a2blue.org/event/translocal-connection-tlc-game-night-2/
LOCATION:Virtual Zoom Meeting
CATEGORIES:connection,Zoom
END:VEVENT
BEGIN:VEVENT
DTSTART;TZID=America/New_York:20240327T140000
DTEND;TZID=America/New_York:20240327T143000
DTSTAMP:20260425T161728
CREATED:20240220T175934Z
LAST-MODIFIED:20240220T175934Z
UID:10001686-1711548000-1711549800@www.a2blue.org
SUMMARY:Bowl of Prayers: Online Midday Prayer
DESCRIPTION:Twenty minute online prayer service–part of our Bowl of Prayers Lenten online prayer series. Join for as many or as few as you like. Contact office@a2blue.org for a Zoom link. Wednesday meetings are at 2pm ET.
URL:https://www.a2blue.org/event/bowl-of-prayers-online-midday-prayer/2024-03-27/
LOCATION:Virtual Zoom Meeting
CATEGORIES:Zoom
END:VEVENT
BEGIN:VEVENT
DTSTART;TZID=America/New_York:20240325T190000
DTEND;TZID=America/New_York:20240325T193000
DTSTAMP:20260425T161728
CREATED:20240220T175127Z
LAST-MODIFIED:20240220T175242Z
UID:10001680-1711393200-1711395000@www.a2blue.org
SUMMARY:Bowl of Prayers: Online Vespers
DESCRIPTION:Twenty minute online prayer service–part of our Bowl of Prayers Lenten online prayer series. Join for as many or as few as you like. Contact office@a2blue.org for a Zoom link. Monday meetings are at 7pm ET.
URL:https://www.a2blue.org/event/bowl-of-prayers-online-vespers/2024-03-25/
LOCATION:Virtual Zoom Meeting
CATEGORIES:Zoom
END:VEVENT
BEGIN:VEVENT
DTSTART;TZID=America/New_York:20240324T200000
DTEND;TZID=America/New_York:20240324T203000
DTSTAMP:20260425T161728
CREATED:20230929T164931Z
LAST-MODIFIED:20230929T164931Z
UID:10001245-1711310400-1711312200@www.a2blue.org
SUMMARY:Sunday Evening Prayer Group
DESCRIPTION:Join via Zoom for a half hour of readings\, music\, and shared silence. Email nancyogilvie@gmail.com for the Zoom link.
URL:https://www.a2blue.org/event/sunday-evening-prayer-group/2024-03-24/
LOCATION:Virtual Zoom Meeting
CATEGORIES:Zoom
END:VEVENT
BEGIN:VEVENT
DTSTART;TZID=America/New_York:20240322T090000
DTEND;TZID=America/New_York:20240322T093000
DTSTAMP:20260425T161728
CREATED:20240220T174635Z
LAST-MODIFIED:20240220T174635Z
UID:10001673-1711098000-1711099800@www.a2blue.org
SUMMARY:Bowl of Prayers: Online Morning Prayer
DESCRIPTION:Twenty minute online prayer service–part of our Bowl of Prayers Lenten online prayer series. Join for as many or as few as you like. Contact office@a2blue.org for a Zoom link. Friday meetings are at 9AM ET.
URL:https://www.a2blue.org/event/bowl-of-prayers-online-morning-prayer/2024-03-22/
LOCATION:Virtual Zoom Meeting
CATEGORIES:Zoom
END:VEVENT
BEGIN:VEVENT
DTSTART;TZID=America/New_York:20240320T140000
DTEND;TZID=America/New_York:20240320T143000
DTSTAMP:20260425T161728
CREATED:20240220T175934Z
LAST-MODIFIED:20240220T175934Z
UID:10001685-1710943200-1710945000@www.a2blue.org
SUMMARY:Bowl of Prayers: Online Midday Prayer
DESCRIPTION:Twenty minute online prayer service–part of our Bowl of Prayers Lenten online prayer series. Join for as many or as few as you like. Contact office@a2blue.org for a Zoom link. Wednesday meetings are at 2pm ET.
URL:https://www.a2blue.org/event/bowl-of-prayers-online-midday-prayer/2024-03-20/
LOCATION:Virtual Zoom Meeting
CATEGORIES:Zoom
END:VEVENT
BEGIN:VEVENT
DTSTART;TZID=America/New_York:20240318T190000
DTEND;TZID=America/New_York:20240318T193000
DTSTAMP:20260425T161728
CREATED:20240220T175127Z
LAST-MODIFIED:20240220T175242Z
UID:10001679-1710788400-1710790200@www.a2blue.org
SUMMARY:Bowl of Prayers: Online Vespers
DESCRIPTION:Twenty minute online prayer service–part of our Bowl of Prayers Lenten online prayer series. Join for as many or as few as you like. Contact office@a2blue.org for a Zoom link. Monday meetings are at 7pm ET.
URL:https://www.a2blue.org/event/bowl-of-prayers-online-vespers/2024-03-18/
LOCATION:Virtual Zoom Meeting
CATEGORIES:Zoom
END:VEVENT
BEGIN:VEVENT
DTSTART;TZID=America/New_York:20240317T200000
DTEND;TZID=America/New_York:20240317T203000
DTSTAMP:20260425T161728
CREATED:20230929T164931Z
LAST-MODIFIED:20230929T164931Z
UID:10001244-1710705600-1710707400@www.a2blue.org
SUMMARY:Sunday Evening Prayer Group
DESCRIPTION:Join via Zoom for a half hour of readings\, music\, and shared silence. Email nancyogilvie@gmail.com for the Zoom link.
URL:https://www.a2blue.org/event/sunday-evening-prayer-group/2024-03-17/
LOCATION:Virtual Zoom Meeting
CATEGORIES:Zoom
END:VEVENT
BEGIN:VEVENT
DTSTART;TZID=America/New_York:20240315T090000
DTEND;TZID=America/New_York:20240315T093000
DTSTAMP:20260425T161728
CREATED:20240220T174635Z
LAST-MODIFIED:20240220T174635Z
UID:10001672-1710493200-1710495000@www.a2blue.org
SUMMARY:Bowl of Prayers: Online Morning Prayer
DESCRIPTION:Twenty minute online prayer service–part of our Bowl of Prayers Lenten online prayer series. Join for as many or as few as you like. Contact office@a2blue.org for a Zoom link. Friday meetings are at 9AM ET.
URL:https://www.a2blue.org/event/bowl-of-prayers-online-morning-prayer/2024-03-15/
LOCATION:Virtual Zoom Meeting
CATEGORIES:Zoom
END:VEVENT
BEGIN:VEVENT
DTSTART;TZID=America/New_York:20240313T140000
DTEND;TZID=America/New_York:20240313T143000
DTSTAMP:20260425T161728
CREATED:20240220T175934Z
LAST-MODIFIED:20240220T175934Z
UID:10001684-1710338400-1710340200@www.a2blue.org
SUMMARY:Bowl of Prayers: Online Midday Prayer
DESCRIPTION:Twenty minute online prayer service–part of our Bowl of Prayers Lenten online prayer series. Join for as many or as few as you like. Contact office@a2blue.org for a Zoom link. Wednesday meetings are at 2pm ET.
URL:https://www.a2blue.org/event/bowl-of-prayers-online-midday-prayer/2024-03-13/
LOCATION:Virtual Zoom Meeting
CATEGORIES:Zoom
END:VEVENT
BEGIN:VEVENT
DTSTART;TZID=America/New_York:20240311T190000
DTEND;TZID=America/New_York:20240311T193000
DTSTAMP:20260425T161728
CREATED:20240220T175127Z
LAST-MODIFIED:20240220T175242Z
UID:10001678-1710183600-1710185400@www.a2blue.org
SUMMARY:Bowl of Prayers: Online Vespers
DESCRIPTION:Twenty minute online prayer service–part of our Bowl of Prayers Lenten online prayer series. Join for as many or as few as you like. Contact office@a2blue.org for a Zoom link. Monday meetings are at 7pm ET.
URL:https://www.a2blue.org/event/bowl-of-prayers-online-vespers/2024-03-11/
LOCATION:Virtual Zoom Meeting
CATEGORIES:Zoom
END:VEVENT
BEGIN:VEVENT
DTSTART;TZID=America/New_York:20240310T200000
DTEND;TZID=America/New_York:20240310T203000
DTSTAMP:20260425T161728
CREATED:20230929T164931Z
LAST-MODIFIED:20230929T164931Z
UID:10001243-1710100800-1710102600@www.a2blue.org
SUMMARY:Sunday Evening Prayer Group
DESCRIPTION:Join via Zoom for a half hour of readings\, music\, and shared silence. Email nancyogilvie@gmail.com for the Zoom link.
URL:https://www.a2blue.org/event/sunday-evening-prayer-group/2024-03-10/
LOCATION:Virtual Zoom Meeting
CATEGORIES:Zoom
END:VEVENT
BEGIN:VEVENT
DTSTART;TZID=America/New_York:20240308T090000
DTEND;TZID=America/New_York:20240308T093000
DTSTAMP:20260425T161728
CREATED:20240220T174635Z
LAST-MODIFIED:20240220T174635Z
UID:10001671-1709888400-1709890200@www.a2blue.org
SUMMARY:Bowl of Prayers: Online Morning Prayer
DESCRIPTION:Twenty minute online prayer service–part of our Bowl of Prayers Lenten online prayer series. Join for as many or as few as you like. Contact office@a2blue.org for a Zoom link. Friday meetings are at 9AM ET.
URL:https://www.a2blue.org/event/bowl-of-prayers-online-morning-prayer/2024-03-08/
LOCATION:Virtual Zoom Meeting
CATEGORIES:Zoom
END:VEVENT
BEGIN:VEVENT
DTSTART;TZID=America/New_York:20240306T140000
DTEND;TZID=America/New_York:20240306T143000
DTSTAMP:20260425T161728
CREATED:20240220T175934Z
LAST-MODIFIED:20240220T175934Z
UID:10001683-1709733600-1709735400@www.a2blue.org
SUMMARY:Bowl of Prayers: Online Midday Prayer
DESCRIPTION:Twenty minute online prayer service–part of our Bowl of Prayers Lenten online prayer series. Join for as many or as few as you like. Contact office@a2blue.org for a Zoom link. Wednesday meetings are at 2pm ET.
URL:https://www.a2blue.org/event/bowl-of-prayers-online-midday-prayer/2024-03-06/
LOCATION:Virtual Zoom Meeting
CATEGORIES:Zoom
END:VEVENT
BEGIN:VEVENT
DTSTART;TZID=America/New_York:20240304T190000
DTEND;TZID=America/New_York:20240304T193000
DTSTAMP:20260425T161728
CREATED:20240220T175127Z
LAST-MODIFIED:20240220T175242Z
UID:10001677-1709578800-1709580600@www.a2blue.org
SUMMARY:Bowl of Prayers: Online Vespers
DESCRIPTION:Twenty minute online prayer service–part of our Bowl of Prayers Lenten online prayer series. Join for as many or as few as you like. Contact office@a2blue.org for a Zoom link. Monday meetings are at 7pm ET.
URL:https://www.a2blue.org/event/bowl-of-prayers-online-vespers/2024-03-04/
LOCATION:Virtual Zoom Meeting
CATEGORIES:Zoom
END:VEVENT
BEGIN:VEVENT
DTSTART;TZID=America/New_York:20240303T200000
DTEND;TZID=America/New_York:20240303T203000
DTSTAMP:20260425T161728
CREATED:20230929T164931Z
LAST-MODIFIED:20230929T164931Z
UID:10001242-1709496000-1709497800@www.a2blue.org
SUMMARY:Sunday Evening Prayer Group
DESCRIPTION:Join via Zoom for a half hour of readings\, music\, and shared silence. Email nancyogilvie@gmail.com for the Zoom link.
URL:https://www.a2blue.org/event/sunday-evening-prayer-group/2024-03-03/
LOCATION:Virtual Zoom Meeting
CATEGORIES:Zoom
END:VEVENT
BEGIN:VEVENT
DTSTART;TZID=America/New_York:20240301T090000
DTEND;TZID=America/New_York:20240301T093000
DTSTAMP:20260425T161728
CREATED:20240220T174635Z
LAST-MODIFIED:20240220T174635Z
UID:10001670-1709283600-1709285400@www.a2blue.org
SUMMARY:Bowl of Prayers: Online Morning Prayer
DESCRIPTION:Twenty minute online prayer service–part of our Bowl of Prayers Lenten online prayer series. Join for as many or as few as you like. Contact office@a2blue.org for a Zoom link. Friday meetings are at 9AM ET.
URL:https://www.a2blue.org/event/bowl-of-prayers-online-morning-prayer/2024-03-01/
LOCATION:Virtual Zoom Meeting
CATEGORIES:Zoom
END:VEVENT
BEGIN:VEVENT
DTSTART;TZID=America/New_York:20240228T140000
DTEND;TZID=America/New_York:20240228T143000
DTSTAMP:20260425T161728
CREATED:20240220T175934Z
LAST-MODIFIED:20240220T175934Z
UID:10001682-1709128800-1709130600@www.a2blue.org
SUMMARY:Bowl of Prayers: Online Midday Prayer
DESCRIPTION:Twenty minute online prayer service–part of our Bowl of Prayers Lenten online prayer series. Join for as many or as few as you like. Contact office@a2blue.org for a Zoom link. Wednesday meetings are at 2pm ET.
URL:https://www.a2blue.org/event/bowl-of-prayers-online-midday-prayer/2024-02-28/
LOCATION:Virtual Zoom Meeting
CATEGORIES:Zoom
END:VEVENT
BEGIN:VEVENT
DTSTART;TZID=America/New_York:20240226T190000
DTEND;TZID=America/New_York:20240226T193000
DTSTAMP:20260425T161728
CREATED:20240220T175127Z
LAST-MODIFIED:20240220T175242Z
UID:10001676-1708974000-1708975800@www.a2blue.org
SUMMARY:Bowl of Prayers: Online Vespers
DESCRIPTION:Twenty minute online prayer service–part of our Bowl of Prayers Lenten online prayer series. Join for as many or as few as you like. Contact office@a2blue.org for a Zoom link. Monday meetings are at 7pm ET.
URL:https://www.a2blue.org/event/bowl-of-prayers-online-vespers/2024-02-26/
LOCATION:Virtual Zoom Meeting
CATEGORIES:Zoom
END:VEVENT
BEGIN:VEVENT
DTSTART;TZID=America/New_York:20240225T200000
DTEND;TZID=America/New_York:20240225T203000
DTSTAMP:20260425T161728
CREATED:20230929T164931Z
LAST-MODIFIED:20230929T164931Z
UID:10001241-1708891200-1708893000@www.a2blue.org
SUMMARY:Sunday Evening Prayer Group
DESCRIPTION:Join via Zoom for a half hour of readings\, music\, and shared silence. Email nancyogilvie@gmail.com for the Zoom link.
URL:https://www.a2blue.org/event/sunday-evening-prayer-group/2024-02-25/
LOCATION:Virtual Zoom Meeting
CATEGORIES:Zoom
END:VEVENT
BEGIN:VEVENT
DTSTART;TZID=America/New_York:20240223T090000
DTEND;TZID=America/New_York:20240223T093000
DTSTAMP:20260425T161728
CREATED:20240220T174635Z
LAST-MODIFIED:20240220T174635Z
UID:10001669-1708678800-1708680600@www.a2blue.org
SUMMARY:Bowl of Prayers: Online Morning Prayer
DESCRIPTION:Twenty minute online prayer service–part of our Bowl of Prayers Lenten online prayer series. Join for as many or as few as you like. Contact office@a2blue.org for a Zoom link. Friday meetings are at 9AM ET.
URL:https://www.a2blue.org/event/bowl-of-prayers-online-morning-prayer/2024-02-23/
LOCATION:Virtual Zoom Meeting
CATEGORIES:Zoom
END:VEVENT
BEGIN:VEVENT
DTSTART;TZID=America/New_York:20240222T200000
DTEND;TZID=America/New_York:20240222T210000
DTSTAMP:20260425T161728
CREATED:20240202T215011Z
LAST-MODIFIED:20240202T220146Z
UID:10001529-1708632000-1708635600@www.a2blue.org
SUMMARY:Translocal Connection (TLC) Game Night
DESCRIPTION:The Translocal Connection (TLC) group meets twice monthly on Zoom—after church on the 2nd Sunday of the month for deeper discussion\, and on the 4th Thursday of the month at 8pm ET for online games. All are welcome. Email the church office or Caroline Kittle for a Zoom link.
URL:https://www.a2blue.org/event/translocal-connection-tlc-game-night/2024-02-22/
LOCATION:Virtual Zoom Meeting
CATEGORIES:connection,Zoom
END:VEVENT
BEGIN:VEVENT
DTSTART;TZID=America/New_York:20240221T140000
DTEND;TZID=America/New_York:20240221T143000
DTSTAMP:20260425T161728
CREATED:20240220T175934Z
LAST-MODIFIED:20240220T175934Z
UID:10001681-1708524000-1708525800@www.a2blue.org
SUMMARY:Bowl of Prayers: Online Midday Prayer
DESCRIPTION:Twenty minute online prayer service–part of our Bowl of Prayers Lenten online prayer series. Join for as many or as few as you like. Contact office@a2blue.org for a Zoom link. Wednesday meetings are at 2pm ET.
URL:https://www.a2blue.org/event/bowl-of-prayers-online-midday-prayer/2024-02-21/
LOCATION:Virtual Zoom Meeting
CATEGORIES:Zoom
END:VEVENT
BEGIN:VEVENT
DTSTART;TZID=America/New_York:20240219T190000
DTEND;TZID=America/New_York:20240219T193000
DTSTAMP:20260425T161728
CREATED:20240220T175127Z
LAST-MODIFIED:20240220T175242Z
UID:10001675-1708369200-1708371000@www.a2blue.org
SUMMARY:Bowl of Prayers: Online Vespers
DESCRIPTION:Twenty minute online prayer service–part of our Bowl of Prayers Lenten online prayer series. Join for as many or as few as you like. Contact office@a2blue.org for a Zoom link. Monday meetings are at 7pm ET.
URL:https://www.a2blue.org/event/bowl-of-prayers-online-vespers/2024-02-19/
LOCATION:Virtual Zoom Meeting
CATEGORIES:Zoom
END:VEVENT
BEGIN:VEVENT
DTSTART;TZID=America/New_York:20240218T200000
DTEND;TZID=America/New_York:20240218T203000
DTSTAMP:20260425T161728
CREATED:20230929T164931Z
LAST-MODIFIED:20230929T164931Z
UID:10001240-1708286400-1708288200@www.a2blue.org
SUMMARY:Sunday Evening Prayer Group
DESCRIPTION:Join via Zoom for a half hour of readings\, music\, and shared silence. Email nancyogilvie@gmail.com for the Zoom link.
URL:https://www.a2blue.org/event/sunday-evening-prayer-group/2024-02-18/
LOCATION:Virtual Zoom Meeting
CATEGORIES:Zoom
END:VEVENT
BEGIN:VEVENT
DTSTART;TZID=America/New_York:20240216T090000
DTEND;TZID=America/New_York:20240216T093000
DTSTAMP:20260425T161728
CREATED:20240220T174635Z
LAST-MODIFIED:20240220T174635Z
UID:10001668-1708074000-1708075800@www.a2blue.org
SUMMARY:Bowl of Prayers: Online Morning Prayer
DESCRIPTION:Twenty minute online prayer service–part of our Bowl of Prayers Lenten online prayer series. Join for as many or as few as you like. Contact office@a2blue.org for a Zoom link. Friday meetings are at 9AM ET.
URL:https://www.a2blue.org/event/bowl-of-prayers-online-morning-prayer/2024-02-16/
LOCATION:Virtual Zoom Meeting
CATEGORIES:Zoom
END:VEVENT
END:VCALENDAR