BEGIN:VCALENDAR
VERSION:2.0
PRODID:-//Blue Ocean Church Ann Arbor - ECPv6.15.20//NONSGML v1.0//EN
CALSCALE:GREGORIAN
METHOD:PUBLISH
X-ORIGINAL-URL:https://www.a2blue.org
X-WR-CALDESC:Events for Blue Ocean Church Ann Arbor
REFRESH-INTERVAL;VALUE=DURATION:PT1H
X-Robots-Tag:noindex
X-PUBLISHED-TTL:PT1H
BEGIN:VTIMEZONE
TZID:America/New_York
BEGIN:DAYLIGHT
TZOFFSETFROM:-0500
TZOFFSETTO:-0400
TZNAME:EDT
DTSTART:20220313T070000
END:DAYLIGHT
BEGIN:STANDARD
TZOFFSETFROM:-0400
TZOFFSETTO:-0500
TZNAME:EST
DTSTART:20221106T060000
END:STANDARD
BEGIN:DAYLIGHT
TZOFFSETFROM:-0500
TZOFFSETTO:-0400
TZNAME:EDT
DTSTART:20230312T070000
END:DAYLIGHT
BEGIN:STANDARD
TZOFFSETFROM:-0400
TZOFFSETTO:-0500
TZNAME:EST
DTSTART:20231105T060000
END:STANDARD
BEGIN:DAYLIGHT
TZOFFSETFROM:-0500
TZOFFSETTO:-0400
TZNAME:EDT
DTSTART:20240310T070000
END:DAYLIGHT
BEGIN:STANDARD
TZOFFSETFROM:-0400
TZOFFSETTO:-0500
TZNAME:EST
DTSTART:20241103T060000
END:STANDARD
BEGIN:DAYLIGHT
TZOFFSETFROM:-0500
TZOFFSETTO:-0400
TZNAME:EDT
DTSTART:20250309T070000
END:DAYLIGHT
BEGIN:STANDARD
TZOFFSETFROM:-0400
TZOFFSETTO:-0500
TZNAME:EST
DTSTART:20251102T060000
END:STANDARD
END:VTIMEZONE
BEGIN:VEVENT
DTSTART;TZID=America/New_York:20240223T090000
DTEND;TZID=America/New_York:20240223T093000
DTSTAMP:20260425T204846
CREATED:20240220T174635Z
LAST-MODIFIED:20240220T174635Z
UID:10001669-1708678800-1708680600@www.a2blue.org
SUMMARY:Bowl of Prayers: Online Morning Prayer
DESCRIPTION:Twenty minute online prayer service–part of our Bowl of Prayers Lenten online prayer series. Join for as many or as few as you like. Contact office@a2blue.org for a Zoom link. Friday meetings are at 9AM ET.
URL:https://www.a2blue.org/event/bowl-of-prayers-online-morning-prayer/2024-02-23/
LOCATION:Virtual Zoom Meeting
CATEGORIES:Zoom
END:VEVENT
BEGIN:VEVENT
DTSTART;TZID=America/New_York:20240222T200000
DTEND;TZID=America/New_York:20240222T210000
DTSTAMP:20260425T204846
CREATED:20240202T215011Z
LAST-MODIFIED:20240202T220146Z
UID:10001529-1708632000-1708635600@www.a2blue.org
SUMMARY:Translocal Connection (TLC) Game Night
DESCRIPTION:The Translocal Connection (TLC) group meets twice monthly on Zoom—after church on the 2nd Sunday of the month for deeper discussion\, and on the 4th Thursday of the month at 8pm ET for online games. All are welcome. Email the church office or Caroline Kittle for a Zoom link.
URL:https://www.a2blue.org/event/translocal-connection-tlc-game-night/2024-02-22/
LOCATION:Virtual Zoom Meeting
CATEGORIES:connection,Zoom
END:VEVENT
BEGIN:VEVENT
DTSTART;TZID=America/New_York:20240221T140000
DTEND;TZID=America/New_York:20240221T143000
DTSTAMP:20260425T204846
CREATED:20240220T175934Z
LAST-MODIFIED:20240220T175934Z
UID:10001681-1708524000-1708525800@www.a2blue.org
SUMMARY:Bowl of Prayers: Online Midday Prayer
DESCRIPTION:Twenty minute online prayer service–part of our Bowl of Prayers Lenten online prayer series. Join for as many or as few as you like. Contact office@a2blue.org for a Zoom link. Wednesday meetings are at 2pm ET.
URL:https://www.a2blue.org/event/bowl-of-prayers-online-midday-prayer/2024-02-21/
LOCATION:Virtual Zoom Meeting
CATEGORIES:Zoom
END:VEVENT
BEGIN:VEVENT
DTSTART;TZID=America/New_York:20240219T190000
DTEND;TZID=America/New_York:20240219T193000
DTSTAMP:20260425T204846
CREATED:20240220T175127Z
LAST-MODIFIED:20240220T175242Z
UID:10001675-1708369200-1708371000@www.a2blue.org
SUMMARY:Bowl of Prayers: Online Vespers
DESCRIPTION:Twenty minute online prayer service–part of our Bowl of Prayers Lenten online prayer series. Join for as many or as few as you like. Contact office@a2blue.org for a Zoom link. Monday meetings are at 7pm ET.
URL:https://www.a2blue.org/event/bowl-of-prayers-online-vespers/2024-02-19/
LOCATION:Virtual Zoom Meeting
CATEGORIES:Zoom
END:VEVENT
BEGIN:VEVENT
DTSTART;TZID=America/New_York:20240218T200000
DTEND;TZID=America/New_York:20240218T203000
DTSTAMP:20260425T204846
CREATED:20230929T164931Z
LAST-MODIFIED:20230929T164931Z
UID:10001240-1708286400-1708288200@www.a2blue.org
SUMMARY:Sunday Evening Prayer Group
DESCRIPTION:Join via Zoom for a half hour of readings\, music\, and shared silence. Email nancyogilvie@gmail.com for the Zoom link.
URL:https://www.a2blue.org/event/sunday-evening-prayer-group/2024-02-18/
LOCATION:Virtual Zoom Meeting
CATEGORIES:Zoom
END:VEVENT
BEGIN:VEVENT
DTSTART;TZID=America/New_York:20240216T090000
DTEND;TZID=America/New_York:20240216T093000
DTSTAMP:20260425T204846
CREATED:20240220T174635Z
LAST-MODIFIED:20240220T174635Z
UID:10001668-1708074000-1708075800@www.a2blue.org
SUMMARY:Bowl of Prayers: Online Morning Prayer
DESCRIPTION:Twenty minute online prayer service–part of our Bowl of Prayers Lenten online prayer series. Join for as many or as few as you like. Contact office@a2blue.org for a Zoom link. Friday meetings are at 9AM ET.
URL:https://www.a2blue.org/event/bowl-of-prayers-online-morning-prayer/2024-02-16/
LOCATION:Virtual Zoom Meeting
CATEGORIES:Zoom
END:VEVENT
BEGIN:VEVENT
DTSTART;TZID=America/New_York:20240214T120000
DTEND;TZID=America/New_York:20240214T123000
DTSTAMP:20260425T204846
CREATED:20240202T213909Z
LAST-MODIFIED:20240202T214333Z
UID:10001528-1707912000-1707913800@www.a2blue.org
SUMMARY:Ash Wednesday Online Service
DESCRIPTION:At noon EST we’ll host a 20 minute online Ash Wednesday service for anyone who would like to join. Stay tuned for more details.
URL:https://www.a2blue.org/event/ash-wednesday-online-service/
LOCATION:Virtual Zoom Meeting
CATEGORIES:services,Zoom
END:VEVENT
BEGIN:VEVENT
DTSTART;TZID=America/New_York:20240211T200000
DTEND;TZID=America/New_York:20240211T203000
DTSTAMP:20260425T204846
CREATED:20230929T164931Z
LAST-MODIFIED:20230929T164931Z
UID:10001239-1707681600-1707683400@www.a2blue.org
SUMMARY:Sunday Evening Prayer Group
DESCRIPTION:Join via Zoom for a half hour of readings\, music\, and shared silence. Email nancyogilvie@gmail.com for the Zoom link.
URL:https://www.a2blue.org/event/sunday-evening-prayer-group/2024-02-11/
LOCATION:Virtual Zoom Meeting
CATEGORIES:Zoom
END:VEVENT
BEGIN:VEVENT
DTSTART;TZID=America/New_York:20240204T200000
DTEND;TZID=America/New_York:20240204T203000
DTSTAMP:20260425T204846
CREATED:20230929T164931Z
LAST-MODIFIED:20230929T164931Z
UID:10001238-1707076800-1707078600@www.a2blue.org
SUMMARY:Sunday Evening Prayer Group
DESCRIPTION:Join via Zoom for a half hour of readings\, music\, and shared silence. Email nancyogilvie@gmail.com for the Zoom link.
URL:https://www.a2blue.org/event/sunday-evening-prayer-group/2024-02-04/
LOCATION:Virtual Zoom Meeting
CATEGORIES:Zoom
END:VEVENT
BEGIN:VEVENT
DTSTART;TZID=America/New_York:20240128T200000
DTEND;TZID=America/New_York:20240128T203000
DTSTAMP:20260425T204846
CREATED:20230929T164931Z
LAST-MODIFIED:20230929T164931Z
UID:10001237-1706472000-1706473800@www.a2blue.org
SUMMARY:Sunday Evening Prayer Group
DESCRIPTION:Join via Zoom for a half hour of readings\, music\, and shared silence. Email nancyogilvie@gmail.com for the Zoom link.
URL:https://www.a2blue.org/event/sunday-evening-prayer-group/2024-01-28/
LOCATION:Virtual Zoom Meeting
CATEGORIES:Zoom
END:VEVENT
BEGIN:VEVENT
DTSTART;TZID=America/New_York:20240121T200000
DTEND;TZID=America/New_York:20240121T203000
DTSTAMP:20260425T204846
CREATED:20230929T164931Z
LAST-MODIFIED:20230929T164931Z
UID:10001236-1705867200-1705869000@www.a2blue.org
SUMMARY:Sunday Evening Prayer Group
DESCRIPTION:Join via Zoom for a half hour of readings\, music\, and shared silence. Email nancyogilvie@gmail.com for the Zoom link.
URL:https://www.a2blue.org/event/sunday-evening-prayer-group/2024-01-21/
LOCATION:Virtual Zoom Meeting
CATEGORIES:Zoom
END:VEVENT
BEGIN:VEVENT
DTSTART;TZID=America/New_York:20240114T200000
DTEND;TZID=America/New_York:20240114T203000
DTSTAMP:20260425T204846
CREATED:20230929T164931Z
LAST-MODIFIED:20230929T164931Z
UID:10001235-1705262400-1705264200@www.a2blue.org
SUMMARY:Sunday Evening Prayer Group
DESCRIPTION:Join via Zoom for a half hour of readings\, music\, and shared silence. Email nancyogilvie@gmail.com for the Zoom link.
URL:https://www.a2blue.org/event/sunday-evening-prayer-group/2024-01-14/
LOCATION:Virtual Zoom Meeting
CATEGORIES:Zoom
END:VEVENT
BEGIN:VEVENT
DTSTART;TZID=America/New_York:20240107T200000
DTEND;TZID=America/New_York:20240107T203000
DTSTAMP:20260425T204846
CREATED:20230929T164931Z
LAST-MODIFIED:20230929T164931Z
UID:10001234-1704657600-1704659400@www.a2blue.org
SUMMARY:Sunday Evening Prayer Group
DESCRIPTION:Join via Zoom for a half hour of readings\, music\, and shared silence. Email nancyogilvie@gmail.com for the Zoom link.
URL:https://www.a2blue.org/event/sunday-evening-prayer-group/2024-01-07/
LOCATION:Virtual Zoom Meeting
CATEGORIES:Zoom
END:VEVENT
BEGIN:VEVENT
DTSTART;TZID=America/New_York:20231231T200000
DTEND;TZID=America/New_York:20231231T203000
DTSTAMP:20260425T204846
CREATED:20230929T164931Z
LAST-MODIFIED:20230929T164931Z
UID:10001233-1704052800-1704054600@www.a2blue.org
SUMMARY:Sunday Evening Prayer Group
DESCRIPTION:Join via Zoom for a half hour of readings\, music\, and shared silence. Email nancyogilvie@gmail.com for the Zoom link.
URL:https://www.a2blue.org/event/sunday-evening-prayer-group/2023-12-31/
LOCATION:Virtual Zoom Meeting
CATEGORIES:Zoom
END:VEVENT
BEGIN:VEVENT
DTSTART;TZID=America/New_York:20231224T200000
DTEND;TZID=America/New_York:20231224T203000
DTSTAMP:20260425T204846
CREATED:20230929T164931Z
LAST-MODIFIED:20230929T164931Z
UID:10001232-1703448000-1703449800@www.a2blue.org
SUMMARY:Sunday Evening Prayer Group
DESCRIPTION:Join via Zoom for a half hour of readings\, music\, and shared silence. Email nancyogilvie@gmail.com for the Zoom link.
URL:https://www.a2blue.org/event/sunday-evening-prayer-group/2023-12-24/
LOCATION:Virtual Zoom Meeting
CATEGORIES:Zoom
END:VEVENT
BEGIN:VEVENT
DTSTART;TZID=America/New_York:20231217T200000
DTEND;TZID=America/New_York:20231217T203000
DTSTAMP:20260425T204846
CREATED:20230929T164931Z
LAST-MODIFIED:20230929T164931Z
UID:10001231-1702843200-1702845000@www.a2blue.org
SUMMARY:Sunday Evening Prayer Group
DESCRIPTION:Join via Zoom for a half hour of readings\, music\, and shared silence. Email nancyogilvie@gmail.com for the Zoom link.
URL:https://www.a2blue.org/event/sunday-evening-prayer-group/2023-12-17/
LOCATION:Virtual Zoom Meeting
CATEGORIES:Zoom
END:VEVENT
BEGIN:VEVENT
DTSTART;TZID=America/New_York:20231210T200000
DTEND;TZID=America/New_York:20231210T203000
DTSTAMP:20260425T204846
CREATED:20230929T164931Z
LAST-MODIFIED:20230929T164931Z
UID:10001230-1702238400-1702240200@www.a2blue.org
SUMMARY:Sunday Evening Prayer Group
DESCRIPTION:Join via Zoom for a half hour of readings\, music\, and shared silence. Email nancyogilvie@gmail.com for the Zoom link.
URL:https://www.a2blue.org/event/sunday-evening-prayer-group/2023-12-10/
LOCATION:Virtual Zoom Meeting
CATEGORIES:Zoom
END:VEVENT
BEGIN:VEVENT
DTSTART;TZID=America/New_York:20231203T200000
DTEND;TZID=America/New_York:20231203T203000
DTSTAMP:20260425T204846
CREATED:20230929T164931Z
LAST-MODIFIED:20230929T164931Z
UID:10001229-1701633600-1701635400@www.a2blue.org
SUMMARY:Sunday Evening Prayer Group
DESCRIPTION:Join via Zoom for a half hour of readings\, music\, and shared silence. Email nancyogilvie@gmail.com for the Zoom link.
URL:https://www.a2blue.org/event/sunday-evening-prayer-group/2023-12-03/
LOCATION:Virtual Zoom Meeting
CATEGORIES:Zoom
END:VEVENT
BEGIN:VEVENT
DTSTART;TZID=America/New_York:20231126T200000
DTEND;TZID=America/New_York:20231126T203000
DTSTAMP:20260425T204846
CREATED:20230929T164931Z
LAST-MODIFIED:20230929T164931Z
UID:10001228-1701028800-1701030600@www.a2blue.org
SUMMARY:Sunday Evening Prayer Group
DESCRIPTION:Join via Zoom for a half hour of readings\, music\, and shared silence. Email nancyogilvie@gmail.com for the Zoom link.
URL:https://www.a2blue.org/event/sunday-evening-prayer-group/2023-11-26/
LOCATION:Virtual Zoom Meeting
CATEGORIES:Zoom
END:VEVENT
BEGIN:VEVENT
DTSTART;TZID=America/New_York:20231119T200000
DTEND;TZID=America/New_York:20231119T203000
DTSTAMP:20260425T204846
CREATED:20230929T164931Z
LAST-MODIFIED:20230929T164931Z
UID:10001227-1700424000-1700425800@www.a2blue.org
SUMMARY:Sunday Evening Prayer Group
DESCRIPTION:Join via Zoom for a half hour of readings\, music\, and shared silence. Email nancyogilvie@gmail.com for the Zoom link.
URL:https://www.a2blue.org/event/sunday-evening-prayer-group/2023-11-19/
LOCATION:Virtual Zoom Meeting
CATEGORIES:Zoom
END:VEVENT
BEGIN:VEVENT
DTSTART;TZID=America/New_York:20231112T200000
DTEND;TZID=America/New_York:20231112T203000
DTSTAMP:20260425T204846
CREATED:20230929T164931Z
LAST-MODIFIED:20230929T164931Z
UID:10001226-1699819200-1699821000@www.a2blue.org
SUMMARY:Sunday Evening Prayer Group
DESCRIPTION:Join via Zoom for a half hour of readings\, music\, and shared silence. Email nancyogilvie@gmail.com for the Zoom link.
URL:https://www.a2blue.org/event/sunday-evening-prayer-group/2023-11-12/
LOCATION:Virtual Zoom Meeting
CATEGORIES:Zoom
END:VEVENT
BEGIN:VEVENT
DTSTART;TZID=America/New_York:20231105T200000
DTEND;TZID=America/New_York:20231105T203000
DTSTAMP:20260425T204846
CREATED:20230929T164931Z
LAST-MODIFIED:20230929T164931Z
UID:10001225-1699214400-1699216200@www.a2blue.org
SUMMARY:Sunday Evening Prayer Group
DESCRIPTION:Join via Zoom for a half hour of readings\, music\, and shared silence. Email nancyogilvie@gmail.com for the Zoom link.
URL:https://www.a2blue.org/event/sunday-evening-prayer-group/2023-11-05/
LOCATION:Virtual Zoom Meeting
CATEGORIES:Zoom
END:VEVENT
BEGIN:VEVENT
DTSTART;TZID=America/New_York:20231029T200000
DTEND;TZID=America/New_York:20231029T203000
DTSTAMP:20260425T204846
CREATED:20230929T164931Z
LAST-MODIFIED:20230929T164931Z
UID:10001224-1698609600-1698611400@www.a2blue.org
SUMMARY:Sunday Evening Prayer Group
DESCRIPTION:Join via Zoom for a half hour of readings\, music\, and shared silence. Email nancyogilvie@gmail.com for the Zoom link.
URL:https://www.a2blue.org/event/sunday-evening-prayer-group/2023-10-29/
LOCATION:Virtual Zoom Meeting
CATEGORIES:Zoom
END:VEVENT
BEGIN:VEVENT
DTSTART;TZID=America/New_York:20231022T200000
DTEND;TZID=America/New_York:20231022T203000
DTSTAMP:20260425T204846
CREATED:20230929T164931Z
LAST-MODIFIED:20230929T164931Z
UID:10001223-1698004800-1698006600@www.a2blue.org
SUMMARY:Sunday Evening Prayer Group
DESCRIPTION:Join via Zoom for a half hour of readings\, music\, and shared silence. Email nancyogilvie@gmail.com for the Zoom link.
URL:https://www.a2blue.org/event/sunday-evening-prayer-group/2023-10-22/
LOCATION:Virtual Zoom Meeting
CATEGORIES:Zoom
END:VEVENT
BEGIN:VEVENT
DTSTART;TZID=America/New_York:20231015T200000
DTEND;TZID=America/New_York:20231015T203000
DTSTAMP:20260425T204846
CREATED:20230929T164931Z
LAST-MODIFIED:20230929T164931Z
UID:10001222-1697400000-1697401800@www.a2blue.org
SUMMARY:Sunday Evening Prayer Group
DESCRIPTION:Join via Zoom for a half hour of readings\, music\, and shared silence. Email nancyogilvie@gmail.com for the Zoom link.
URL:https://www.a2blue.org/event/sunday-evening-prayer-group/2023-10-15/
LOCATION:Virtual Zoom Meeting
CATEGORIES:Zoom
END:VEVENT
BEGIN:VEVENT
DTSTART;TZID=America/New_York:20231008T200000
DTEND;TZID=America/New_York:20231008T203000
DTSTAMP:20260425T204846
CREATED:20230929T164931Z
LAST-MODIFIED:20230929T164931Z
UID:10001221-1696795200-1696797000@www.a2blue.org
SUMMARY:Sunday Evening Prayer Group
DESCRIPTION:Join via Zoom for a half hour of readings\, music\, and shared silence. Email nancyogilvie@gmail.com for the Zoom link.
URL:https://www.a2blue.org/event/sunday-evening-prayer-group/2023-10-08/
LOCATION:Virtual Zoom Meeting
CATEGORIES:Zoom
END:VEVENT
BEGIN:VEVENT
DTSTART;TZID=America/New_York:20231001T200000
DTEND;TZID=America/New_York:20231001T203000
DTSTAMP:20260425T204846
CREATED:20230929T164931Z
LAST-MODIFIED:20230929T164931Z
UID:10001220-1696190400-1696192200@www.a2blue.org
SUMMARY:Sunday Evening Prayer Group
DESCRIPTION:Join via Zoom for a half hour of readings\, music\, and shared silence. Email nancyogilvie@gmail.com for the Zoom link.
URL:https://www.a2blue.org/event/sunday-evening-prayer-group/2023-10-01/
LOCATION:Virtual Zoom Meeting
CATEGORIES:Zoom
END:VEVENT
END:VCALENDAR