BEGIN:VCALENDAR
VERSION:2.0
PRODID:-//Blue Ocean Church Ann Arbor - ECPv6.15.20//NONSGML v1.0//EN
CALSCALE:GREGORIAN
METHOD:PUBLISH
X-ORIGINAL-URL:https://www.a2blue.org
X-WR-CALDESC:Events for Blue Ocean Church Ann Arbor
REFRESH-INTERVAL;VALUE=DURATION:PT1H
X-Robots-Tag:noindex
X-PUBLISHED-TTL:PT1H
BEGIN:VTIMEZONE
TZID:America/New_York
BEGIN:DAYLIGHT
TZOFFSETFROM:-0500
TZOFFSETTO:-0400
TZNAME:EDT
DTSTART:20220313T070000
END:DAYLIGHT
BEGIN:STANDARD
TZOFFSETFROM:-0400
TZOFFSETTO:-0500
TZNAME:EST
DTSTART:20221106T060000
END:STANDARD
BEGIN:DAYLIGHT
TZOFFSETFROM:-0500
TZOFFSETTO:-0400
TZNAME:EDT
DTSTART:20230312T070000
END:DAYLIGHT
BEGIN:STANDARD
TZOFFSETFROM:-0400
TZOFFSETTO:-0500
TZNAME:EST
DTSTART:20231105T060000
END:STANDARD
BEGIN:DAYLIGHT
TZOFFSETFROM:-0500
TZOFFSETTO:-0400
TZNAME:EDT
DTSTART:20240310T070000
END:DAYLIGHT
BEGIN:STANDARD
TZOFFSETFROM:-0400
TZOFFSETTO:-0500
TZNAME:EST
DTSTART:20241103T060000
END:STANDARD
BEGIN:DAYLIGHT
TZOFFSETFROM:-0500
TZOFFSETTO:-0400
TZNAME:EDT
DTSTART:20250309T070000
END:DAYLIGHT
BEGIN:STANDARD
TZOFFSETFROM:-0400
TZOFFSETTO:-0500
TZNAME:EST
DTSTART:20251102T060000
END:STANDARD
END:VTIMEZONE
BEGIN:VEVENT
DTSTART;TZID=America/New_York:20240627T200000
DTEND;TZID=America/New_York:20240627T210000
DTSTAMP:20260425T114119
CREATED:20240402T165609Z
LAST-MODIFIED:20240402T165629Z
UID:10001754-1719518400-1719522000@www.a2blue.org
SUMMARY:Translocal Connection (TLC) Game Night
DESCRIPTION:The Translocal Connection (TLC) group meets twice monthly on Zoom—after church on the 2nd Sunday of the month for deeper discussion\, and on the 4th Thursday of the month at 8pm ET for online games. All are welcome. Email the church office or Caroline Kittle for a Zoom link.
URL:https://www.a2blue.org/event/translocal-connection-tlc-game-night-4/
LOCATION:Zoom
CATEGORIES:connection
END:VEVENT
BEGIN:VEVENT
DTSTART;TZID=America/New_York:20240616T120000
DTEND;TZID=America/New_York:20240616T130000
DTSTAMP:20260425T114119
CREATED:20240402T163448Z
LAST-MODIFIED:20240402T163452Z
UID:10001611-1718539200-1718542800@www.a2blue.org
SUMMARY:TLC Group (Translocal Connection) via Zoom
DESCRIPTION:The TLC small group will meet immediately after church via Zoom from noon-1pm for connection and guided discussion. All are welcome. Email the office or Pastor Caroline to get the Zoom link.
URL:https://www.a2blue.org/event/tlc-group-translocal-connection-via-zoom-5-2-2-2/2024-06-16/
LOCATION:Zoom
END:VEVENT
BEGIN:VEVENT
DTSTART;TZID=America/New_York:20240613T190000
DTEND;TZID=America/New_York:20240613T203000
DTSTAMP:20260425T114119
CREATED:20230825T140346Z
LAST-MODIFIED:20230825T140346Z
UID:10001184-1718305200-1718310600@www.a2blue.org
SUMMARY:Celtic Spiritual Practices monthly Zoom check-in
DESCRIPTION:Those who are registered for the Celtic practices group and who attended the retreat in Sept. 2023 will meet up on the second Thursday of each month from 7:30-8pm for a check-in with Susan King.
URL:https://www.a2blue.org/event/celtic-spiritual-practices-monthly-zoom-check-in/2024-06-13/
LOCATION:Zoom
END:VEVENT
BEGIN:VEVENT
DTSTART;TZID=America/New_York:20240530T200000
DTEND;TZID=America/New_York:20240530T210000
DTSTAMP:20260425T114119
CREATED:20240402T165311Z
LAST-MODIFIED:20240402T165349Z
UID:10001753-1717099200-1717102800@www.a2blue.org
SUMMARY:Translocal Connection (TLC) Game Night
DESCRIPTION:The Translocal Connection (TLC) group meets twice monthly on Zoom—after church on the 2nd Sunday of the month for deeper discussion\, and on the 4th Thursday of the month at 8pm ET for online games. All are welcome. Email the church office or Caroline Kittle for a Zoom link.
URL:https://www.a2blue.org/event/translocal-connection-tlc-game-night-3/
LOCATION:Zoom
CATEGORIES:connection
END:VEVENT
BEGIN:VEVENT
DTSTART;TZID=America/New_York:20240526T120000
DTEND;TZID=America/New_York:20240526T130000
DTSTAMP:20260425T114119
CREATED:20240402T164641Z
LAST-MODIFIED:20240402T164641Z
UID:10001752-1716724800-1716728400@www.a2blue.org
SUMMARY:TLC (Translocal Connection) via Zoom
DESCRIPTION:The TLC small group will meet immediately after church via Zoom from noon-1pm for connection and guided discussion. All are welcome. Email the office or Pastor Caroline to get the Zoom link
URL:https://www.a2blue.org/event/tlc-translocal-connection-via-zoom/
LOCATION:Zoom
CATEGORIES:connection
END:VEVENT
BEGIN:VEVENT
DTSTART;TZID=America/New_York:20240509T190000
DTEND;TZID=America/New_York:20240509T203000
DTSTAMP:20260425T114119
CREATED:20230825T140346Z
LAST-MODIFIED:20230825T140346Z
UID:10001183-1715281200-1715286600@www.a2blue.org
SUMMARY:Celtic Spiritual Practices monthly Zoom check-in
DESCRIPTION:Those who are registered for the Celtic practices group and who attended the retreat in Sept. 2023 will meet up on the second Thursday of each month from 7:30-8pm for a check-in with Susan King.
URL:https://www.a2blue.org/event/celtic-spiritual-practices-monthly-zoom-check-in/2024-05-09/
LOCATION:Zoom
END:VEVENT
BEGIN:VEVENT
DTSTART;TZID=America/New_York:20240421T120000
DTEND;TZID=America/New_York:20240421T130000
DTSTAMP:20260425T114119
CREATED:20240216T202938Z
LAST-MODIFIED:20240402T163613Z
UID:10001751-1713700800-1713704400@www.a2blue.org
SUMMARY:TLC Group (Translocal Connection) via Zoom
DESCRIPTION:The TLC small group will meet immediately after church via Zoom from noon-1pm for connection and guided discussion. All are welcome. Email the office or Pastor Caroline to get the Zoom link.
URL:https://www.a2blue.org/event/tlc-group-translocal-connection-via-zoom-5-2-2/2024-04-21/
LOCATION:Zoom
END:VEVENT
BEGIN:VEVENT
DTSTART;TZID=America/New_York:20240411T190000
DTEND;TZID=America/New_York:20240411T203000
DTSTAMP:20260425T114119
CREATED:20230825T140346Z
LAST-MODIFIED:20230825T140346Z
UID:10001182-1712862000-1712867400@www.a2blue.org
SUMMARY:Celtic Spiritual Practices monthly Zoom check-in
DESCRIPTION:Those who are registered for the Celtic practices group and who attended the retreat in Sept. 2023 will meet up on the second Thursday of each month from 7:30-8pm for a check-in with Susan King.
URL:https://www.a2blue.org/event/celtic-spiritual-practices-monthly-zoom-check-in/2024-04-11/
LOCATION:Zoom
END:VEVENT
BEGIN:VEVENT
DTSTART;TZID=America/New_York:20240317T120000
DTEND;TZID=America/New_York:20240317T130000
DTSTAMP:20260425T114119
CREATED:20240216T202018Z
LAST-MODIFIED:20240216T202755Z
UID:10001551-1710676800-1710680400@www.a2blue.org
SUMMARY:TLC Group (Translocal Connection) via Zoom
DESCRIPTION:The TLC small group will meet immediately after church via Zoom from noon-1pm for connection and guided discussion. All are welcome. Email the office or Pastor Caroline to get the Zoom link.
URL:https://www.a2blue.org/event/tlc-group-translocal-connection-via-zoom-5-2/
LOCATION:Zoom
END:VEVENT
BEGIN:VEVENT
DTSTART;TZID=America/New_York:20240314T190000
DTEND;TZID=America/New_York:20240314T203000
DTSTAMP:20260425T114119
CREATED:20230825T140346Z
LAST-MODIFIED:20230825T140346Z
UID:10001181-1710442800-1710448200@www.a2blue.org
SUMMARY:Celtic Spiritual Practices monthly Zoom check-in
DESCRIPTION:Those who are registered for the Celtic practices group and who attended the retreat in Sept. 2023 will meet up on the second Thursday of each month from 7:30-8pm for a check-in with Susan King.
URL:https://www.a2blue.org/event/celtic-spiritual-practices-monthly-zoom-check-in/2024-03-14/
LOCATION:Zoom
END:VEVENT
BEGIN:VEVENT
DTSTART;TZID=America/New_York:20240211T120000
DTEND;TZID=America/New_York:20240211T130000
DTSTAMP:20260425T114119
CREATED:20230717T134206Z
LAST-MODIFIED:20230829T163745Z
UID:10001104-1707652800-1707656400@www.a2blue.org
SUMMARY:TLC Group (Translocal Connection) via Zoom
DESCRIPTION:The TLC small group will meet immediately after church via Zoom from noon-1pm for connection and guided discussion. All are welcome. Email the office or Pastor Caroline to get the Zoom link.
URL:https://www.a2blue.org/event/tlc-group-translocal-connection-via-zoom-5/2024-02-11/
LOCATION:Zoom
END:VEVENT
BEGIN:VEVENT
DTSTART;TZID=America/New_York:20240208T190000
DTEND;TZID=America/New_York:20240208T203000
DTSTAMP:20260425T114119
CREATED:20230825T140346Z
LAST-MODIFIED:20230825T140346Z
UID:10001180-1707418800-1707424200@www.a2blue.org
SUMMARY:Celtic Spiritual Practices monthly Zoom check-in
DESCRIPTION:Those who are registered for the Celtic practices group and who attended the retreat in Sept. 2023 will meet up on the second Thursday of each month from 7:30-8pm for a check-in with Susan King.
URL:https://www.a2blue.org/event/celtic-spiritual-practices-monthly-zoom-check-in/2024-02-08/
LOCATION:Zoom
END:VEVENT
BEGIN:VEVENT
DTSTART;TZID=America/New_York:20240114T120000
DTEND;TZID=America/New_York:20240114T130000
DTSTAMP:20260425T114119
CREATED:20230717T134206Z
LAST-MODIFIED:20230829T163745Z
UID:10001103-1705233600-1705237200@www.a2blue.org
SUMMARY:TLC Group (Translocal Connection) via Zoom
DESCRIPTION:The TLC small group will meet immediately after church via Zoom from noon-1pm for connection and guided discussion. All are welcome. Email the office or Pastor Caroline to get the Zoom link.
URL:https://www.a2blue.org/event/tlc-group-translocal-connection-via-zoom-5/2024-01-14/
LOCATION:Zoom
END:VEVENT
BEGIN:VEVENT
DTSTART;TZID=America/New_York:20240111T190000
DTEND;TZID=America/New_York:20240111T203000
DTSTAMP:20260425T114119
CREATED:20230825T140346Z
LAST-MODIFIED:20230825T140346Z
UID:10001179-1704999600-1705005000@www.a2blue.org
SUMMARY:Celtic Spiritual Practices monthly Zoom check-in
DESCRIPTION:Those who are registered for the Celtic practices group and who attended the retreat in Sept. 2023 will meet up on the second Thursday of each month from 7:30-8pm for a check-in with Susan King.
URL:https://www.a2blue.org/event/celtic-spiritual-practices-monthly-zoom-check-in/2024-01-11/
LOCATION:Zoom
END:VEVENT
BEGIN:VEVENT
DTSTART;TZID=America/New_York:20231214T190000
DTEND;TZID=America/New_York:20231214T203000
DTSTAMP:20260425T114119
CREATED:20230825T140346Z
LAST-MODIFIED:20230825T140346Z
UID:10001178-1702580400-1702585800@www.a2blue.org
SUMMARY:Celtic Spiritual Practices monthly Zoom check-in
DESCRIPTION:Those who are registered for the Celtic practices group and who attended the retreat in Sept. 2023 will meet up on the second Thursday of each month from 7:30-8pm for a check-in with Susan King.
URL:https://www.a2blue.org/event/celtic-spiritual-practices-monthly-zoom-check-in/2023-12-14/
LOCATION:Zoom
END:VEVENT
BEGIN:VEVENT
DTSTART;TZID=America/New_York:20231210T120000
DTEND;TZID=America/New_York:20231210T130000
DTSTAMP:20260425T114119
CREATED:20230717T134206Z
LAST-MODIFIED:20230829T163745Z
UID:10001102-1702209600-1702213200@www.a2blue.org
SUMMARY:TLC Group (Translocal Connection) via Zoom
DESCRIPTION:The TLC small group will meet immediately after church via Zoom from noon-1pm for connection and guided discussion. All are welcome. Email the office or Pastor Caroline to get the Zoom link.
URL:https://www.a2blue.org/event/tlc-group-translocal-connection-via-zoom-5/2023-12-10/
LOCATION:Zoom
END:VEVENT
BEGIN:VEVENT
DTSTART;TZID=America/New_York:20231130T200000
DTEND;TZID=America/New_York:20231130T210000
DTSTAMP:20260425T114119
CREATED:20231024T181429Z
LAST-MODIFIED:20231024T181509Z
UID:10000860-1701374400-1701378000@www.a2blue.org
SUMMARY:TLC Group Game Night (Translocal Connection) via Zoom
DESCRIPTION:The Translocal Connection (TLC) group meets twice monthly on Zoom—after church on the 2nd Sunday of the month for deeper discussion\, and on the 4th Thursday of the month at 8pm ET for online games. All are welcome. Email the church office or Caroline Kittle for a Zoom link.
URL:https://www.a2blue.org/event/tlc-group-game-night-translocal-connection-via-zoom-2-2/
LOCATION:Zoom
CATEGORIES:connection,small group,Zoom
END:VEVENT
BEGIN:VEVENT
DTSTART;TZID=America/New_York:20231109T190000
DTEND;TZID=America/New_York:20231109T203000
DTSTAMP:20260425T114119
CREATED:20230825T140346Z
LAST-MODIFIED:20230825T140346Z
UID:10001177-1699556400-1699561800@www.a2blue.org
SUMMARY:Celtic Spiritual Practices monthly Zoom check-in
DESCRIPTION:Those who are registered for the Celtic practices group and who attended the retreat in Sept. 2023 will meet up on the second Thursday of each month from 7:30-8pm for a check-in with Susan King.
URL:https://www.a2blue.org/event/celtic-spiritual-practices-monthly-zoom-check-in/2023-11-09/
LOCATION:Zoom
END:VEVENT
BEGIN:VEVENT
DTSTART;TZID=America/New_York:20231012T190000
DTEND;TZID=America/New_York:20231012T203000
DTSTAMP:20260425T114119
CREATED:20230825T140346Z
LAST-MODIFIED:20230825T140346Z
UID:10001176-1697137200-1697142600@www.a2blue.org
SUMMARY:Celtic Spiritual Practices monthly Zoom check-in
DESCRIPTION:Those who are registered for the Celtic practices group and who attended the retreat in Sept. 2023 will meet up on the second Thursday of each month from 7:30-8pm for a check-in with Susan King.
URL:https://www.a2blue.org/event/celtic-spiritual-practices-monthly-zoom-check-in/2023-10-12/
LOCATION:Zoom
END:VEVENT
BEGIN:VEVENT
DTSTART;TZID=America/New_York:20231001T120000
DTEND;TZID=America/New_York:20231001T130000
DTSTAMP:20260425T114119
CREATED:20230717T134018Z
LAST-MODIFIED:20230927T205411Z
UID:10001100-1696161600-1696165200@www.a2blue.org
SUMMARY:TLC Group (Translocal Connection) via Zoom
DESCRIPTION:The TLC small group will meet immediately after church via Zoom from noon-1pm for connection and guided discussion. All are welcome. Email the office or Pastor Caroline to get the Zoom link.
URL:https://www.a2blue.org/event/tlc-group-translocal-connection-via-zoom-4/
LOCATION:Zoom
END:VEVENT
BEGIN:VEVENT
DTSTART;TZID=America/New_York:20230928T200000
DTEND;TZID=America/New_York:20230928T210000
DTSTAMP:20260425T114119
CREATED:20240123T225405Z
LAST-MODIFIED:20240123T225405Z
UID:10001521-1695931200-1695934800@www.a2blue.org
SUMMARY:TLC Group Game Night (Translocal Connection) via Zoom
DESCRIPTION:The Translocal Connection (TLC) group meets twice monthly on Zoom—after church on the 2nd Sunday of the month for deeper discussion\, and on the 4th Thursday of the month at 8pm ET for online games. All are welcome. Email the church office or Caroline Kittle for a Zoom link.
URL:https://www.a2blue.org/event/tlc-group-game-night-translocal-connection-via-zoom-4/
LOCATION:Zoom
CATEGORIES:connection,small group,Zoom
END:VEVENT
BEGIN:VEVENT
DTSTART;TZID=America/New_York:20230910T120000
DTEND;TZID=America/New_York:20230910T130000
DTSTAMP:20260425T114119
CREATED:20230717T133910Z
LAST-MODIFIED:20230717T133910Z
UID:10001099-1694347200-1694350800@www.a2blue.org
SUMMARY:TLC Group (Translocal Connection) via Zoom
DESCRIPTION:The TLC small group will meet immediately after church via Zoom from noon-1pm for connection and guided discussion. All are welcome. Email the office or Pastor Caroline to get the Zoom link.
URL:https://www.a2blue.org/event/tlc-group-translocal-connection-via-zoom-3/
LOCATION:Zoom
END:VEVENT
BEGIN:VEVENT
DTSTART;TZID=America/New_York:20230824T200000
DTEND;TZID=America/New_York:20230824T210000
DTSTAMP:20260425T114119
CREATED:20230713T145344Z
LAST-MODIFIED:20230923T155929Z
UID:10000857-1692907200-1692910800@www.a2blue.org
SUMMARY:TLC Group Game Night (Translocal Connection) via Zoom
DESCRIPTION:The Translocal Connection (TLC) group meets twice monthly on Zoom—after church on the 2nd Sunday of the month for deeper discussion\, and on the 4th Thursday of the month at 8pm ET for online games. All are welcome. Email the church office or Caroline Kittle for a Zoom link.
URL:https://www.a2blue.org/event/tlc-group-game-night-translocal-connection-via-zoom/
LOCATION:Zoom
CATEGORIES:connection,small group,Zoom
END:VEVENT
BEGIN:VEVENT
DTSTART;TZID=America/New_York:20230820T120000
DTEND;TZID=America/New_York:20230820T130000
DTSTAMP:20260425T114119
CREATED:20230717T133730Z
LAST-MODIFIED:20230717T133730Z
UID:10001098-1692532800-1692536400@www.a2blue.org
SUMMARY:TLC Group (Translocal Connection) via Zoom
DESCRIPTION:The TLC small group will meet immediately after church via Zoom from noon-1pm for connection and guided discussion. All are welcome. Email the office or Pastor Caroline to get the Zoom link.
URL:https://www.a2blue.org/event/tlc-group-translocal-connection-via-zoom-2/
LOCATION:Zoom
END:VEVENT
BEGIN:VEVENT
DTSTART;TZID=America/New_York:20230709T120000
DTEND;TZID=America/New_York:20230709T130000
DTSTAMP:20260425T114119
CREATED:20230713T144915Z
LAST-MODIFIED:20230713T145048Z
UID:10000794-1688904000-1688907600@www.a2blue.org
SUMMARY:TLC Group (Translocal Connection) via Zoom
DESCRIPTION:The TLC small group will meet immediately after church via Zoom from noon-1pm for connection and guided discussion. All are welcome. Email the office or Pastor Caroline to get the Zoom link.
URL:https://www.a2blue.org/event/tlc-group-translocal-connection-via-zoom/
LOCATION:Zoom
CATEGORIES:connection,small group
END:VEVENT
END:VCALENDAR